BEGIN:VCALENDAR
VERSION:2.0
PRODID:-//WINGS Guatemala - ECPv6.15.20//NONSGML v1.0//EN
CALSCALE:GREGORIAN
METHOD:PUBLISH
X-ORIGINAL-URL:https://www.wingsguate.org
X-WR-CALDESC:Events for WINGS Guatemala
REFRESH-INTERVAL;VALUE=DURATION:PT1H
X-Robots-Tag:noindex
X-PUBLISHED-TTL:PT1H
BEGIN:VTIMEZONE
TZID:UTC
BEGIN:STANDARD
TZOFFSETFROM:+0000
TZOFFSETTO:+0000
TZNAME:UTC
DTSTART:20230101T000000
END:STANDARD
END:VTIMEZONE
BEGIN:VEVENT
DTSTART;TZID=UTC:20241113T080000
DTEND;TZID=UTC:20241119T143000
DTSTAMP:20260423T114812
CREATED:20241108T040044Z
LAST-MODIFIED:20241108T040044Z
UID:17811-1731484800-1732026600@www.wingsguate.org
SUMMARY:Anticonceptivos – San Andrés Itzapa (Chimaltenango)
DESCRIPTION:Servicios anticonceptivos en el Sanatorio Bethesda\, San Andres Itzapa (Chimaltenango).  \nAnticonceptivos: Colocación de DIU (T de cobre) y Jadelle (implante hormonal).  \nTambién se ofrecerán pruebas de detección de cáncer cervical.  \nServicios gratuitos.  \nPara más información y reserva de cupo llamar al 4511-5525. 
URL:https://www.wingsguate.org/event/anticonceptivos-san-andres-itzapa-chimaltenango-11/
CATEGORIES:English,Spanish
END:VEVENT
BEGIN:VEVENT
DTSTART;TZID=UTC:20241114T080000
DTEND;TZID=UTC:20241114T143000
DTSTAMP:20260423T114812
CREATED:20241024T095531Z
LAST-MODIFIED:20241024T095531Z
UID:17711-1731571200-1731594600@www.wingsguate.org
SUMMARY:Anticonceptivos – Senahú (Alta Verapaz)
DESCRIPTION:Servicios anticonceptivos en Asociación Narú\, Senahú (Alta Verapaz). \nAnticonceptivos: Colocación de DIU (T de cobre) y Jadelle (implante hormonal).  \nTambién se ofrecerán pruebas de detección de cáncer cervical.  \nServicios gratuitos.  \nPara más información y reserva de cupo llamar al 3227-1513. 
URL:https://www.wingsguate.org/event/anticonceptivos-senahu-alta-verapaz-30/
CATEGORIES:English,Spanish
END:VEVENT
BEGIN:VEVENT
DTSTART;TZID=UTC:20241114T080000
DTEND;TZID=UTC:20241114T143000
DTSTAMP:20260423T114812
CREATED:20241024T101520Z
LAST-MODIFIED:20241024T101520Z
UID:17727-1731571200-1731594600@www.wingsguate.org
SUMMARY:Anticonceptivos – Rabinal (Baja Verapaz)
DESCRIPTION:Servicios anticonceptivos en el Salón Municipal de Rabinal (Baja Verapaz). \nAnticonceptivos: Colocación de DIU (T de cobre) y Jadelle (implante hormonal).  \nTambién se ofrecerán pruebas de detección de cáncer cervical.  \nServicios gratuitos.  \nPara más información y reserva de cupo llamar al 3002-5055. 
URL:https://www.wingsguate.org/event/anticonceptivos-rabinal-baja-verapaz-6/
CATEGORIES:English,Spanish
END:VEVENT
BEGIN:VEVENT
DTSTART;TZID=UTC:20241114T080000
DTEND;TZID=UTC:20241114T143000
DTSTAMP:20260423T114812
CREATED:20241024T101813Z
LAST-MODIFIED:20241024T101813Z
UID:17729-1731571200-1731594600@www.wingsguate.org
SUMMARY:Anticonceptivos – San Jeronimo (Baja Verapaz)
DESCRIPTION:Servicios anticonceptivos en la Escuela Oficial Rural Mixta\,  San Jeronimo (Baja Verapaz). \nAnticonceptivos: Colocación de DIU (T de cobre) y Jadelle (implante hormonal).  \nTambién se ofrecerán pruebas de detección de cáncer cervical.  \nServicios gratuitos.  \nPara más información y reserva de cupo llamar al 3002-5055. 
URL:https://www.wingsguate.org/event/anticonceptivos-san-jeronimo-baja-verapaz-22/
CATEGORIES:English,Spanish
END:VEVENT
BEGIN:VEVENT
DTSTART;TZID=UTC:20241114T080000
DTEND;TZID=UTC:20241114T143000
DTSTAMP:20260423T114812
CREATED:20241107T010942Z
LAST-MODIFIED:20241107T010942Z
UID:17773-1731571200-1731594600@www.wingsguate.org
SUMMARY:Anticonceptivos – San Jeronimo (Baja Verapaz)
DESCRIPTION:Servicios anticonceptivos en el Centro de Convergencia El Durazno\, San Jeronimo (Baja Verapaz). \nAnticonceptivos: Colocación de DIU (T de cobre) y Jadelle (implante hormonal).  \nTambién se ofrecerán pruebas de detección de cáncer cervical.  \nServicios gratuitos.  \nPara más información y reserva de cupo llamar al 3002-5055. 
URL:https://www.wingsguate.org/event/anticonceptivos-san-jeronimo-baja-verapaz-24/
CATEGORIES:English,Spanish
END:VEVENT
BEGIN:VEVENT
DTSTART;TZID=UTC:20241114T080000
DTEND;TZID=UTC:20241114T143000
DTSTAMP:20260423T114812
CREATED:20241107T034705Z
LAST-MODIFIED:20241107T034705Z
UID:17782-1731571200-1731594600@www.wingsguate.org
SUMMARY:Operaciones – Antigua (Sacatepéquez)
DESCRIPTION:Jornada de operaciones para hombre en Asociación Alas de Guatemala 9na poniente\, Antigua (Sacatepéquez).  \nOperaciones (para no tener más hijos): vasectomías.  \nServicios Gratuitos.   \nPara más información y requisitos llamar al 4511-4345. 
URL:https://www.wingsguate.org/event/operaciones-antigua-sacatepequez-3/
CATEGORIES:English,Spanish
END:VEVENT
BEGIN:VEVENT
DTSTART;TZID=UTC:20241114T080000
DTEND;TZID=UTC:20241114T153000
DTSTAMP:20260423T114812
CREATED:20241108T042610Z
LAST-MODIFIED:20241108T042610Z
UID:17819-1731571200-1731598200@www.wingsguate.org
SUMMARY:Operaciones – Chimaltenango (Chimaltenango)
DESCRIPTION:Jornada de operaciones para mujer en la Fundación Carroll Behrhorst\, zona 2 de Chimaltenango (Chimaltenango).  \nOperaciones (para no tener más hijos): ligadura de trompas.  \nDonativo: Q50.   \nPara más información y requisitos llamar al 4511-5525. 
URL:https://www.wingsguate.org/event/operaciones-chimaltenango-chimaltenango-59/
CATEGORIES:English,Spanish
END:VEVENT
END:VCALENDAR