BEGIN:VCALENDAR
VERSION:2.0
PRODID:-//WINGS Guatemala - ECPv6.15.20//NONSGML v1.0//EN
CALSCALE:GREGORIAN
METHOD:PUBLISH
X-WR-CALNAME:WINGS Guatemala
X-ORIGINAL-URL:https://www.wingsguate.org
X-WR-CALDESC:Events for WINGS Guatemala
REFRESH-INTERVAL;VALUE=DURATION:PT1H
X-Robots-Tag:noindex
X-PUBLISHED-TTL:PT1H
BEGIN:VTIMEZONE
TZID:UTC
BEGIN:STANDARD
TZOFFSETFROM:+0000
TZOFFSETTO:+0000
TZNAME:UTC
DTSTART:20230101T000000
END:STANDARD
END:VTIMEZONE
BEGIN:VEVENT
DTSTART;TZID=UTC:20241018T080000
DTEND;TZID=UTC:20241018T143000
DTSTAMP:20260424T144118
CREATED:20241002T085815Z
LAST-MODIFIED:20241002T085815Z
UID:17375-1729238400-1729261800@www.wingsguate.org
SUMMARY:Anticonceptivos – Cobán (Alta Verapaz)
DESCRIPTION:Servicios anticonceptivos en Asociación Alas de Guatemala\, zona 5\, Cobán (Alta Verapaz). \nAnticonceptivos: Colocación de DIU (T de cobre) y Jadelle (implante hormonal).  \nTambién se ofrecerán pruebas de detección de cáncer cervical.  \nServicios gratuitos.  \nPara más información y reserva de cupo llamar al 3227-1513. 
URL:https://www.wingsguate.org/event/anticonceptivos-coban-alta-verapaz-178/
CATEGORIES:English,Spanish
END:VEVENT
BEGIN:VEVENT
DTSTART;TZID=UTC:20241018T080000
DTEND;TZID=UTC:20241018T143000
DTSTAMP:20260424T144119
CREATED:20241002T090001Z
LAST-MODIFIED:20241002T090001Z
UID:17379-1729238400-1729261800@www.wingsguate.org
SUMMARY:Anticonceptivos – Cobán (Alta Verapaz)
DESCRIPTION:Servicios anticonceptivos en la Delegación de la Cruz Roja de Cobán\, zona 3\, Cobán (Alta Verapaz). \nAnticonceptivos: Colocación de DIU (T de cobre) y Jadelle (implante hormonal).  \nTambién se ofrecerán pruebas de detección de cáncer cervical.  \nServicios gratuitos.  \nPara más información y reserva de cupo llamar al 3227-1513. 
URL:https://www.wingsguate.org/event/anticonceptivos-coban-alta-verapaz-180/
CATEGORIES:English,Spanish
END:VEVENT
BEGIN:VEVENT
DTSTART;TZID=UTC:20241018T080000
DTEND;TZID=UTC:20241018T143000
DTSTAMP:20260424T144119
CREATED:20241002T104351Z
LAST-MODIFIED:20241002T104351Z
UID:17500-1729238400-1729261800@www.wingsguate.org
SUMMARY:Anticonceptivos - San Vicente Pacaya (Escuintla)
DESCRIPTION:Servicios anticonceptivos en la 6ta. avenida lote 20\, Nuevo Mexico\, San Vicente Pacaya (Escuintla).  \nAnticonceptivos: Colocación de DIU (T de cobre) y Jadelle (implante hormonal).  \nTambién se ofrecerán pruebas de detección de cáncer cervical.  \nServicios gratuitos.  \nPara más información y reserva de cupo llamar al 4511-3527. 
URL:https://www.wingsguate.org/event/anticonceptivos-san-vicente-pacaya-escuintla-14/
CATEGORIES:English,Spanish
END:VEVENT
BEGIN:VEVENT
DTSTART;TZID=UTC:20241018T080000
DTEND;TZID=UTC:20241018T143000
DTSTAMP:20260424T144119
CREATED:20241002T105624Z
LAST-MODIFIED:20241002T105624Z
UID:17515-1729238400-1729261800@www.wingsguate.org
SUMMARY:Anticonceptivos – Santa María de Jesus (Sacatepéquez)
DESCRIPTION:Servicios anticonceptivos en los Servicios Publicos de la Municipalidad de Santa María de Jesus (Sacatepequez).  \nAnticonceptivos: Colocación de DIU (T de cobre) y Jadelle (implante hormonal).  \nTambién se ofrecerán pruebas de detección de cáncer cervical.  \nServicios gratuitos.  \nPara más información y reserva de cupo llamar al 4511-3527. 
URL:https://www.wingsguate.org/event/anticonceptivos-santa-maria-de-jesus-sacatepequez-15/
CATEGORIES:English,Spanish
END:VEVENT
BEGIN:VEVENT
DTSTART;TZID=UTC:20241018T080000
DTEND;TZID=UTC:20241018T143000
DTSTAMP:20260424T144119
CREATED:20241004T000012Z
LAST-MODIFIED:20241004T000012Z
UID:17578-1729238400-1729261800@www.wingsguate.org
SUMMARY:Anticonceptivos – San Juan Chamelco (Alta Verapaz)
DESCRIPTION:Servicios anticonceptivos en la Escuela Oficial Rural Mixta San Agustín\, San Juan Chamelco (Alta Verapaz). \nAnticonceptivos: Colocación de DIU (T de cobre) y Jadelle (implante hormonal).  \nTambién se ofrecerán pruebas de detección de cáncer cervical.  \nServicios gratuitos.  \nPara más información y reserva de cupo llamar al 3227-1513. 
URL:https://www.wingsguate.org/event/anticonceptivos-san-juan-chamelco-alta-verapaz-11/
CATEGORIES:English,Spanish
END:VEVENT
END:VCALENDAR