BEGIN:VCALENDAR
VERSION:2.0
PRODID:-//WINGS Guatemala - ECPv6.15.20//NONSGML v1.0//EN
CALSCALE:GREGORIAN
METHOD:PUBLISH
X-WR-CALNAME:WINGS Guatemala
X-ORIGINAL-URL:https://www.wingsguate.org
X-WR-CALDESC:Events for WINGS Guatemala
REFRESH-INTERVAL;VALUE=DURATION:PT1H
X-Robots-Tag:noindex
X-PUBLISHED-TTL:PT1H
BEGIN:VTIMEZONE
TZID:UTC
BEGIN:STANDARD
TZOFFSETFROM:+0000
TZOFFSETTO:+0000
TZNAME:UTC
DTSTART:20230101T000000
END:STANDARD
END:VTIMEZONE
BEGIN:VEVENT
DTSTART;TZID=UTC:20240626T080000
DTEND;TZID=UTC:20240626T140000
DTSTAMP:20260423T213515
CREATED:20240607T034113Z
LAST-MODIFIED:20240607T034113Z
UID:16151-1719388800-1719410400@www.wingsguate.org
SUMMARY:Anticonceptivos – San Raymundo (Ciudad de Guatemala)
DESCRIPTION:Servicios anticonceptivos en el Salón Municipal San Raymundo (Ciudad de Guatemala).  \nAnticonceptivos: Colocación de DIU (T de cobre) y Jadelle (implante hormonal).  \nTambién se ofrecerán pruebas de detección de cáncer cervical.  \nServicios gratuitos.  \nPara más información y reserva de cupo llamar al 3003-1246. 
URL:https://www.wingsguate.org/event/anticonceptivos-san-raymundo-ciudad-de-guatemala/
CATEGORIES:English,Spanish
END:VEVENT
BEGIN:VEVENT
DTSTART;TZID=UTC:20240626T080000
DTEND;TZID=UTC:20240626T140000
DTSTAMP:20260423T213515
CREATED:20240607T115226Z
LAST-MODIFIED:20240607T115226Z
UID:16262-1719388800-1719410400@www.wingsguate.org
SUMMARY:Anticonceptivos – Carcha (Alta Verapaz)
DESCRIPTION:Servicios anticonceptivos en Salón Las Terrazas\, C.C Gran Carchá\, Carchá (Alta Verapaz). \nAnticonceptivos: Colocación de DIU (T de cobre) y Jadelle (implante hormonal).  \nTambién se ofrecerán pruebas de detección de cáncer cervical.  \nServicios gratuitos.  \nPara más información y reserva de cupo llamar al 3227-1513. 
URL:https://www.wingsguate.org/event/anticonceptivos-carcha-alta-verapaz-10/
CATEGORIES:English,Spanish
END:VEVENT
BEGIN:VEVENT
DTSTART;TZID=UTC:20240626T080000
DTEND;TZID=UTC:20240626T143000
DTSTAMP:20260423T213515
CREATED:20240606T232134Z
LAST-MODIFIED:20240606T232134Z
UID:16091-1719388800-1719412200@www.wingsguate.org
SUMMARY:Anticonceptivos – Costa Cuca (Quetzaltenango)
DESCRIPTION:Servicios anticonceptivos en Salón Municipal Flores\, Costa Cuca (Quetzaltenango).  \nAnticonceptivos: Colocación de DIU (T de cobre) y Jadelle (implante hormonal).  \nTambién se ofrecerán pruebas de detección de cáncer cervical.  \nServicios gratuitos.  \nPara más información y reserva de cupo llamar al 4511-7490. 
URL:https://www.wingsguate.org/event/anticonceptivos-costa-cuca-quetzaltenango-4/
CATEGORIES:English,Spanish
END:VEVENT
BEGIN:VEVENT
DTSTART;TZID=UTC:20240626T080000
DTEND;TZID=UTC:20240626T143000
DTSTAMP:20260423T213515
CREATED:20240607T101408Z
LAST-MODIFIED:20240607T101408Z
UID:16182-1719388800-1719412200@www.wingsguate.org
SUMMARY:Anticonceptivos – El Tejar (Chimaltenango)
DESCRIPTION:Servicios anticonceptivos en Ministerios Grace\, El Tejar (Chimaltenango).  \nAnticonceptivos: Colocación de DIU (T de cobre) y Jadelle (implante hormonal).  \nTambién se ofrecerán pruebas de detección de cáncer cervical.  \nServicios gratuitos.  \nPara más información y reserva de cupo llamar al 4511-5525. 
URL:https://www.wingsguate.org/event/anticonceptivos-el-tejar-chimaltenango-42/
CATEGORIES:English,Spanish
END:VEVENT
BEGIN:VEVENT
DTSTART;TZID=UTC:20240626T080000
DTEND;TZID=UTC:20240626T150000
DTSTAMP:20260423T213515
CREATED:20240607T000505Z
LAST-MODIFIED:20240607T000505Z
UID:16127-1719388800-1719414000@www.wingsguate.org
SUMMARY:Operaciones – Mazatenango (Suchitepéquez)
DESCRIPTION:Jornada de operaciones para mujer en la Clinica de la Dra. Yumi\, Colonia La Independencia\, Mazatenango (Suchitepéquez)  \nOperaciones (para no tener más hijos): ligaduras de trompa.  \nDonativo Q50.   \nPara más información y reserva de cupo llamar al 3185-0032. 
URL:https://www.wingsguate.org/event/operaciones-mazatenango-suchitepequez-42/
CATEGORIES:English,Spanish
END:VEVENT
BEGIN:VEVENT
DTSTART;TZID=UTC:20240626T080000
DTEND;TZID=UTC:20240626T150000
DTSTAMP:20260423T213515
CREATED:20240607T102201Z
LAST-MODIFIED:20240607T102201Z
UID:16188-1719388800-1719414000@www.wingsguate.org
SUMMARY:Vasectomias – Palin (Escuintla)
DESCRIPTION:Jornada de operaciones para hombre en la Maternidad Municipal de Palin (Escuintla).  \nOperaciones (para no tener más hijos): vasectomias.  \nServicios Gratuitos.   \nPara más información y reserva de cupo llamar al 4511-3527. 
URL:https://www.wingsguate.org/event/vasectomias-palin-escuintla-3/
CATEGORIES:English,Spanish
END:VEVENT
BEGIN:VEVENT
DTSTART;TZID=UTC:20240626T080000
DTEND;TZID=UTC:20240626T150000
DTSTAMP:20260423T213515
CREATED:20240607T105548Z
LAST-MODIFIED:20240607T105548Z
UID:16214-1719388800-1719414000@www.wingsguate.org
SUMMARY:Anticonceptivos – Pastores (Sacatepéquez)
DESCRIPTION:Servicios anticonceptivos en el Salon Municipal de Pastores (Sacatepéquez). \nAnticonceptivos: Colocación de DIU (T de cobre) y Jadelle (implante hormonal).  \nTambién se ofrecerán pruebas de detección de cáncer cervical.  \nServicios gratuitos.  \nPara más información y reserva de cupo llamar al 4511-3527. 
URL:https://www.wingsguate.org/event/anticonceptivos-pastores-sacatepequez-7/
CATEGORIES:English,Spanish
END:VEVENT
BEGIN:VEVENT
DTSTART;TZID=UTC:20240626T080000
DTEND;TZID=UTC:20240626T150000
DTSTAMP:20260423T213515
CREATED:20240607T112512Z
LAST-MODIFIED:20240607T112512Z
UID:16233-1719388800-1719414000@www.wingsguate.org
SUMMARY:Operaciones – Ixcan (Quiché)
DESCRIPTION:Jornada de operaciones para mujer en Sanatorio Dr. Panjoj al Cuidado de su Salud\, Ixcan (Quiche).  \nOperaciones (para no tener más hijos): Ligaduras de trompas.  \nServicios Gratuitos.   \nPara más información y reserva de cupo llamar al 3002-5055. 
URL:https://www.wingsguate.org/event/operaciones-ixcan-quiche-2/
CATEGORIES:English,Spanish
END:VEVENT
END:VCALENDAR