BEGIN:VCALENDAR
VERSION:2.0
PRODID:-//WINGS Guatemala - ECPv6.15.20//NONSGML v1.0//EN
CALSCALE:GREGORIAN
METHOD:PUBLISH
X-WR-CALNAME:WINGS Guatemala
X-ORIGINAL-URL:https://www.wingsguate.org
X-WR-CALDESC:Events for WINGS Guatemala
REFRESH-INTERVAL;VALUE=DURATION:PT1H
X-Robots-Tag:noindex
X-PUBLISHED-TTL:PT1H
BEGIN:VTIMEZONE
TZID:UTC
BEGIN:STANDARD
TZOFFSETFROM:+0000
TZOFFSETTO:+0000
TZNAME:UTC
DTSTART:20230101T000000
END:STANDARD
END:VTIMEZONE
BEGIN:VEVENT
DTSTART;TZID=UTC:20240617T080000
DTEND;TZID=UTC:20240617T143000
DTSTAMP:20260424T070959
CREATED:20240606T231119Z
LAST-MODIFIED:20240606T231119Z
UID:16077-1718611200-1718634600@www.wingsguate.org
SUMMARY:Anticonceptivos – Quetzaltenango (Quetzaltenango)
DESCRIPTION:Servicios anticonceptivos en Asociacion Alas de Guatemala zona 1\, Quetzaltenango (Quetzaltenango).  \nAnticonceptivos: Colocación de DIU (T de cobre) y Jadelle (implante hormonal).  \nTambién se ofrecerán pruebas de detección de cáncer cervical.  \nServicios gratuitos.  \nPara más información y reserva de cupo llamar al 4511-7490. 
URL:https://www.wingsguate.org/event/anticonceptivos-quetzaltenango-quetzaltenango-183/
CATEGORIES:English,Spanish
END:VEVENT
BEGIN:VEVENT
DTSTART;TZID=UTC:20240617T080000
DTEND;TZID=UTC:20240617T143000
DTSTAMP:20260424T070959
CREATED:20240606T232607Z
LAST-MODIFIED:20240606T232654Z
UID:16095-1718611200-1718634600@www.wingsguate.org
SUMMARY:Operaciones – Quetzaltenango (Quetzaltenango)
DESCRIPTION:Jornada de operaciones para mujer en el Hospital Vida zona 8\, Quetzaltenango (Quetzaltenango).  \nOperaciones (para no tener más hijos): ligadura de trompas.  \nDonativo: Q75.   \nPara más información y reserva de cupo llamar al 4511-7490. 
URL:https://www.wingsguate.org/event/operaciones-quetzaltenango-quetzaltenango-36/
CATEGORIES:English,Spanish
END:VEVENT
BEGIN:VEVENT
DTSTART;TZID=UTC:20240617T080000
DTEND;TZID=UTC:20240617T143000
DTSTAMP:20260424T070959
CREATED:20240607T105432Z
LAST-MODIFIED:20240607T105432Z
UID:16212-1718611200-1718634600@www.wingsguate.org
SUMMARY:Anticonceptivos – San Juan Alotenango (Sacatepéquez)
DESCRIPTION:Servicios anticonceptivos en la Dirección Municipal de la Mujer\, San Juan Alotenango (Sacatepéquez). \nAnticonceptivos: Colocación de DIU (T de cobre) y Jadelle (implante hormonal).  \nTambién se ofrecerán pruebas de detección de cáncer cervical.  \nServicios gratuitos.  \nPara más información y reserva de cupo llamar al 4511-3527. 
URL:https://www.wingsguate.org/event/anticonceptivos-san-juan-alotenango-sacatepequez-20/
CATEGORIES:English,Spanish
END:VEVENT
BEGIN:VEVENT
DTSTART;TZID=UTC:20240617T080000
DTEND;TZID=UTC:20240617T150000
DTSTAMP:20260424T070959
CREATED:20240607T105127Z
LAST-MODIFIED:20240607T105127Z
UID:16210-1718611200-1718636400@www.wingsguate.org
SUMMARY:Anticonceptivos – San Miguel Dueñas (Sacatepéquez)
DESCRIPTION:Servicios anticonceptivos en el Salon Municipal San Miguel Dueñas (Sacatepéquez). \nAnticonceptivos: Colocación de DIU (T de cobre) y Jadelle (implante hormonal).  \nTambién se ofrecerán pruebas de detección de cáncer cervical.  \nServicios gratuitos.  \nPara más información y reserva de cupo llamar al 4511-3527. 
URL:https://www.wingsguate.org/event/anticonceptivos-san-miguel-duenas-sacatepequez-29/
CATEGORIES:English,Spanish
END:VEVENT
BEGIN:VEVENT
DTSTART;TZID=UTC:20240617T080000
DTEND;TZID=UTC:20240617T150000
DTSTAMP:20260424T070959
CREATED:20240607T114203Z
LAST-MODIFIED:20240607T114203Z
UID:16248-1718611200-1718636400@www.wingsguate.org
SUMMARY:Anticonceptivos – Cobán (Alta Verapaz)
DESCRIPTION:Servicios anticonceptivos en Asociación Alas de Guatemala\, zona 2 de Cobán (Alta Verapaz). \nAnticonceptivos: Colocación de DIU (T de cobre) y Jadelle (implante hormonal).  \nTambién se ofrecerán pruebas de detección de cáncer cervical.  \nServicios gratuitos.  \nPara más información y reserva de cupo llamar al 3227-1513. 
URL:https://www.wingsguate.org/event/anticonceptivos-coban-alta-verapaz-154/
CATEGORIES:English,Spanish
END:VEVENT
END:VCALENDAR