BEGIN:VCALENDAR
VERSION:2.0
PRODID:-//WINGS Guatemala - ECPv6.15.20//NONSGML v1.0//EN
CALSCALE:GREGORIAN
METHOD:PUBLISH
X-WR-CALNAME:WINGS Guatemala
X-ORIGINAL-URL:https://www.wingsguate.org
X-WR-CALDESC:Events for WINGS Guatemala
REFRESH-INTERVAL;VALUE=DURATION:PT1H
X-Robots-Tag:noindex
X-PUBLISHED-TTL:PT1H
BEGIN:VTIMEZONE
TZID:UTC
BEGIN:STANDARD
TZOFFSETFROM:+0000
TZOFFSETTO:+0000
TZNAME:UTC
DTSTART:20230101T000000
END:STANDARD
END:VTIMEZONE
BEGIN:VEVENT
DTSTART;TZID=UTC:20240612T080000
DTEND;TZID=UTC:20240612T140000
DTSTAMP:20260422T201131
CREATED:20240606T234248Z
LAST-MODIFIED:20240606T234248Z
UID:16113-1718179200-1718200800@www.wingsguate.org
SUMMARY:Anticonceptivos – San José El Idolo (Suchitepéquez)
DESCRIPTION:Servicios anticonceptivos en la Dirección Municipal de la Mujer\, San José El Idolo (Suchitepéquez).  \nAnticonceptivos: Colocación de DIU (T de cobre) y Jadelle (implante hormonal).  \nTambién se ofrecerán pruebas de detección de cáncer cervical.  \nServicios gratuitos.  \nPara más información y reserva de cupo llamar al 4511-6520. 
URL:https://www.wingsguate.org/event/anticonceptivos-san-jose-el-idolo-suchitepequez-24/
CATEGORIES:English,Spanish
END:VEVENT
BEGIN:VEVENT
DTSTART;TZID=UTC:20240612T080000
DTEND;TZID=UTC:20240612T143000
DTSTAMP:20260422T201131
CREATED:20240606T230324Z
LAST-MODIFIED:20240606T230324Z
UID:16069-1718179200-1718202600@www.wingsguate.org
SUMMARY:Anticonceptivos – Jalapa (Jalapa)
DESCRIPTION:Servicios anticonceptivos en el Centro Integral de la Mujer CIM\, Jalapa (Jalapa). \nAnticonceptivos: Colocación de DIU (T de cobre) y Jadelle (implante hormonal).  \nTambién se ofrecerán pruebas de detección de cáncer cervical.  \nServicios gratuitos.  \nPara más información y reserva de cupo llamar al 3004-7603. 
URL:https://www.wingsguate.org/event/anticonceptivos-jalapa-jalapa-9/
CATEGORIES:English,Spanish
END:VEVENT
BEGIN:VEVENT
DTSTART;TZID=UTC:20240612T080000
DTEND;TZID=UTC:20240612T143000
DTSTAMP:20260422T201131
CREATED:20240606T230416Z
LAST-MODIFIED:20240606T230416Z
UID:16071-1718179200-1718202600@www.wingsguate.org
SUMMARY:Anticonceptivos – Jalapa (Jalapa)
DESCRIPTION:Servicios anticonceptivos en el Salón Municipal de Jalapa (Jalapa). \nAnticonceptivos: Colocación de DIU (T de cobre) y Jadelle (implante hormonal).  \nTambién se ofrecerán pruebas de detección de cáncer cervical.  \nServicios gratuitos.  \nPara más información y reserva de cupo llamar al 3004-7603. 
URL:https://www.wingsguate.org/event/anticonceptivos-jalapa-jalapa-10/
CATEGORIES:English,Spanish
END:VEVENT
BEGIN:VEVENT
DTSTART;TZID=UTC:20240612T080000
DTEND;TZID=UTC:20240612T143000
DTSTAMP:20260422T201131
CREATED:20240606T231320Z
LAST-MODIFIED:20240606T231320Z
UID:16079-1718179200-1718202600@www.wingsguate.org
SUMMARY:Anticonceptivos – Cantel (Quetzaltenango)
DESCRIPTION:Servicios anticonceptivos en el Centro de Convergencia y Capacitación para la Mujer DMM\, Cantel (Quetzaltenango).  \nAnticonceptivos: Colocación de DIU (T de cobre) y Jadelle (implante hormonal).  \nTambién se ofrecerán pruebas de detección de cáncer cervical.  \nServicios gratuitos.  \nPara más información y reserva de cupo llamar al 4511-7490. 
URL:https://www.wingsguate.org/event/anticonceptivos-cantel-quetzaltenango-35/
CATEGORIES:English,Spanish
END:VEVENT
BEGIN:VEVENT
DTSTART;TZID=UTC:20240612T080000
DTEND;TZID=UTC:20240612T143000
DTSTAMP:20260422T201131
CREATED:20240607T033859Z
LAST-MODIFIED:20240607T033859Z
UID:16147-1718179200-1718202600@www.wingsguate.org
SUMMARY:Anticonceptivos – Amatitlán (Ciudad de Guatemala)
DESCRIPTION:Servicios anticonceptivos en la Dirección Municipal de la Mujer\, Amatitlán (Ciudad de Guatemala).  \nAnticonceptivos: Colocación de DIU (T de cobre) y Jadelle (implante hormonal).  \nTambién se ofrecerán pruebas de detección de cáncer cervical.  \nServicios gratuitos.  \nPara más información y reserva de cupo llamar al 3003-1246. 
URL:https://www.wingsguate.org/event/anticonceptivos-amatitlan-ciudad-de-guatemala-17/
CATEGORIES:English,Spanish
END:VEVENT
BEGIN:VEVENT
DTSTART;TZID=UTC:20240612T080000
DTEND;TZID=UTC:20240612T143000
DTSTAMP:20260422T201131
CREATED:20240607T100438Z
LAST-MODIFIED:20240607T100438Z
UID:16168-1718179200-1718202600@www.wingsguate.org
SUMMARY:Anticonceptivos – Tecpán (Chimaltenango)
DESCRIPTION:Servicios anticonceptivos en Sanatorio Tecpán\, Tecpán (Chimaltenango).  \nAnticonceptivos: Colocación de DIU (T de cobre) y Jadelle (implante hormonal).  \nTambién se ofrecerán pruebas de detección de cáncer cervical.  \nServicios gratuitos.  \nPara más información y reserva de cupo llamar al 4511-5525. 
URL:https://www.wingsguate.org/event/anticonceptivos-tecpan-chimaltenango-80/
CATEGORIES:English,Spanish
END:VEVENT
BEGIN:VEVENT
DTSTART;TZID=UTC:20240612T080000
DTEND;TZID=UTC:20240612T143000
DTSTAMP:20260422T201131
CREATED:20240607T114005Z
LAST-MODIFIED:20240607T114005Z
UID:16244-1718179200-1718202600@www.wingsguate.org
SUMMARY:Anticonceptivos – Cobán (Alta Verapaz)
DESCRIPTION:Servicios anticonceptivos en Asociación Alas de Guatemala\, zona 2 de Cobán (Alta Verapaz). \nAnticonceptivos: Colocación de DIU (T de cobre) y Jadelle (implante hormonal).  \nTambién se ofrecerán pruebas de detección de cáncer cervical.  \nServicios gratuitos.  \nPara más información y reserva de cupo llamar al 3227-1513. 
URL:https://www.wingsguate.org/event/anticonceptivos-coban-alta-verapaz-152/
CATEGORIES:English,Spanish
END:VEVENT
BEGIN:VEVENT
DTSTART;TZID=UTC:20240612T080000
DTEND;TZID=UTC:20240612T150000
DTSTAMP:20260422T201131
CREATED:20240607T100540Z
LAST-MODIFIED:20240607T100540Z
UID:16170-1718179200-1718204400@www.wingsguate.org
SUMMARY:Anticonceptivos – Chimaltenango (Chimaltenango)
DESCRIPTION:Servicios anticonceptivos en SOSEA zona 4\, Chimaltenango (Chimaltenango).  \nAnticonceptivos: Colocación de DIU (T de cobre) y Jadelle (implante hormonal).  \nTambién se ofrecerán pruebas de detección de cáncer cervical.  \nServicios gratuitos.  \nPara más información y reserva de cupo llamar al 4511-5525. 
URL:https://www.wingsguate.org/event/anticonceptivos-chimaltenango-chimaltenango-51/
CATEGORIES:English,Spanish
END:VEVENT
BEGIN:VEVENT
DTSTART;TZID=UTC:20240612T080000
DTEND;TZID=UTC:20240612T150000
DTSTAMP:20260422T201131
CREATED:20240607T114644Z
LAST-MODIFIED:20240607T114644Z
UID:16255-1718179200-1718204400@www.wingsguate.org
SUMMARY:Anticonceptivos – Cahabón (Alta Verapaz)
DESCRIPTION:Servicios anticonceptivos en Centro Nutremé\, Aldea Balamte\, Cahabón (Alta Verapaz). \nAnticonceptivos: Colocación de DIU (T de cobre) y Jadelle (implante hormonal).  \nTambién se ofrecerán pruebas de detección de cáncer cervical.  \nServicios gratuitos.  \nPara más información y reserva de cupo llamar al 3227-1513. 
URL:https://www.wingsguate.org/event/anticonceptivos-cahabon-alta-verapaz-44/
CATEGORIES:English,Spanish
END:VEVENT
END:VCALENDAR