BEGIN:VCALENDAR
VERSION:2.0
PRODID:-//WINGS Guatemala - ECPv6.15.20//NONSGML v1.0//EN
CALSCALE:GREGORIAN
METHOD:PUBLISH
X-WR-CALNAME:WINGS Guatemala
X-ORIGINAL-URL:https://www.wingsguate.org
X-WR-CALDESC:Events for WINGS Guatemala
REFRESH-INTERVAL;VALUE=DURATION:PT1H
X-Robots-Tag:noindex
X-PUBLISHED-TTL:PT1H
BEGIN:VTIMEZONE
TZID:UTC
BEGIN:STANDARD
TZOFFSETFROM:+0000
TZOFFSETTO:+0000
TZNAME:UTC
DTSTART:20230101T000000
END:STANDARD
END:VTIMEZONE
BEGIN:VEVENT
DTSTART;TZID=UTC:20240521T080000
DTEND;TZID=UTC:20240521T143000
DTSTAMP:20260422T130353
CREATED:20240430T030606Z
LAST-MODIFIED:20240430T030606Z
UID:15831-1716278400-1716301800@www.wingsguate.org
SUMMARY:Vasectomías  – Huehuetenango (Huehuetenango)
DESCRIPTION:Jornada de operaciones para hombre en Casa Materna zona 10\, Huehuetenango (Huehuetenango).  \nOperaciones (para no tener más hijos): Vasectomía.  \nServicio Gratuito.   \nPara más información y reserva de cupo llamar al 3227-4564. 
URL:https://www.wingsguate.org/event/vasectomias-huehuetenango-huehuetenango-5/
CATEGORIES:English,Spanish
END:VEVENT
BEGIN:VEVENT
DTSTART;TZID=UTC:20240521T080000
DTEND;TZID=UTC:20240521T143000
DTSTAMP:20260422T130353
CREATED:20240430T032541Z
LAST-MODIFIED:20240430T032541Z
UID:15855-1716278400-1716301800@www.wingsguate.org
SUMMARY:Anticonceptivos – San Sebastian (Retalhuleu)
DESCRIPTION:Servicios anticonceptivos en la Dirección Municipal de la Mujer\, San Sebastian (Retalhuleu).   \nAnticonceptivos: Colocación de DIU (T de cobre) y Jadelle (implante hormonal).  \nTambién se ofrecerán pruebas de detección de cáncer cervical.  \nServicios gratuitos.  \nPara más información y reserva de cupo llamar al 4511-6520. 
URL:https://www.wingsguate.org/event/anticonceptivos-san-sebastian-retalhuleu-16/
CATEGORIES:English,Spanish
END:VEVENT
BEGIN:VEVENT
DTSTART;TZID=UTC:20240521T080000
DTEND;TZID=UTC:20240521T143000
DTSTAMP:20260422T130353
CREATED:20240506T222744Z
LAST-MODIFIED:20240506T222744Z
UID:15903-1716278400-1716301800@www.wingsguate.org
SUMMARY:Operaciones – Tecpán (Chimaltenango)
DESCRIPTION:Jornada de operaciones para mujer en Sanatorio Tecpán zona 2\, Tecpán (Chimaltenango).  \nOperaciones (para no tener más hijos): Ligaduras de trompas.  \nDonativo: Q100.   \nPara más información y reserva de cupo llamar al 4511-5525. 
URL:https://www.wingsguate.org/event/operaciones-tecpan-chimaltenango-15/
CATEGORIES:English,Spanish
END:VEVENT
BEGIN:VEVENT
DTSTART;TZID=UTC:20240521T080000
DTEND;TZID=UTC:20240521T143000
DTSTAMP:20260422T130353
CREATED:20240506T223848Z
LAST-MODIFIED:20240506T223848Z
UID:15913-1716278400-1716301800@www.wingsguate.org
SUMMARY:Operaciones – Cobán (Alta Verapaz)
DESCRIPTION:Jornada de operaciones para mujer en Hospital Cubano\, Cobán (Alta Verapaz).  \nOperaciones (para no tener más hijos): Ligaduras de trompas.  \nDonativo: Q75.   \nPara más información y reserva de cupo llamar al 3227-1513. 
URL:https://www.wingsguate.org/event/operaciones-coban-alta-verapaz-19/
CATEGORIES:English,Spanish
END:VEVENT
BEGIN:VEVENT
DTSTART;TZID=UTC:20240521T080000
DTEND;TZID=UTC:20240521T143000
DTSTAMP:20260422T130353
CREATED:20240506T225500Z
LAST-MODIFIED:20240506T225500Z
UID:15925-1716278400-1716301800@www.wingsguate.org
SUMMARY:Anticonceptivos – Ciudad de Guatemala (Ciudad de Guatemala)
DESCRIPTION:Servicios anticonceptivos en Iglesia Cristo Rey zona 6\, Ciudad de Guatemala (Ciudad de Guatemala).  \nAnticonceptivos: Colocación de DIU (T de cobre) y Jadelle (implante hormonal).  \nTambién se ofrecerán pruebas de detección de cáncer cervical.  \nServicios gratuitos.  \nPara más información y reserva de cupo llamar al 3003-1246. 
URL:https://www.wingsguate.org/event/anticonceptivos-ciudad-de-guatemala-ciudad-de-guatemala-40/
CATEGORIES:English,Spanish
END:VEVENT
END:VCALENDAR