BEGIN:VCALENDAR
VERSION:2.0
PRODID:-//WINGS Guatemala - ECPv6.15.20//NONSGML v1.0//EN
CALSCALE:GREGORIAN
METHOD:PUBLISH
X-WR-CALNAME:WINGS Guatemala
X-ORIGINAL-URL:https://www.wingsguate.org
X-WR-CALDESC:Events for WINGS Guatemala
REFRESH-INTERVAL;VALUE=DURATION:PT1H
X-Robots-Tag:noindex
X-PUBLISHED-TTL:PT1H
BEGIN:VTIMEZONE
TZID:UTC
BEGIN:STANDARD
TZOFFSETFROM:+0000
TZOFFSETTO:+0000
TZNAME:UTC
DTSTART:20230101T000000
END:STANDARD
END:VTIMEZONE
BEGIN:VEVENT
DTSTART;TZID=UTC:20240402T080000
DTEND;TZID=UTC:20240402T140000
DTSTAMP:20260422T005815
CREATED:20240402T104452Z
LAST-MODIFIED:20240402T104452Z
UID:15541-1712044800-1712066400@www.wingsguate.org
SUMMARY:Anticonceptivos – Cubulco (Baja Verapaz)
DESCRIPTION:Servicios anticonceptivos en el Salon Municipal Cubulco (Baja Verapaz). \nAnticonceptivos: Colocación de DIU (T de cobre) y Jadelle (implante hormonal).  \nTambién se ofrecerán pruebas de detección de cáncer cervical.  \nServicios gratuitos.  \nPara más información y reserva de cupo llamar al 3002-5055. 
URL:https://www.wingsguate.org/event/anticonceptivos-cubulco-baja-verapaz-5/
CATEGORIES:English,Spanish
END:VEVENT
BEGIN:VEVENT
DTSTART;TZID=UTC:20240402T080000
DTEND;TZID=UTC:20240402T143000
DTSTAMP:20260422T005815
CREATED:20240402T042546Z
LAST-MODIFIED:20240402T042546Z
UID:15509-1712044800-1712068200@www.wingsguate.org
SUMMARY:Anticonceptivos – Senahú (Alta Verapaz)
DESCRIPTION:Servicios anticonceptivos en Casa Salud Comunidad Nuevo San Carlos\, Senahú (Alta Verapaz). \nAnticonceptivos: Colocación de DIU (T de cobre) y Jadelle (implante hormonal).  \nTambién se ofrecerán pruebas de detección de cáncer cervical.  \nServicios gratuitos.  \nPara más información y reserva de cupo llamar al 3227-1513. 
URL:https://www.wingsguate.org/event/anticonceptivos-senahu-alta-verapaz-19/
CATEGORIES:English,Spanish
END:VEVENT
BEGIN:VEVENT
DTSTART;TZID=UTC:20240402T080000
DTEND;TZID=UTC:20240402T143000
DTSTAMP:20260422T005815
CREATED:20240403T091625Z
LAST-MODIFIED:20240403T091625Z
UID:15632-1712044800-1712068200@www.wingsguate.org
SUMMARY:Anticonceptivos – San Pedro Ayampuc (Ciudad de Guatemala)
DESCRIPTION:Servicios anticonceptivos en Escuela Las Brisas\, San Pedro Ayampuc (Ciudad de Guatemala).  \nAnticonceptivos: Colocación de DIU (T de cobre) y Jadelle (implante hormonal).  \nTambién se ofrecerán pruebas de detección de cáncer cervical.  \nServicios gratuitos.  \nPara más información y reserva de cupo llamar al 3003-1246. 
URL:https://www.wingsguate.org/event/anticonceptivos-san-pedro-ayampuc-ciudad-de-guatemala-22/
CATEGORIES:English,Spanish
END:VEVENT
BEGIN:VEVENT
DTSTART;TZID=UTC:20240402T080000
DTEND;TZID=UTC:20240402T143000
DTSTAMP:20260422T005815
CREATED:20240403T095106Z
LAST-MODIFIED:20240403T095106Z
UID:15671-1712044800-1712068200@www.wingsguate.org
SUMMARY:Operaciones – Mazatenango (Suchitepequez)
DESCRIPTION:Jornada de operaciones para hombre y mujer en Clinica Dra. Yumi\, Mazatenango (Suchitepequez).  \nOperaciones (para no tener más hijos): vasectomías y ligadura de trompas.  \nDonativo: Q50.   \nPara más información y reserva de cupo llamar al 4511-6520. 
URL:https://www.wingsguate.org/event/operaciones-mazatenango-suchitepequez-40/
CATEGORIES:English,Spanish
END:VEVENT
BEGIN:VEVENT
DTSTART;TZID=UTC:20240402T080000
DTEND;TZID=UTC:20240402T143000
DTSTAMP:20260422T005815
CREATED:20240403T095932Z
LAST-MODIFIED:20240403T095932Z
UID:15680-1712044800-1712068200@www.wingsguate.org
SUMMARY:Anticonceptivos – San Jose La Maquina (Suchitepéquez)
DESCRIPTION:Servicios anticonceptivos en Salon Municipal San Jose La Maquina (Suchitepéquez).  \nAnticonceptivos: Colocación de DIU (T de cobre) y Jadelle (implante hormonal).  \nTambién se ofrecerán pruebas de detección de cáncer cervical.  \nServicios gratuitos.  \nPara más información y reserva de cupo llamar al 4511-6520. 
URL:https://www.wingsguate.org/event/anticonceptivos-san-jose-la-maquina-suchitepequez/
CATEGORIES:English,Spanish
END:VEVENT
BEGIN:VEVENT
DTSTART;TZID=UTC:20240402T080000
DTEND;TZID=UTC:20240402T170000
DTSTAMP:20260422T005815
CREATED:20240402T224128Z
LAST-MODIFIED:20240402T224128Z
UID:15590-1712044800-1712077200@www.wingsguate.org
SUMMARY:Anticonceptivos – San Miguel Dueñas (Sacatepéquez)
DESCRIPTION:Servicios anticonceptivos en la Municipalidad de San Miguel Dueñas (Sacatepéquez). \nAnticonceptivos: Colocación de DIU (T de cobre) y Jadelle (implante hormonal).  \nTambién se ofrecerán pruebas de detección de cáncer cervical.  \nServicios gratuitos.  \nPara más información y reserva de cupo llamar al 4511-3527. 
URL:https://www.wingsguate.org/event/anticonceptivos-san-miguel-duenas-sacatepequez-28/
CATEGORIES:English,Spanish
END:VEVENT
END:VCALENDAR