BEGIN:VCALENDAR
VERSION:2.0
PRODID:-//WINGS Guatemala - ECPv6.15.20//NONSGML v1.0//EN
CALSCALE:GREGORIAN
METHOD:PUBLISH
X-ORIGINAL-URL:https://www.wingsguate.org
X-WR-CALDESC:Events for WINGS Guatemala
REFRESH-INTERVAL;VALUE=DURATION:PT1H
X-Robots-Tag:noindex
X-PUBLISHED-TTL:PT1H
BEGIN:VTIMEZONE
TZID:UTC
BEGIN:STANDARD
TZOFFSETFROM:+0000
TZOFFSETTO:+0000
TZNAME:UTC
DTSTART:20230101T000000
END:STANDARD
END:VTIMEZONE
BEGIN:VEVENT
DTSTART;TZID=UTC:20240319T080000
DTEND;TZID=UTC:20240319T133000
DTSTAMP:20260421T064301
CREATED:20240312T234304Z
LAST-MODIFIED:20240312T234304Z
UID:15458-1710835200-1710855000@www.wingsguate.org
SUMMARY:Anticonceptivos – Senahú (Alta Verapaz)
DESCRIPTION:Servicios anticonceptivos en Salon Comunal Yalijux\, Senahu (Alta Verapaz). \nAnticonceptivos: Colocación de DIU (T de cobre) y Jadelle (implante hormonal).  \nTambién se ofrecerán pruebas de detección de cáncer cervical.  \nServicios gratuitos.  \nPara más información y reserva de cupo llamar al 3227-1513. 
URL:https://www.wingsguate.org/event/anticonceptivos-senahu-alta-verapaz-17/
CATEGORIES:English,Spanish
END:VEVENT
BEGIN:VEVENT
DTSTART;TZID=UTC:20240319T080000
DTEND;TZID=UTC:20240319T143000
DTSTAMP:20260421T064301
CREATED:20240312T234419Z
LAST-MODIFIED:20240312T234419Z
UID:15460-1710835200-1710858600@www.wingsguate.org
SUMMARY:Anticonceptivos – Fray Bartolome de las Casas (Alta Verapaz)
DESCRIPTION:Servicios anticonceptivos en Salon Comunal Comunidad Pozo del Danto\, Fray Bartolome de las Casas (Alta Verapaz). \nAnticonceptivos: Colocación de DIU (T de cobre) y Jadelle (implante hormonal).  \nTambién se ofrecerán pruebas de detección de cáncer cervical.  \nServicios gratuitos.  \nPara más información y reserva de cupo llamar al 3227-1513. 
URL:https://www.wingsguate.org/event/anticonceptivos-fray-bartolome-de-las-casas-alta-verapaz-9/
CATEGORIES:English,Spanish
END:VEVENT
BEGIN:VEVENT
DTSTART;TZID=UTC:20240319T080000
DTEND;TZID=UTC:20240319T143000
DTSTAMP:20260421T064301
CREATED:20240312T234911Z
LAST-MODIFIED:20240312T234911Z
UID:15464-1710835200-1710858600@www.wingsguate.org
SUMMARY:Anticonceptivos – Senahu (Alta Verapaz)
DESCRIPTION:Servicios anticonceptivos en el Centro Comunitario Tzalamila\, Senahu (Alta Verapaz). \nAnticonceptivos: Colocación de DIU (T de cobre) y Jadelle (implante hormonal).  \nTambién se ofrecerán pruebas de detección de cáncer cervical.  \nServicios gratuitos.  \nPara más información y reserva de cupo llamar al 3227-1513. 
URL:https://www.wingsguate.org/event/anticonceptivos-senahu-alta-verapaz-18/
CATEGORIES:English,Spanish
END:VEVENT
END:VCALENDAR