BEGIN:VCALENDAR
VERSION:2.0
PRODID:-//WINGS Guatemala - ECPv6.15.20//NONSGML v1.0//EN
CALSCALE:GREGORIAN
METHOD:PUBLISH
X-ORIGINAL-URL:https://www.wingsguate.org
X-WR-CALDESC:Events for WINGS Guatemala
REFRESH-INTERVAL;VALUE=DURATION:PT1H
X-Robots-Tag:noindex
X-PUBLISHED-TTL:PT1H
BEGIN:VTIMEZONE
TZID:UTC
BEGIN:STANDARD
TZOFFSETFROM:+0000
TZOFFSETTO:+0000
TZNAME:UTC
DTSTART:20230101T000000
END:STANDARD
END:VTIMEZONE
BEGIN:VEVENT
DTSTART;TZID=UTC:20240131T080000
DTEND;TZID=UTC:20240131T140000
DTSTAMP:20260421T192734
CREATED:20240109T040113Z
LAST-MODIFIED:20240109T040113Z
UID:14444-1706688000-1706709600@www.wingsguate.org
SUMMARY:Anticonceptivos – San Jose Poaquil (Chimaltenango)
DESCRIPTION:Servicios anticonceptivos en el Centro de Salud San Jose Poaquil (Chimaltenango).  \nAnticonceptivos: Colocación de DIU (T de cobre) y Jadelle (implante hormonal).  \nTambién se ofrecerán pruebas de detección de cáncer cervical.  \nServicios gratuitos.  \nPara más información y reserva de cupo llamar al 4511-5525. 
URL:https://www.wingsguate.org/event/anticonceptivos-san-jose-poaquil-chimaltenango-13/
CATEGORIES:English,Spanish
END:VEVENT
BEGIN:VEVENT
DTSTART;TZID=UTC:20240131T080000
DTEND;TZID=UTC:20240131T143000
DTSTAMP:20260421T192734
CREATED:20240109T030431Z
LAST-MODIFIED:20240109T030431Z
UID:14393-1706688000-1706711400@www.wingsguate.org
SUMMARY:Anticonceptivos – Ciudad de Guatemala (Ciudad de Guatemala)
DESCRIPTION:Servicios anticonceptivos en FUNDAMAS\, 11va. calle 10-5 zona 1\, Ciudad de Guatemala (Ciudad de Guatemala).  \nAnticonceptivos: Colocación de DIU (T de cobre) y Jadelle (implante hormonal).  \nTambién se ofrecerán pruebas de detección de cáncer cervical.  \nServicios gratuitos.  \nPara más información y reserva de cupo llamar al 3003-1246. 
URL:https://www.wingsguate.org/event/anticonceptivos-ciudad-de-guatemala-ciudad-de-guatemala-36/
CATEGORIES:English,Spanish
END:VEVENT
BEGIN:VEVENT
DTSTART;TZID=UTC:20240131T080000
DTEND;TZID=UTC:20240131T143000
DTSTAMP:20260421T192734
CREATED:20240109T030517Z
LAST-MODIFIED:20240109T030517Z
UID:14395-1706688000-1706711400@www.wingsguate.org
SUMMARY:Anticonceptivos – Ciudad de Guatemala (Ciudad de Guatemala)
DESCRIPTION:Servicios anticonceptivos en Iglesia Cristo Rey\, zona 6 Ciudad de Guatemala (Ciudad de Guatemala).  \nAnticonceptivos: Colocación de DIU (T de cobre) y Jadelle (implante hormonal).  \nTambién se ofrecerán pruebas de detección de cáncer cervical.  \nServicios gratuitos.  \nPara más información y reserva de cupo llamar al 3003-1246. 
URL:https://www.wingsguate.org/event/anticonceptivos-ciudad-de-guatemala-ciudad-de-guatemala-37/
CATEGORIES:English,Spanish
END:VEVENT
BEGIN:VEVENT
DTSTART;TZID=UTC:20240131T080000
DTEND;TZID=UTC:20240131T143000
DTSTAMP:20260421T192734
CREATED:20240109T042503Z
LAST-MODIFIED:20240109T042503Z
UID:14487-1706688000-1706711400@www.wingsguate.org
SUMMARY:Anticonceptivos – Santa Clara La Laguna (Solola)
DESCRIPTION:Servicios anticonceptivos en el Centro de Salud Santa Clara La Laguna (Solola).  \nAnticonceptivos: Colocación de DIU (T de cobre) y Jadelle (implante hormonal).  \nTambién se ofrecerán pruebas de detección de cáncer cervical.  \nServicios gratuitos.  \nPara más información y reserva de cupo llamar al 3227-4564. 
URL:https://www.wingsguate.org/event/anticonceptivos-santa-clara-la-laguna-solola-2/
CATEGORIES:English,Spanish
END:VEVENT
END:VCALENDAR