BEGIN:VCALENDAR
VERSION:2.0
PRODID:-//WINGS Guatemala - ECPv6.15.20//NONSGML v1.0//EN
CALSCALE:GREGORIAN
METHOD:PUBLISH
X-ORIGINAL-URL:https://www.wingsguate.org
X-WR-CALDESC:Events for WINGS Guatemala
REFRESH-INTERVAL;VALUE=DURATION:PT1H
X-Robots-Tag:noindex
X-PUBLISHED-TTL:PT1H
BEGIN:VTIMEZONE
TZID:UTC
BEGIN:STANDARD
TZOFFSETFROM:+0000
TZOFFSETTO:+0000
TZNAME:UTC
DTSTART:20220101T000000
END:STANDARD
END:VTIMEZONE
BEGIN:VEVENT
DTSTART;TZID=UTC:20230824T080000
DTEND;TZID=UTC:20230824T123000
DTSTAMP:20260423T160535
CREATED:20230801T005416Z
LAST-MODIFIED:20230801T005441Z
UID:12654-1692864000-1692880200@www.wingsguate.org
SUMMARY:Operaciones – Santa Clara La Laguna (Sololá)
DESCRIPTION:Jornada de operaciones para mujer y hombre en el Centro de Salud Santa Clara La Laguna (Sololá).  \nOperaciones (para no tener más hijos): Ligaduras de trompas y vasectomías.  \nServicios Gratuitos.  \nPara más información y reserva de cupo llamar al 3227-4564. 
URL:https://www.wingsguate.org/event/operaciones-santa-clara-la-laguna-solola-2/
CATEGORIES:English,Spanish
END:VEVENT
BEGIN:VEVENT
DTSTART;TZID=UTC:20230824T080000
DTEND;TZID=UTC:20230824T123000
DTSTAMP:20260423T160535
CREATED:20230802T040421Z
LAST-MODIFIED:20230802T040421Z
UID:12814-1692864000-1692880200@www.wingsguate.org
SUMMARY:Anticonceptivos – San Pedro Carchá (Alta Verapaz)
DESCRIPTION:Servicios anticonceptivos en el Centro de Atención Permanente\, San Pedro Carchá (Alta Verapaz). \nAnticonceptivos: Colocación de DIU (T de cobre) y Jadelle (implante hormonal).  \nTambién se ofrecerán pruebas de detección de cáncer cervical.  \nServicios gratuitos.  \nPara más información y reserva de cupo llamar al 3227-1513. 
URL:https://www.wingsguate.org/event/anticonceptivos-san-pedro-carcha-alta-verapaz-68/
CATEGORIES:English,Spanish
END:VEVENT
BEGIN:VEVENT
DTSTART;TZID=UTC:20230824T080000
DTEND;TZID=UTC:20230824T133000
DTSTAMP:20260423T160535
CREATED:20230731T234647Z
LAST-MODIFIED:20230731T234647Z
UID:12605-1692864000-1692883800@www.wingsguate.org
SUMMARY:Operaciones – Chiquimulilla (Santa Rosa)
DESCRIPTION:Jornada de operaciones para mujer y hombre en el Centro de Atención Integral Materno Infantil\, Chiquimulilla  (Santa Rosa).  \nOperaciones (para no tener más hijos): Ligaduras de trompas y vasectomías.  \nServicios Gratuitos.  \nPara más información y reserva de cupo llamar al 3063-5196. 
URL:https://www.wingsguate.org/event/operaciones-chiquimulilla-santa-rosa-20/
CATEGORIES:English,Spanish
END:VEVENT
BEGIN:VEVENT
DTSTART;TZID=UTC:20230824T080000
DTEND;TZID=UTC:20230824T133000
DTSTAMP:20260423T160535
CREATED:20230802T034048Z
LAST-MODIFIED:20230802T034048Z
UID:12804-1692864000-1692883800@www.wingsguate.org
SUMMARY:Operaciones – Jocotenango (Sacatepéquez)
DESCRIPTION:Jornada de operaciones para mujer y hombre en el Centro Medico Casa 10. Calle Ricardo Arjona\, Jocotenango (Sacatepéquez).  \nOperaciones (para no tener más hijos): Ligaduras de trompas y vasectomías.  \nServicios Gratuitos.  \nPara más información y reserva de cupo llamar al 4511-3527. 
URL:https://www.wingsguate.org/event/operaciones-jocotenango-sacatepequez/
CATEGORIES:English,Spanish
END:VEVENT
BEGIN:VEVENT
DTSTART;TZID=UTC:20230824T080000
DTEND;TZID=UTC:20230824T143000
DTSTAMP:20260423T160535
CREATED:20230801T041137Z
LAST-MODIFIED:20230801T041137Z
UID:12721-1692864000-1692887400@www.wingsguate.org
SUMMARY:Anticonceptivos – El Tejar (Chimaltenango)
DESCRIPTION:Servicios anticonceptivos en la Clínica de Planificación Familiar\, Salón Municipal\, El Tejar (Chimaltenango).  \nAnticonceptivos: Colocación de DIU (T de cobre) y Jadelle (implante hormonal).  \nTambién se ofrecerán pruebas de detección de cáncer cervical.  \nServicios gratuitos.  \nPara más información y reserva de cupo llamar al 4511-5525. 
URL:https://www.wingsguate.org/event/anticonceptivos-el-tejar-chimaltenango-31/
CATEGORIES:English,Spanish
END:VEVENT
BEGIN:VEVENT
DTSTART;TZID=UTC:20230824T080000
DTEND;TZID=UTC:20230824T143000
DTSTAMP:20260423T160535
CREATED:20230802T040952Z
LAST-MODIFIED:20230802T040952Z
UID:12828-1692864000-1692887400@www.wingsguate.org
SUMMARY:Anticonceptivos – Teleman Panzos (Alta Verapaz)
DESCRIPTION:Servicios anticonceptivos en el Puesto de Salud\, Palestina\, Teleman Panzos (Alta Verapaz). \nAnticonceptivos: Colocación de DIU (T de cobre) y Jadelle (implante hormonal).  \nTambién se ofrecerán pruebas de detección de cáncer cervical.  \nServicios gratuitos.  \nPara más información y reserva de cupo llamar al 3227-1513. 
URL:https://www.wingsguate.org/event/anticonceptivos-teleman-panzos-alta-verapaz-4/
CATEGORIES:English,Spanish
END:VEVENT
END:VCALENDAR