BEGIN:VCALENDAR
VERSION:2.0
PRODID:-//WINGS Guatemala - ECPv6.15.20//NONSGML v1.0//EN
CALSCALE:GREGORIAN
METHOD:PUBLISH
X-ORIGINAL-URL:https://www.wingsguate.org
X-WR-CALDESC:Events for WINGS Guatemala
REFRESH-INTERVAL;VALUE=DURATION:PT1H
X-Robots-Tag:noindex
X-PUBLISHED-TTL:PT1H
BEGIN:VTIMEZONE
TZID:UTC
BEGIN:STANDARD
TZOFFSETFROM:+0000
TZOFFSETTO:+0000
TZNAME:UTC
DTSTART:20220101T000000
END:STANDARD
END:VTIMEZONE
BEGIN:VEVENT
DTSTART;TZID=UTC:20230804T080000
DTEND;TZID=UTC:20230804T143000
DTSTAMP:20260422T173748
CREATED:20230801T001851Z
LAST-MODIFIED:20230801T001851Z
UID:12618-1691136000-1691159400@www.wingsguate.org
SUMMARY:Anticonceptivos – Quetzaltenango (Quetzaltenango)
DESCRIPTION:Servicios anticonceptivos en Asociación Alas de Guatemala zona 1\, Quetzaltenango (Quetzaltenango).  \nAnticonceptivos: Colocación de DIU (T de cobre) y Jadelle (implante hormonal).  \nTambién se ofrecerán pruebas de detección de cáncer cervical.  \nServicios gratuitos.  \nPara más información y reserva de cupo llamar al 4511-7490. 
URL:https://www.wingsguate.org/event/anticonceptivos-quetzaltenango-quetzaltenango-139/
CATEGORIES:English,Spanish
END:VEVENT
BEGIN:VEVENT
DTSTART;TZID=UTC:20230804T080000
DTEND;TZID=UTC:20230804T143000
DTSTAMP:20260422T173748
CREATED:20230801T010033Z
LAST-MODIFIED:20230801T010033Z
UID:12657-1691136000-1691159400@www.wingsguate.org
SUMMARY:Anticonceptivos – Panajachel (Sololá)
DESCRIPTION:Servicios anticonceptivos en Asociación Pequeños Gigantes\, Panajachel (Sololá).  \nAnticonceptivos: Colocación de DIU (T de cobre) y Jadelle (implante hormonal).  \nTambién se ofrecerán pruebas de detección de cáncer cervical.  \nServicios gratuitos.  \nPara más información y reserva de cupo llamar al 32237-4564. 
URL:https://www.wingsguate.org/event/anticonceptivos-panajachel-solola-4/
CATEGORIES:English,Spanish
END:VEVENT
BEGIN:VEVENT
DTSTART;TZID=UTC:20230804T080000
DTEND;TZID=UTC:20230804T143000
DTSTAMP:20260422T173748
CREATED:20230801T033353Z
LAST-MODIFIED:20230801T033353Z
UID:12695-1691136000-1691159400@www.wingsguate.org
SUMMARY:Anticonceptivos – San Sebastian (Retalhuleu)
DESCRIPTION:Servicios anticonceptivos en el Puesto de Salud\, Aldea Camino Real San Luis\, San Sebastian\, (Retalhuleu).  \nAnticonceptivos: Colocación de DIU (T de cobre) y Jadelle (implante hormonal).  \nTambién se ofrecerán pruebas de detección de cáncer cervical.  \nServicios gratuitos.  \nPara más información y reserva de cupo llamar al 3185-0032. 
URL:https://www.wingsguate.org/event/anticonceptivos-san-sebastian-retalhuleu-13/
CATEGORIES:English,Spanish
END:VEVENT
BEGIN:VEVENT
DTSTART;TZID=UTC:20230804T080000
DTEND;TZID=UTC:20230804T143000
DTSTAMP:20260422T173748
CREATED:20230801T043127Z
LAST-MODIFIED:20230801T043127Z
UID:12738-1691136000-1691159400@www.wingsguate.org
SUMMARY:Anticonceptivos – Ciudad Vieja (Sacatepéquez)
DESCRIPTION:Servicios anticonceptivos en el Puesto de Salud\, San Miguel Escobar\, Ciudad Vieja (Sacatepéquez).\nAnticonceptivos: Colocación de DIU (T de cobre) y Jadelle (implante hormonal). \n\n\nTambién se ofrecerán pruebas de detección de cáncer cervical.  \nServicios gratuitos.  \nPara más información y reserva de cupo\, llamar al 4511-3527. 
URL:https://www.wingsguate.org/event/anticonceptivos-ciudad-vieja-sacatepequez-21/
CATEGORIES:English,Spanish
END:VEVENT
BEGIN:VEVENT
DTSTART;TZID=UTC:20230804T080000
DTEND;TZID=UTC:20230804T143000
DTSTAMP:20260422T173748
CREATED:20230801T043355Z
LAST-MODIFIED:20230801T043355Z
UID:12740-1691136000-1691159400@www.wingsguate.org
SUMMARY:Anticonceptivos – San Lucas (Sacatepéquez)
DESCRIPTION:Servicios anticonceptivos en el Centro de Salud\, San Lucas (Sacatepéquez).\nAnticonceptivos: Colocación de DIU (T de cobre) y Jadelle (implante hormonal). \n\n\nTambién se ofrecerán pruebas de detección de cáncer cervical.  \nServicios gratuitos.  \nPara más información y reserva de cupo\, llamar al 3003-1246. 
URL:https://www.wingsguate.org/event/anticonceptivos-san-lucas-sacatepequez-15/
CATEGORIES:English,Spanish
END:VEVENT
END:VCALENDAR