BEGIN:VCALENDAR
VERSION:2.0
PRODID:-//WINGS Guatemala - ECPv6.15.20//NONSGML v1.0//EN
CALSCALE:GREGORIAN
METHOD:PUBLISH
X-WR-CALNAME:WINGS Guatemala
X-ORIGINAL-URL:https://www.wingsguate.org
X-WR-CALDESC:Events for WINGS Guatemala
REFRESH-INTERVAL;VALUE=DURATION:PT1H
X-Robots-Tag:noindex
X-PUBLISHED-TTL:PT1H
BEGIN:VTIMEZONE
TZID:UTC
BEGIN:STANDARD
TZOFFSETFROM:+0000
TZOFFSETTO:+0000
TZNAME:UTC
DTSTART:20220101T000000
END:STANDARD
END:VTIMEZONE
BEGIN:VEVENT
DTSTART;TZID=UTC:20230719T080000
DTEND;TZID=UTC:20230719T120000
DTSTAMP:20260419T080024
CREATED:20230630T215200Z
LAST-MODIFIED:20230630T215200Z
UID:12369-1689753600-1689768000@www.wingsguate.org
SUMMARY:Operaciones – Ciudad de Guatemala (Ciudad de Guatemala)
DESCRIPTION:Jornada de operaciones para mujer en la Maternidad zona 13\, Ciudad de Guatemala (Ciudad de Guatemala).  \nOperaciones (para no tener más hijos): Ligaduras de trompas.  \nServicio Gratuito.  \nPara más información y reserva de cupo llamar al 3003-1246. 
URL:https://www.wingsguate.org/event/operaciones-ciudad-de-guatemala-ciudad-de-guatemala-32/
CATEGORIES:English,Spanish
END:VEVENT
BEGIN:VEVENT
DTSTART;TZID=UTC:20230719T080000
DTEND;TZID=UTC:20230719T120000
DTSTAMP:20260419T080024
CREATED:20230630T232246Z
LAST-MODIFIED:20230630T232246Z
UID:12491-1689753600-1689768000@www.wingsguate.org
SUMMARY:Operaciones – Totonicapán (Totonicapán)
DESCRIPTION:Jornada de operaciones para mujer y hombre en el Clínica de CDRO\, Totonicapán (Totonicapán).  \nOperaciones (para no tener más hijos): Ligaduras de trompas y vasectomías.  \nServicios Gratuitos.  \nPara más información y reserva de cupo llamar al 3227-4564. 
URL:https://www.wingsguate.org/event/operaciones-totonicapan-totonicapan-13/
CATEGORIES:English,Spanish
END:VEVENT
BEGIN:VEVENT
DTSTART;TZID=UTC:20230719T080000
DTEND;TZID=UTC:20230719T143000
DTSTAMP:20260419T080024
CREATED:20230630T084632Z
LAST-MODIFIED:20230630T084632Z
UID:12309-1689753600-1689777000@www.wingsguate.org
SUMMARY:Anticonceptivos – Raxruha (Alta Verapaz)
DESCRIPTION:Servicios anticonceptivos en el Centro de Atención Permanente Raxruha (Alta Verapaz). \nAnticonceptivos: Colocación de DIU (T de cobre) y Jadelle (implante hormonal).  \nTambién se ofrecerán pruebas de detección de cáncer cervical.  \nServicios gratuitos.  \nPara más información y reserva de cupo llamar al 3227-1513. 
URL:https://www.wingsguate.org/event/anticonceptivos-raxruha-alta-verapaz-3/
CATEGORIES:English,Spanish
END:VEVENT
BEGIN:VEVENT
DTSTART;TZID=UTC:20230719T080000
DTEND;TZID=UTC:20230719T143000
DTSTAMP:20260419T080024
CREATED:20230630T085507Z
LAST-MODIFIED:20230630T085507Z
UID:12326-1689753600-1689777000@www.wingsguate.org
SUMMARY:Anticonceptivos – Purulhá (Baja Verapaz)
DESCRIPTION:Servicios anticonceptivos en el Centro de Atención Permanente Purulhá (Baja Verapaz). \nAnticonceptivos: Colocación de DIU (T de cobre) y Jadelle (implante hormonal).  \nTambién se ofrecerán pruebas de detección de cáncer cervical.  \nServicios gratuitos.  \nPara más información y reserva de cupo llamar al 3002-5055. 
URL:https://www.wingsguate.org/event/anticonceptivos-purulha-baja-verapaz-13/
CATEGORIES:English,Spanish
END:VEVENT
BEGIN:VEVENT
DTSTART;TZID=UTC:20230719T080000
DTEND;TZID=UTC:20230719T143000
DTSTAMP:20260419T080024
CREATED:20230630T221606Z
LAST-MODIFIED:20230630T221606Z
UID:12405-1689753600-1689777000@www.wingsguate.org
SUMMARY:Anticonceptivos – Escuintla (Escuintla)
DESCRIPTION:Servicios anticonceptivos en el Centro de Salud\, Escuintla (Escuintla).\nAnticonceptivos: Colocación de DIU (T de cobre) y Jadelle (implante hormonal). \n\n\nTambién se ofrecerán pruebas de detección de cáncer cervical.  \nServicios gratuitos.  \nPara más información y reserva de cupo llamar al 4511-3527. 
URL:https://www.wingsguate.org/event/anticonceptivos-escuintla-escuintla-27/
CATEGORIES:English,Spanish
END:VEVENT
BEGIN:VEVENT
DTSTART;TZID=UTC:20230719T080000
DTEND;TZID=UTC:20230719T143000
DTSTAMP:20260419T080024
CREATED:20230630T223541Z
LAST-MODIFIED:20230630T223541Z
UID:12435-1689753600-1689777000@www.wingsguate.org
SUMMARY:Anticonceptivos – Chimaltenango (Chimaltenango)
DESCRIPTION:Servicios anticonceptivos en el Children International zona 4\, Chimaltenango (Chimaltenango).  \nAnticonceptivos: Colocación de DIU (T de cobre) y Jadelle (implante hormonal).  \nTambién se ofrecerán pruebas de detección de cáncer cervical.  \nServicios gratuitos.  \nPara más información y reserva de cupo llamar al 4511-5525. 
URL:https://www.wingsguate.org/event/anticonceptivos-chimaltenango-chimaltenango-41/
CATEGORIES:English,Spanish
END:VEVENT
BEGIN:VEVENT
DTSTART;TZID=UTC:20230719T080000
DTEND;TZID=UTC:20230719T143000
DTSTAMP:20260419T080024
CREATED:20230630T225135Z
LAST-MODIFIED:20230630T225135Z
UID:12453-1689753600-1689777000@www.wingsguate.org
SUMMARY:Anticonceptivos – Chicacao (Suchitepéquez)
DESCRIPTION:Servicios anticonceptivos en el Centro de Salud Nahualate\, Chicacao (Suchitepéquez).  \nAnticonceptivos: Colocación de DIU (T de cobre) y Jadelle (implante hormonal).  \nTambién se ofrecerán pruebas de detección de cáncer cervical.  \nServicios gratuitos.  \nPara más información y reserva de cupo llamar al 4511-6520. 
URL:https://www.wingsguate.org/event/anticonceptivos-chicacao-suchitepequez-6/
CATEGORIES:English,Spanish
END:VEVENT
BEGIN:VEVENT
DTSTART;TZID=UTC:20230719T080000
DTEND;TZID=UTC:20230719T143000
DTSTAMP:20260419T080024
CREATED:20230630T231035Z
LAST-MODIFIED:20230630T231035Z
UID:12478-1689753600-1689777000@www.wingsguate.org
SUMMARY:Anticonceptivos – Soloma (Huehuetenango)
DESCRIPTION:Servicios anticonceptivos en el Puesto de Salud Ixtichecan\, Soloma (Huehuetenango).  \nAnticonceptivos: Colocación de DIU (T de cobre) y Jadelle (implante hormonal).  \nTambién se ofrecerán pruebas de detección de cáncer cervical.  \nServicios gratuitos.  \nPara más información y reserva de cupo llamar al 3227-4564. 
URL:https://www.wingsguate.org/event/anticonceptivos-soloma-huehuetenango-2/
CATEGORIES:English,Spanish
END:VEVENT
BEGIN:VEVENT
DTSTART;TZID=UTC:20230719T080000
DTEND;TZID=UTC:20230719T143000
DTSTAMP:20260419T080024
CREATED:20230717T221754Z
LAST-MODIFIED:20230717T221754Z
UID:12576-1689753600-1689777000@www.wingsguate.org
SUMMARY:Anticonceptivos – San Pedro Ayampuc (Ciudad de Guatemala)
DESCRIPTION:Servicios anticonceptivos en el Centro de Salud Las Colinas\, San Pedro Ayampuc (Ciudad de Guatemala).  \nAnticonceptivos: Colocación de DIU (T de cobre) y Jadelle (implante hormonal).  \nTambién se ofrecerán pruebas de detección de cáncer cervical.  \nServicios gratuitos.  \nPara más información y reserva de cupo llamar al 3003-1246. 
URL:https://www.wingsguate.org/event/anticonceptivos-san-pedro-ayampuc-ciudad-de-guatemala-11/
CATEGORIES:English,Spanish
END:VEVENT
END:VCALENDAR