BEGIN:VCALENDAR
VERSION:2.0
PRODID:-//WINGS Guatemala - ECPv6.15.20//NONSGML v1.0//EN
CALSCALE:GREGORIAN
METHOD:PUBLISH
X-WR-CALNAME:WINGS Guatemala
X-ORIGINAL-URL:https://www.wingsguate.org
X-WR-CALDESC:Events for WINGS Guatemala
REFRESH-INTERVAL;VALUE=DURATION:PT1H
X-Robots-Tag:noindex
X-PUBLISHED-TTL:PT1H
BEGIN:VTIMEZONE
TZID:UTC
BEGIN:STANDARD
TZOFFSETFROM:+0000
TZOFFSETTO:+0000
TZNAME:UTC
DTSTART:20220101T000000
END:STANDARD
END:VTIMEZONE
BEGIN:VEVENT
DTSTART;TZID=UTC:20230717T080000
DTEND;TZID=UTC:20230717T123000
DTSTAMP:20260420T070243
CREATED:20230630T223911Z
LAST-MODIFIED:20230630T223911Z
UID:12441-1689580800-1689597000@www.wingsguate.org
SUMMARY:Operaciones – Chimaltenango (Chimaltenango)
DESCRIPTION:Jornada de operaciones para mujer en el Hospital Carroll Berhorsth\, zona 2\, Chimaltenango (Chimaltenango).  \nOperaciones (para no tener más hijos): Ligaduras de trompas.  \nDonativo: Q50.  \nPara más información y reserva de cupo llamar al 4511-5525. 
URL:https://www.wingsguate.org/event/operaciones-chimaltenango-chimaltenango-41/
CATEGORIES:English,Spanish
END:VEVENT
BEGIN:VEVENT
DTSTART;TZID=UTC:20230717T080000
DTEND;TZID=UTC:20230717T143000
DTSTAMP:20260420T070243
CREATED:20230630T075703Z
LAST-MODIFIED:20230630T075703Z
UID:12290-1689580800-1689604200@www.wingsguate.org
SUMMARY:Anticonceptivos – Cobán (Alta Verapaz)
DESCRIPTION:Servicios anticonceptivos en Asociación Alas de Guatemala\, zona 2\, Cobán (Alta Verapaz). \nAnticonceptivos: Colocación de DIU (T de cobre) y Jadelle (implante hormonal).  \nTambién se ofrecerán pruebas de detección de cáncer cervical.  \nServicios gratuitos.  \nPara más información y reserva de cupo llamar al 3227-1513. 
URL:https://www.wingsguate.org/event/anticonceptivos-coban-alta-verapaz-92/
CATEGORIES:English,Spanish
END:VEVENT
BEGIN:VEVENT
DTSTART;TZID=UTC:20230717T080000
DTEND;TZID=UTC:20230717T143000
DTSTAMP:20260420T070243
CREATED:20230630T084402Z
LAST-MODIFIED:20230630T084402Z
UID:12303-1689580800-1689604200@www.wingsguate.org
SUMMARY:Anticonceptivos – Chisec (Alta Verapaz)
DESCRIPTION:Servicios anticonceptivos en el Centro de Atención Permanente Chisec (Alta Verapaz). \nAnticonceptivos: Colocación de DIU (T de cobre) y Jadelle (implante hormonal).  \nTambién se ofrecerán pruebas de detección de cáncer cervical.  \nServicios gratuitos.  \nPara más información y reserva de cupo llamar al 3227-1513. 
URL:https://www.wingsguate.org/event/anticonceptivos-chisec-alta-verapaz-10/
CATEGORIES:English,Spanish
END:VEVENT
BEGIN:VEVENT
DTSTART;TZID=UTC:20230717T080000
DTEND;TZID=UTC:20230717T143000
DTSTAMP:20260420T070243
CREATED:20230630T220403Z
LAST-MODIFIED:20230630T220403Z
UID:12389-1689580800-1689604200@www.wingsguate.org
SUMMARY:Anticonceptivos – San Juan Alotenango (Sacatepéquez)
DESCRIPTION:Servicios anticonceptivos en al Dirección Municipal de la Mujer\, San Juan Alotenango (Sacatepéquez).\nAnticonceptivos: Colocación de DIU (T de cobre) y Jadelle (implante hormonal). \n\n\nTambién se ofrecerán pruebas de detección de cáncer cervical.  \nServicios gratuitos.  \nPara más información y reserva de cupo llamar al 4511-3527. 
URL:https://www.wingsguate.org/event/anticonceptivos-san-juan-alotenango-sacatepequez-17/
CATEGORIES:English,Spanish
END:VEVENT
END:VCALENDAR