BEGIN:VCALENDAR
VERSION:2.0
PRODID:-//WINGS Guatemala - ECPv6.15.20//NONSGML v1.0//EN
CALSCALE:GREGORIAN
METHOD:PUBLISH
X-ORIGINAL-URL:https://www.wingsguate.org
X-WR-CALDESC:Events for WINGS Guatemala
REFRESH-INTERVAL;VALUE=DURATION:PT1H
X-Robots-Tag:noindex
X-PUBLISHED-TTL:PT1H
BEGIN:VTIMEZONE
TZID:UTC
BEGIN:STANDARD
TZOFFSETFROM:+0000
TZOFFSETTO:+0000
TZNAME:UTC
DTSTART:20220101T000000
END:STANDARD
END:VTIMEZONE
BEGIN:VEVENT
DTSTART;TZID=UTC:20230711T080000
DTEND;TZID=UTC:20230711T120000
DTSTAMP:20260419T092141
CREATED:20230630T221828Z
LAST-MODIFIED:20230630T221828Z
UID:12409-1689062400-1689076800@www.wingsguate.org
SUMMARY:Operaciones – San José (Escuintla)
DESCRIPTION:Jornada de operaciones para mujer y hombre en el Centro de Atención Permanente de San José (Escuintla).  \nOperaciones (para no tener más hijos): Ligaduras de trompas y vasectomía.  \nServicios Gratuitos.  \nPara más información y reserva de cupo llamar al 4511-3527. 
URL:https://www.wingsguate.org/event/operaciones-san-jose-escuintla-6/
CATEGORIES:English,Spanish
END:VEVENT
BEGIN:VEVENT
DTSTART;TZID=UTC:20230711T080000
DTEND;TZID=UTC:20230711T133000
DTSTAMP:20260419T092141
CREATED:20230701T004936Z
LAST-MODIFIED:20230701T004936Z
UID:12540-1689062400-1689082200@www.wingsguate.org
SUMMARY:Anticonceptivos – Pueblo Nuevo Viñas (Santa Rosa)
DESCRIPTION:Servicios anticonceptivos en el Puesto de Salud El Pescador\, Pueblo Nuevo Viñas (Santa Rosa).  \nAnticonceptivos: Colocación de DIU (T de cobre) y Jadelle (implante hormonal).  \nTambién se ofrecerán pruebas de detección de cáncer cervical.  \nServicios gratuitos.  \nPara más información y reserva de cupo llamar al 3063-5196. 
URL:https://www.wingsguate.org/event/anticonceptivos-pueblo-nuevo-vinas-santa-rosa-3/
CATEGORIES:English,Spanish
END:VEVENT
BEGIN:VEVENT
DTSTART;TZID=UTC:20230711T080000
DTEND;TZID=UTC:20230711T143000
DTSTAMP:20260419T092141
CREATED:20230630T085759Z
LAST-MODIFIED:20230630T085759Z
UID:12330-1689062400-1689085800@www.wingsguate.org
SUMMARY:Anticonceptivos – Uspantan (Quiché)
DESCRIPTION:Servicios anticonceptivos en el Centro de Convergencia Aldea Tierra Blanca Perricón\, Uspantan (Quiché).  \nAnticonceptivos: Colocación de DIU (T de cobre) y Jadelle (implante hormonal).  \nTambién se ofrecerán pruebas de detección de cáncer cervical.  \nServicios gratuitos.  \nPara más información y reserva de cupo llamar al 3002-5055. 
URL:https://www.wingsguate.org/event/anticonceptivos-uspantan-quiche-5/
CATEGORIES:English,Spanish
END:VEVENT
BEGIN:VEVENT
DTSTART;TZID=UTC:20230711T080000
DTEND;TZID=UTC:20230711T143000
DTSTAMP:20260419T092141
CREATED:20230630T090650Z
LAST-MODIFIED:20230630T090650Z
UID:12343-1689062400-1689085800@www.wingsguate.org
SUMMARY:Anticonceptivos – Paxtate (Izabal)
DESCRIPTION:Servicios anticonceptivos en el Puesto de Salud Aldea Playa Paxtate (Izabal).  \nAnticonceptivos: Colocación de DIU (T de cobre) y Jadelle (implante hormonal).  \nTambién se ofrecerán pruebas de detección de cáncer cervical.  \nServicios gratuitos.  \nPara más información y reserva de cupo llamar al 3002-5055. 
URL:https://www.wingsguate.org/event/anticonceptivos-paxtate-izabal/
CATEGORIES:English,Spanish
END:VEVENT
BEGIN:VEVENT
DTSTART;TZID=UTC:20230711T080000
DTEND;TZID=UTC:20230711T143000
DTSTAMP:20260419T092141
CREATED:20230630T211335Z
LAST-MODIFIED:20230630T211335Z
UID:12355-1689062400-1689085800@www.wingsguate.org
SUMMARY:Anticonceptivos – Chinautla (Ciudad de Guatemala)
DESCRIPTION:Servicios anticonceptivos en el Centro de Salud 6 de marzo\, Chinautla (Ciudad de Guatemala).  \nAnticonceptivos: Colocación de DIU (T de cobre) y Jadelle (implante hormonal).  \nTambién se ofrecerán pruebas de detección de cáncer cervical.  \nServicios gratuitos.  \nPara más información y reserva de cupo llamar al 3003-1246. 
URL:https://www.wingsguate.org/event/anticonceptivos-chinautla-ciudad-de-guatemala-9/
CATEGORIES:English,Spanish
END:VEVENT
BEGIN:VEVENT
DTSTART;TZID=UTC:20230711T080000
DTEND;TZID=UTC:20230711T143000
DTSTAMP:20260419T092141
CREATED:20230630T223212Z
LAST-MODIFIED:20230630T223212Z
UID:12427-1689062400-1689085800@www.wingsguate.org
SUMMARY:Anticonceptivos – Parramos (Chimaltenango)
DESCRIPTION:Servicios anticonceptivos en el Salón Municipal de Parramos (Chimaltenango).  \nAnticonceptivos: Colocación de DIU (T de cobre) y Jadelle (implante hormonal).  \nTambién se ofrecerán pruebas de detección de cáncer cervical.  \nServicios gratuitos.  \nPara más información y reserva de cupo llamar al 4511-5525. 
URL:https://www.wingsguate.org/event/anticonceptivos-parramos-chimaltenango-13/
CATEGORIES:English,Spanish
END:VEVENT
BEGIN:VEVENT
DTSTART;TZID=UTC:20230711T080000
DTEND;TZID=UTC:20230711T143000
DTSTAMP:20260419T092141
CREATED:20230630T232352Z
LAST-MODIFIED:20230630T232352Z
UID:12493-1689062400-1689085800@www.wingsguate.org
SUMMARY:Operaciones – San Francisco El Alto (Totonicapán)
DESCRIPTION:Jornada de operaciones para mujer y hombre en el Centro de Salud San Francisco El Alto (Totonicapán).  \nOperaciones (para no tener más hijos): Ligaduras de trompas y vasectomías.  \nServicios Gratuitos.  \nPara más información y reserva de cupo llamar al 3227-4564. 
URL:https://www.wingsguate.org/event/operaciones-san-francisco-el-alto-totonicapan/
CATEGORIES:English,Spanish
END:VEVENT
BEGIN:VEVENT
DTSTART;TZID=UTC:20230711T080000
DTEND;TZID=UTC:20230711T143000
DTSTAMP:20260419T092141
CREATED:20230701T003331Z
LAST-MODIFIED:20230701T003331Z
UID:12529-1689062400-1689085800@www.wingsguate.org
SUMMARY:Anticonceptivos – San Cristobal Cucho (San Marcos)
DESCRIPTION:Servicios anticonceptivos en el Puesto de Salud Las Majadas\, San Cristobal Cucho (San Marcos).  \nAnticonceptivos: Colocación de DIU (T de cobre) y Jadelle (implante hormonal).  \nTambién se ofrecerán pruebas de detección de cáncer cervical.  \nServicios gratuitos.  \nPara más información y reserva de cupo llamar al 4511-7490. 
URL:https://www.wingsguate.org/event/anticonceptivos-san-cristobal-cucho-san-marcos-5/
CATEGORIES:English,Spanish
END:VEVENT
BEGIN:VEVENT
DTSTART;TZID=UTC:20230711T080000
DTEND;TZID=UTC:20230711T143000
DTSTAMP:20260419T092141
CREATED:20230701T005029Z
LAST-MODIFIED:20230701T005029Z
UID:12542-1689062400-1689085800@www.wingsguate.org
SUMMARY:Anticonceptivos – Pueblo Nuevo Viñas (Santa Rosa)
DESCRIPTION:Servicios anticonceptivos en el Puesto de Salud La Gavia\, Pueblo Nuevo Viñas (Santa Rosa).  \nAnticonceptivos: Colocación de DIU (T de cobre) y Jadelle (implante hormonal).  \nTambién se ofrecerán pruebas de detección de cáncer cervical.  \nServicios gratuitos.  \nPara más información y reserva de cupo llamar al 3063-5196. 
URL:https://www.wingsguate.org/event/anticonceptivos-pueblo-nuevo-vinas-santa-rosa-4/
CATEGORIES:English,Spanish
END:VEVENT
END:VCALENDAR