BEGIN:VCALENDAR
VERSION:2.0
PRODID:-//WINGS Guatemala - ECPv6.15.20//NONSGML v1.0//EN
CALSCALE:GREGORIAN
METHOD:PUBLISH
X-WR-CALNAME:WINGS Guatemala
X-ORIGINAL-URL:https://www.wingsguate.org
X-WR-CALDESC:Events for WINGS Guatemala
REFRESH-INTERVAL;VALUE=DURATION:PT1H
X-Robots-Tag:noindex
X-PUBLISHED-TTL:PT1H
BEGIN:VTIMEZONE
TZID:UTC
BEGIN:STANDARD
TZOFFSETFROM:+0000
TZOFFSETTO:+0000
TZNAME:UTC
DTSTART:20210101T000000
END:STANDARD
END:VTIMEZONE
BEGIN:VEVENT
DTSTART;TZID=UTC:20221109T080000
DTEND;TZID=UTC:20221109T120000
DTSTAMP:20260420T120232
CREATED:20221103T001805Z
LAST-MODIFIED:20221103T001805Z
UID:10422-1667980800-1667995200@www.wingsguate.org
SUMMARY:Vasectomías – Huehuetenango (Huehuetenango)
DESCRIPTION:Vasectomías en Casa Materna\, Huehuetenango (Huehuetenango).  \nDonación: Q50.  \nVasectomía: Operación para hombres para no tener más hijos.  \nPara más información y reserva de cupo\, llamar al 3227-4564. 
URL:https://www.wingsguate.org/event/vasectomias-huehuetenango-huehuetenango-2/
CATEGORIES:English,Spanish
END:VEVENT
BEGIN:VEVENT
DTSTART;TZID=UTC:20221109T080000
DTEND;TZID=UTC:20221109T143000
DTSTAMP:20260420T120232
CREATED:20221102T212743Z
LAST-MODIFIED:20221102T212830Z
UID:10306-1667980800-1668004200@www.wingsguate.org
SUMMARY:Anticonceptivos – Cobán (Alta Verapaz)
DESCRIPTION:Servicios anticonceptivos en Asociación Alas de Guatemala\, 2da calle 11-51 zona 2\, Cobán (Alta Verapaz). \nAnticonceptivos: Colocación de DIU (T de cobre) y Jadelle (implante hormonal).  \nTambién se ofrecerán pruebas de detección de cáncer cervical.  \nServicios gratuitos.  \nPara más información y reserva de cupo\, llamar al 3227-1513. 
URL:https://www.wingsguate.org/event/anticonceptivos-coban-alta-verapaz-55/
CATEGORIES:English,Spanish
END:VEVENT
BEGIN:VEVENT
DTSTART;TZID=UTC:20221109T080000
DTEND;TZID=UTC:20221109T143000
DTSTAMP:20260420T120232
CREATED:20221102T222026Z
LAST-MODIFIED:20221102T222026Z
UID:10335-1667980800-1668004200@www.wingsguate.org
SUMMARY:Anticonceptivos – El Estor (Izabal)
DESCRIPTION:Servicios anticonceptivos en el Puesto de Salud Sexan\, El Estor (Izabal).  \nAnticonceptivos: Colocación de DIU (T de cobre) y Jadelle (implante hormonal).  \nTambién se ofrecerán pruebas de detección de cáncer cervical.  \nServicios gratuitos.  \nPara más información y reserva de cupo\, llamar al 3227-1513. 
URL:https://www.wingsguate.org/event/anticonceptivos-el-estor-izabal-5/
CATEGORIES:English,Spanish
END:VEVENT
BEGIN:VEVENT
DTSTART;TZID=UTC:20221109T080000
DTEND;TZID=UTC:20221109T143000
DTSTAMP:20260420T120232
CREATED:20221102T222142Z
LAST-MODIFIED:20221102T222142Z
UID:10338-1667980800-1668004200@www.wingsguate.org
SUMMARY:Anticonceptivos – Livingston (Izabal)
DESCRIPTION:Servicios anticonceptivos en el Centro de Salud Río Dulce\, Livingston (Izabal).  \nAnticonceptivos: Colocación de DIU (T de cobre) y Jadelle (implante hormonal).  \nTambién se ofrecerán pruebas de detección de cáncer cervical.  \nServicios gratuitos.  \nPara más información y reserva de cupo\, llamar al 3227-1513. 
URL:https://www.wingsguate.org/event/anticonceptivos-livingston-izabal-6/
CATEGORIES:English,Spanish
END:VEVENT
BEGIN:VEVENT
DTSTART;TZID=UTC:20221109T080000
DTEND;TZID=UTC:20221109T143000
DTSTAMP:20260420T120232
CREATED:20221102T230625Z
LAST-MODIFIED:20221102T230625Z
UID:10372-1667980800-1668004200@www.wingsguate.org
SUMMARY:Anticonceptivos – Poaquil (Chimaltenango)
DESCRIPTION:Servicios anticonceptivos en Centro Comunitario Poaquil (Chimaltenango).  \nAnticonceptivos: Colocación de DIU (T de cobre) y Jadelle (implante hormonal).  \nTambién se ofrecerán pruebas de detección de cáncer cervical.  \nServicios gratuitos.  \nPara más información y reserva de cupo\, llamar al 4511-5525. 
URL:https://www.wingsguate.org/event/anticonceptivos-poaquil-chimaltenango-6/
CATEGORIES:English,Spanish
END:VEVENT
BEGIN:VEVENT
DTSTART;TZID=UTC:20221109T080000
DTEND;TZID=UTC:20221109T143000
DTSTAMP:20260420T120232
CREATED:20221102T230808Z
LAST-MODIFIED:20221102T230808Z
UID:10374-1667980800-1668004200@www.wingsguate.org
SUMMARY:Anticonceptivos – Yepocapa (Chimaltenango)
DESCRIPTION:Servicios anticonceptivos en Centro de Atención Permanente de Yepocapa (Chimaltenango).  \nAnticonceptivos: Colocación de DIU (T de cobre) y Jadelle (implante hormonal).  \nTambién se ofrecerán pruebas de detección de cáncer cervical.  \nServicios gratuitos.  \nPara más información y reserva de cupo\, llamar al 4511-5525. 
URL:https://www.wingsguate.org/event/anticonceptivos-yepocapa-chimaltenango-18/
CATEGORIES:English,Spanish
END:VEVENT
BEGIN:VEVENT
DTSTART;TZID=UTC:20221109T080000
DTEND;TZID=UTC:20221109T143000
DTSTAMP:20260420T120232
CREATED:20221102T235518Z
LAST-MODIFIED:20221102T235518Z
UID:10418-1667980800-1668004200@www.wingsguate.org
SUMMARY:Operaciones – Ciudad de Guatemala (Ciudad de Guatemala)
DESCRIPTION:Jornada de operaciones para mujer en La Maternidad de zona 18\, Ciudad de Guatemala (Ciudad de Guatemala).  \nOperaciones (para no tener más hijos): Ligaduras de trompas.  \nServicio Gratuito. \nPara más información y reserva de cupo\, llamar al 3003-1246. 
URL:https://www.wingsguate.org/event/operaciones-ciudad-de-guatemala-ciudad-de-guatemala-16/
CATEGORIES:English,Spanish
END:VEVENT
BEGIN:VEVENT
DTSTART;TZID=UTC:20221109T080000
DTEND;TZID=UTC:20221109T143000
DTSTAMP:20260420T120232
CREATED:20221103T202216Z
LAST-MODIFIED:20221103T202216Z
UID:10436-1667980800-1668004200@www.wingsguate.org
SUMMARY:Anticonceptivos – Santo Domingo (Suchitepéquez)
DESCRIPTION:Servicios anticonceptivos en el Centro de Salud de Santo Domingo (Suchitepéquez).  \nAnticonceptivos: Colocación de DIU (T de cobre) y Jadelle (implante hormonal).  \nTambién se ofrecerán pruebas de detección de cáncer cervical.  \nServicios gratuitos.  \nPara más información y reserva de cupo\, llamar al 4511-6520. 
URL:https://www.wingsguate.org/event/anticonceptivos-santo-domingo-suchitepequez-21/
CATEGORIES:English,Spanish
END:VEVENT
BEGIN:VEVENT
DTSTART;TZID=UTC:20221109T080000
DTEND;TZID=UTC:20221109T143000
DTSTAMP:20260420T120232
CREATED:20221103T202315Z
LAST-MODIFIED:20221103T202315Z
UID:10438-1667980800-1668004200@www.wingsguate.org
SUMMARY:Anticonceptivos – San Francisco Zapotitlán (Suchitepéquez)
DESCRIPTION:Servicios anticonceptivos en la Dirección Municipal de La Mujer\, San Francisco Zapotitlán (Suchitepéquez).  \nAnticonceptivos: Colocación de DIU (T de cobre) y Jadelle (implante hormonal).  \nTambién se ofrecerán pruebas de detección de cáncer cervical.  \nServicios gratuitos.  \nPara más información y reserva de cupo\, llamar al 4511-6520. 
URL:https://www.wingsguate.org/event/anticonceptivos-san-francisco-zapotitlan-suchitepequez-15/
CATEGORIES:English,Spanish
END:VEVENT
BEGIN:VEVENT
DTSTART;TZID=UTC:20221109T080000
DTEND;TZID=UTC:20221109T143000
DTSTAMP:20260420T120232
CREATED:20221103T205714Z
LAST-MODIFIED:20221103T205714Z
UID:10458-1667980800-1668004200@www.wingsguate.org
SUMMARY:Anticonceptivos – Colomba Costa Cuca (Quetzaltenango)
DESCRIPTION:Servicios anticonceptivos en el Puesto de Salud Aldea El Pensamiento\, Colomba Costa Cuca (Quetzaltenango).  \nAnticonceptivos: Colocación de DIU (T de cobre) y Jadelle (implante hormonal).  \nTambién se ofrecerán pruebas de detección de cáncer cervical.  \nServicios gratuitos.  \nPara más información y reserva de cupo\, llamar al 4511-7490. 
URL:https://www.wingsguate.org/event/anticonceptivos-colomba-costa-cuca-quetzaltenango-15/
CATEGORIES:English,Spanish
END:VEVENT
END:VCALENDAR