BEGIN:VCALENDAR
VERSION:2.0
PRODID:-//WINGS Guatemala - ECPv6.15.20//NONSGML v1.0//EN
CALSCALE:GREGORIAN
METHOD:PUBLISH
X-WR-CALNAME:WINGS Guatemala
X-ORIGINAL-URL:https://www.wingsguate.org
X-WR-CALDESC:Events for WINGS Guatemala
REFRESH-INTERVAL;VALUE=DURATION:PT1H
X-Robots-Tag:noindex
X-PUBLISHED-TTL:PT1H
BEGIN:VTIMEZONE
TZID:UTC
BEGIN:STANDARD
TZOFFSETFROM:+0000
TZOFFSETTO:+0000
TZNAME:UTC
DTSTART:20210101T000000
END:STANDARD
END:VTIMEZONE
BEGIN:VEVENT
DTSTART;TZID=UTC:20221108T080000
DTEND;TZID=UTC:20221108T123000
DTSTAMP:20260421T105512
CREATED:20221102T235359Z
LAST-MODIFIED:20221102T235359Z
UID:10416-1667894400-1667910600@www.wingsguate.org
SUMMARY:Operaciones – Ciudad de Guatemala (Ciudad de Guatemala)
DESCRIPTION:Jornada de operaciones para mujer en el Centro de Atención Permanente Amparo II\, zona 7 Ciudad de Guatemala (Ciudad de Guatemala).  \nOperaciones (para no tener más hijos): Ligaduras de trompas.  \nServicio Gratuito. \nPara más información y reserva de cupo\, llamar al 3003-1246. 
URL:https://www.wingsguate.org/event/operaciones-ciudad-de-guatemala-ciudad-de-guatemala-15/
CATEGORIES:English,Spanish
END:VEVENT
BEGIN:VEVENT
DTSTART;TZID=UTC:20221108T080000
DTEND;TZID=UTC:20221108T143000
DTSTAMP:20260421T105512
CREATED:20221102T221823Z
LAST-MODIFIED:20221102T221823Z
UID:10330-1667894400-1667917800@www.wingsguate.org
SUMMARY:Anticonceptivos – El Estor (Izabal)
DESCRIPTION:Servicios anticonceptivos en el Puesto de Salud El Bongo\, El Estor (Izabal).  \nAnticonceptivos: Colocación de DIU (T de cobre) y Jadelle (implante hormonal).  \nTambién se ofrecerán pruebas de detección de cáncer cervical.  \nServicios gratuitos.  \nPara más información y reserva de cupo\, llamar al 3227-1513. 
URL:https://www.wingsguate.org/event/anticonceptivos-el-estor-izabal-3/
CATEGORIES:English,Spanish
END:VEVENT
BEGIN:VEVENT
DTSTART;TZID=UTC:20221108T080000
DTEND;TZID=UTC:20221108T143000
DTSTAMP:20260421T105512
CREATED:20221102T221918Z
LAST-MODIFIED:20221102T221918Z
UID:10333-1667894400-1667917800@www.wingsguate.org
SUMMARY:Anticonceptivos – Livingston (Izabal)
DESCRIPTION:Servicios anticonceptivos en el Puesto de Salud Buenos Aires\, Livingston (Izabal).  \nAnticonceptivos: Colocación de DIU (T de cobre) y Jadelle (implante hormonal).  \nTambién se ofrecerán pruebas de detección de cáncer cervical.  \nServicios gratuitos.  \nPara más información y reserva de cupo\, llamar al 3227-1513. 
URL:https://www.wingsguate.org/event/anticonceptivos-livingston-izabal-5/
CATEGORIES:English,Spanish
END:VEVENT
BEGIN:VEVENT
DTSTART;TZID=UTC:20221108T080000
DTEND;TZID=UTC:20221108T143000
DTSTAMP:20260421T105512
CREATED:20221102T230456Z
LAST-MODIFIED:20221102T230456Z
UID:10370-1667894400-1667917800@www.wingsguate.org
SUMMARY:Anticonceptivos – Patzicía (Chimaltenango)
DESCRIPTION:Servicios anticonceptivos en Centro Comunitario\, Aldea Los Cerritos Asunción\, Patzicía (Chimaltenango).  \nAnticonceptivos: Colocación de DIU (T de cobre) y Jadelle (implante hormonal).  \nTambién se ofrecerán pruebas de detección de cáncer cervical.  \nServicios gratuitos.  \nPara más información y reserva de cupo\, llamar al 4511-5525. 
URL:https://www.wingsguate.org/event/anticonceptivos-patzicia-chimaltenango-29/
CATEGORIES:English,Spanish
END:VEVENT
BEGIN:VEVENT
DTSTART;TZID=UTC:20221108T080000
DTEND;TZID=UTC:20221108T143000
DTSTAMP:20260421T105512
CREATED:20221102T234353Z
LAST-MODIFIED:20221102T234353Z
UID:10402-1667894400-1667917800@www.wingsguate.org
SUMMARY:Anticonceptivos – San Juan Sacatepéquez (Ciudad de Guatemala)
DESCRIPTION:Servicios anticonceptivos en el Centro de Salud de San Juan Sacatepéquez (Ciudad de Guatemala).  \nAnticonceptivos: Colocación de DIU (T de cobre) y Jadelle (implante hormonal).  \nTambién se ofrecerán pruebas de detección de cáncer cervical.  \nServicios gratuitos.  \nPara más información y reserva de cupo\, llamar al 3003-1246. 
URL:https://www.wingsguate.org/event/anticonceptivos-san-juan-sacatepequez-ciudad-de-guatemala-16/
CATEGORIES:English,Spanish
END:VEVENT
BEGIN:VEVENT
DTSTART;TZID=UTC:20221108T080000
DTEND;TZID=UTC:20221108T143000
DTSTAMP:20260421T105512
CREATED:20221103T105228Z
LAST-MODIFIED:20221103T105228Z
UID:10424-1667894400-1667917800@www.wingsguate.org
SUMMARY:Anticonceptivos – San Francisco El Alto (Totonicapán)
DESCRIPTION:Servicios anticonceptivos en el Centro de Salud\, San Francisco El Alto (Totonicapán).  \nAnticonceptivos: Colocación de DIU (T de cobre) y Jadelle (implante hormonal).  \nTambién se ofrecerán pruebas de detección de cáncer cervical.  \nServicios gratuitos.  \nPara más información y reserva de cupo\, llamar al 3227-4564. 
URL:https://www.wingsguate.org/event/anticonceptivos-san-francisco-el-alto-totonicapan-30/
CATEGORIES:English,Spanish
END:VEVENT
BEGIN:VEVENT
DTSTART;TZID=UTC:20221108T080000
DTEND;TZID=UTC:20221108T143000
DTSTAMP:20260421T105512
CREATED:20221103T202031Z
LAST-MODIFIED:20221103T202031Z
UID:10432-1667894400-1667917800@www.wingsguate.org
SUMMARY:Anticonceptivos – Río Bravo (Suchitepéquez)
DESCRIPTION:Servicios anticonceptivos en el Puesto de Salud Aldea Morazan\, Río Bravo (Suchitepéquez).  \nAnticonceptivos: Colocación de DIU (T de cobre) y Jadelle (implante hormonal).  \nTambién se ofrecerán pruebas de detección de cáncer cervical.  \nServicios gratuitos.  \nPara más información y reserva de cupo\, llamar al 4511-6520. 
URL:https://www.wingsguate.org/event/anticonceptivos-rio-bravo-suchitepequez-8/
CATEGORIES:English,Spanish
END:VEVENT
BEGIN:VEVENT
DTSTART;TZID=UTC:20221108T080000
DTEND;TZID=UTC:20221108T143000
DTSTAMP:20260421T105512
CREATED:20221103T202129Z
LAST-MODIFIED:20221103T202129Z
UID:10434-1667894400-1667917800@www.wingsguate.org
SUMMARY:Anticonceptivos – Santo Tomás La Unión (Suchitepéquez)
DESCRIPTION:Servicios anticonceptivos en el Centro de Salud de Santo Tomás La Unión (Suchitepéquez).  \nAnticonceptivos: Colocación de DIU (T de cobre) y Jadelle (implante hormonal).  \nTambién se ofrecerán pruebas de detección de cáncer cervical.  \nServicios gratuitos.  \nPara más información y reserva de cupo\, llamar al 4511-6520. 
URL:https://www.wingsguate.org/event/anticonceptivos-santo-tomas-la-union-suchitepequez-4/
CATEGORIES:English,Spanish
END:VEVENT
BEGIN:VEVENT
DTSTART;TZID=UTC:20221108T080000
DTEND;TZID=UTC:20221108T143000
DTSTAMP:20260421T105512
CREATED:20221103T205607Z
LAST-MODIFIED:20221103T205607Z
UID:10456-1667894400-1667917800@www.wingsguate.org
SUMMARY:Anticonceptivos – Quetzaltenango (Quetzaltenango)
DESCRIPTION:Servicios anticonceptivos en Asociación Alas de Guatemala\, zona 1 de Quetzaltenango (Quetzaltenango).  \nAnticonceptivos: Colocación de DIU (T de cobre) y Jadelle (implante hormonal).  \nTambién se ofrecerán pruebas de detección de cáncer cervical.  \nServicios gratuitos.  \nPara más información y reserva de cupo\, llamar al 4511-7490. 
URL:https://www.wingsguate.org/event/anticonceptivos-quetzaltenango-quetzaltenango-92/
CATEGORIES:English,Spanish
END:VEVENT
END:VCALENDAR