BEGIN:VCALENDAR
VERSION:2.0
PRODID:-//WINGS Guatemala - ECPv6.15.20//NONSGML v1.0//EN
CALSCALE:GREGORIAN
METHOD:PUBLISH
X-ORIGINAL-URL:https://www.wingsguate.org
X-WR-CALDESC:Events for WINGS Guatemala
REFRESH-INTERVAL;VALUE=DURATION:PT1H
X-Robots-Tag:noindex
X-PUBLISHED-TTL:PT1H
BEGIN:VTIMEZONE
TZID:UTC
BEGIN:STANDARD
TZOFFSETFROM:+0000
TZOFFSETTO:+0000
TZNAME:UTC
DTSTART:20210101T000000
END:STANDARD
END:VTIMEZONE
BEGIN:VEVENT
DTSTART;TZID=UTC:20221107T080000
DTEND;TZID=UTC:20221107T143000
DTSTAMP:20260421T050420
CREATED:20221102T225335Z
LAST-MODIFIED:20221102T225335Z
UID:10356-1667808000-1667831400@www.wingsguate.org
SUMMARY:Anticonceptivos – San Miguel Dueñas (Sacatepéquez)
DESCRIPTION:Servicios anticonceptivos en Clínicas Centro Madre Teresa\, San Miguel Dueñas (Sacatepéquez).\nAnticonceptivos: Colocación de DIU (T de cobre) y Jadelle (implante hormonal). \n\n\nTambién se ofrecerán pruebas de detección de cáncer cervical.  \nServicios gratuitos.  \nPara más información y reserva de cupo\, llamar al 4511-3527. 
URL:https://www.wingsguate.org/event/anticonceptivos-san-miguel-duenas-sacatepequez-21/
CATEGORIES:English,Spanish
END:VEVENT
BEGIN:VEVENT
DTSTART;TZID=UTC:20221107T080000
DTEND;TZID=UTC:20221107T143000
DTSTAMP:20260421T050420
CREATED:20221102T230404Z
LAST-MODIFIED:20221102T230404Z
UID:10368-1667808000-1667831400@www.wingsguate.org
SUMMARY:Anticonceptivos – Tecpán (Chimaltenango)
DESCRIPTION:Servicios anticonceptivos en Puesto de Salud Aldea Chirijuyu\, Tecpán (Chimaltenango).  \nAnticonceptivos: Colocación de DIU (T de cobre) y Jadelle (implante hormonal).  \nTambién se ofrecerán pruebas de detección de cáncer cervical.  \nServicios gratuitos.  \nPara más información y reserva de cupo\, llamar al 4511-5525. 
URL:https://www.wingsguate.org/event/anticonceptivos-tecpan-chimaltenango-54/
CATEGORIES:English,Spanish
END:VEVENT
BEGIN:VEVENT
DTSTART;TZID=UTC:20221107T080000
DTEND;TZID=UTC:20221107T143000
DTSTAMP:20260421T050420
CREATED:20221102T234256Z
LAST-MODIFIED:20221102T234256Z
UID:10400-1667808000-1667831400@www.wingsguate.org
SUMMARY:Anticonceptivos – Mixco (Ciudad de Guatemala)
DESCRIPTION:Servicios anticonceptivos en el Centro de Salud de Ciudad Satélite\, Mixco (Ciudad de Guatemala).  \nAnticonceptivos: Colocación de DIU (T de cobre) y Jadelle (implante hormonal).  \nTambién se ofrecerán pruebas de detección de cáncer cervical.  \nServicios gratuitos.  \nPara más información y reserva de cupo\, llamar al 3003-1246. 
URL:https://www.wingsguate.org/event/anticonceptivos-mixco-ciudad-de-guatemala-12/
CATEGORIES:English,Spanish
END:VEVENT
END:VCALENDAR