BEGIN:VCALENDAR
VERSION:2.0
PRODID:-//WINGS Guatemala - ECPv6.15.20//NONSGML v1.0//EN
CALSCALE:GREGORIAN
METHOD:PUBLISH
X-ORIGINAL-URL:https://www.wingsguate.org
X-WR-CALDESC:Events for WINGS Guatemala
REFRESH-INTERVAL;VALUE=DURATION:PT1H
X-Robots-Tag:noindex
X-PUBLISHED-TTL:PT1H
BEGIN:VTIMEZONE
TZID:UTC
BEGIN:STANDARD
TZOFFSETFROM:+0000
TZOFFSETTO:+0000
TZNAME:UTC
DTSTART:20210101T000000
END:STANDARD
END:VTIMEZONE
BEGIN:VEVENT
DTSTART;TZID=UTC:20221006T080000
DTEND;TZID=UTC:20221006T140000
DTSTAMP:20260420T003424
CREATED:20221004T030151Z
LAST-MODIFIED:20221004T030151Z
UID:10089-1665043200-1665064800@www.wingsguate.org
SUMMARY:Anticonceptivos – Ciudad Vieja (Sacatepéquez)
DESCRIPTION:Servicios anticonceptivos en el Puesto de Salud Ciudad Vieja (Sacatepéquez).\nAnticonceptivos: Colocación de DIU (T de cobre) y Jadelle (implante hormonal). \n\n\nTambién se ofrecerán pruebas de detección de cáncer cervical.  \nServicios gratuitos.  \nPara más información y reserva de cupo\, llamar al 4511-3527. 
URL:https://www.wingsguate.org/event/anticonceptivos-ciudad-vieja-sacatepequez-16/
CATEGORIES:English,Spanish
END:VEVENT
BEGIN:VEVENT
DTSTART;TZID=UTC:20221006T080000
DTEND;TZID=UTC:20221006T143000
DTSTAMP:20260420T003424
CREATED:20220928T033115Z
LAST-MODIFIED:20220928T033115Z
UID:10050-1665043200-1665066600@www.wingsguate.org
SUMMARY:Anticonceptivos – Fray Bartolomé de las Casas (Alta Verapaz)
DESCRIPTION:Servicios anticonceptivos en el Puesto de Salud Bolocon\, Fray Bartolomé de las Casas (Alta Verapaz). \nAnticonceptivos: Colocación de DIU (T de cobre) y Jadelle (implante hormonal).  \nTambién se ofrecerán pruebas de detección de cáncer cervical.  \nServicios gratuitos.  \nPara más información y reserva de cupo\, llamar al 3227-1513. 
URL:https://www.wingsguate.org/event/anticonceptivos-fray-bartolome-de-las-casas-alta-verapaz-6/
CATEGORIES:English,Spanish
END:VEVENT
BEGIN:VEVENT
DTSTART;TZID=UTC:20221006T080000
DTEND;TZID=UTC:20221006T143000
DTSTAMP:20260420T003424
CREATED:20221004T034351Z
LAST-MODIFIED:20221004T034351Z
UID:10105-1665043200-1665066600@www.wingsguate.org
SUMMARY:Anticonceptivos – Patzicía (Chimaltenango)
DESCRIPTION:Servicios anticonceptivos en Centro Comunitario El Sitan\, Patzicía (Chimaltenango).  \nAnticonceptivos: Colocación de DIU (T de cobre) y Jadelle (implante hormonal).  \nTambién se ofrecerán pruebas de detección de cáncer cervical.  \nServicios gratuitos.  \nPara más información y reserva de cupo\, llamar al 4511-5525. 
URL:https://www.wingsguate.org/event/anticonceptivos-patzicia-chimaltenango-27/
CATEGORIES:English,Spanish
END:VEVENT
BEGIN:VEVENT
DTSTART;TZID=UTC:20221006T080000
DTEND;TZID=UTC:20221006T143000
DTSTAMP:20260420T003424
CREATED:20221004T225833Z
LAST-MODIFIED:20221004T225833Z
UID:10139-1665043200-1665066600@www.wingsguate.org
SUMMARY:Anticonceptivos – Ciudad de Guatemala (Ciudad de Guatemala)
DESCRIPTION:Servicios anticonceptivos en Pequeños Gigantes zona 12\, Ciudad de Guatemala (Ciudad de Guatemala).  \nAnticonceptivos: Colocación de DIU (T de cobre) y Jadelle (implante hormonal).  \nTambién se ofrecerán pruebas de detección de cáncer cervical.  \nServicios gratuitos.  \nPara más información y reserva de cupo\, llamar al 3003-1246. 
URL:https://www.wingsguate.org/event/anticonceptivos-ciudad-de-guatemala-ciudad-de-guatemala-17/
CATEGORIES:English,Spanish
END:VEVENT
BEGIN:VEVENT
DTSTART;TZID=UTC:20221006T080000
DTEND;TZID=UTC:20221006T143000
DTSTAMP:20260420T003424
CREATED:20221004T231826Z
LAST-MODIFIED:20221004T231826Z
UID:10169-1665043200-1665066600@www.wingsguate.org
SUMMARY:Operaciones – Santa Catarina Pinula (Ciudad de Guatemala)
DESCRIPTION:Jornada de operaciones para mujer y hombre en La Maternidad de Santa Catarina Pinula (Ciudad de Guatemala).  \nOperaciones (para no tener más hijos): Ligaduras de trompas y Vasectomías.  \nServicios Gratuitos \nPara más información y reserva de cupo\, llamar al 3003-1246. 
URL:https://www.wingsguate.org/event/operaciones-santa-catarina-pinula-ciudad-de-guatemala-2/
CATEGORIES:English,Spanish
END:VEVENT
BEGIN:VEVENT
DTSTART;TZID=UTC:20221006T080000
DTEND;TZID=UTC:20221006T143000
DTSTAMP:20260420T003424
CREATED:20221005T033322Z
LAST-MODIFIED:20221005T033322Z
UID:10202-1665043200-1665066600@www.wingsguate.org
SUMMARY:Anticonceptivos – Mazatenango (Suchitepéquez)
DESCRIPTION:Servicios anticonceptivos en Asociación Alas de Guatemala\, zona 5 Col. La Independencia\, Mazatenango (Suchitepéquez).  \nAnticonceptivos: Colocación de DIU (T de cobre) y Jadelle (implante hormonal).  \nTambién se ofrecerán pruebas de detección de cáncer cervical.  \nServicios gratuitos.  \nPara más información y reserva de cupo\, llamar al 4511-6520. 
URL:https://www.wingsguate.org/event/anticonceptivos-mazatenango-suchitepequez-9/
CATEGORIES:English,Spanish
END:VEVENT
BEGIN:VEVENT
DTSTART;TZID=UTC:20221006T080000
DTEND;TZID=UTC:20221006T143000
DTSTAMP:20260420T003424
CREATED:20221005T034844Z
LAST-MODIFIED:20221005T034844Z
UID:10218-1665043200-1665066600@www.wingsguate.org
SUMMARY:Anticonceptivos – San Felipe (Retalhuleu)
DESCRIPTION:Servicios anticonceptivos en el Centro de Salud de San Felipe (Retalhuleu).  \nAnticonceptivos: Colocación de DIU (T de cobre) y Jadelle (implante hormonal).  \nTambién se ofrecerán pruebas de detección de cáncer cervical.  \nServicios gratuitos.  \nPara más información y reserva de cupo\, llamar al 4511-6520. 
URL:https://www.wingsguate.org/event/anticonceptivos-san-felipe-retalhuleu-7/
CATEGORIES:English,Spanish
END:VEVENT
BEGIN:VEVENT
DTSTART;TZID=UTC:20221006T080000
DTEND;TZID=UTC:20221006T143000
DTSTAMP:20260420T003424
CREATED:20221005T040021Z
LAST-MODIFIED:20221005T040021Z
UID:10234-1665043200-1665066600@www.wingsguate.org
SUMMARY:Anticonceptivos – Cantel (Quetzaltenango)
DESCRIPTION:Servicios anticonceptivos en el Centro de Atención Permanente Pasac I\, Cantel (Quetzaltenango).  \nAnticonceptivos: Colocación de DIU (T de cobre) y Jadelle (implante hormonal).  \nTambién se ofrecerán pruebas de detección de cáncer cervical.  \nServicios gratuitos.  \nPara más información y reserva de cupo\, llamar al 4511-7490. 
URL:https://www.wingsguate.org/event/anticonceptivos-cantel-quetzaltenango-18/
CATEGORIES:English,Spanish
END:VEVENT
BEGIN:VEVENT
DTSTART;TZID=UTC:20221006T080000
DTEND;TZID=UTC:20221006T143000
DTSTAMP:20260420T003424
CREATED:20221005T040125Z
LAST-MODIFIED:20221005T040125Z
UID:10236-1665043200-1665066600@www.wingsguate.org
SUMMARY:Anticonceptivos – Cantel (Quetzaltenango)
DESCRIPTION:Servicios anticonceptivos en el Puesto de Salud Aldea Xecam\, Cantel (Quetzaltenango).  \nAnticonceptivos: Colocación de DIU (T de cobre) y Jadelle (implante hormonal).  \nTambién se ofrecerán pruebas de detección de cáncer cervical.  \nServicios gratuitos.  \nPara más información y reserva de cupo\, llamar al 4511-7490. 
URL:https://www.wingsguate.org/event/anticonceptivos-cantel-quetzaltenango-19/
CATEGORIES:English,Spanish
END:VEVENT
END:VCALENDAR