BEGIN:VCALENDAR
VERSION:2.0
PRODID:-//WINGS Guatemala - ECPv6.15.20//NONSGML v1.0//EN
CALSCALE:GREGORIAN
METHOD:PUBLISH
X-WR-CALNAME:WINGS Guatemala
X-ORIGINAL-URL:https://www.wingsguate.org
X-WR-CALDESC:Events for WINGS Guatemala
REFRESH-INTERVAL;VALUE=DURATION:PT1H
X-Robots-Tag:noindex
X-PUBLISHED-TTL:PT1H
BEGIN:VTIMEZONE
TZID:UTC
BEGIN:STANDARD
TZOFFSETFROM:+0000
TZOFFSETTO:+0000
TZNAME:UTC
DTSTART:20210101T000000
END:STANDARD
END:VTIMEZONE
BEGIN:VEVENT
DTSTART;TZID=UTC:20221005T080000
DTEND;TZID=UTC:20221005T143000
DTSTAMP:20260419T132603
CREATED:20220928T033016Z
LAST-MODIFIED:20220928T033016Z
UID:10048-1664956800-1664980200@www.wingsguate.org
SUMMARY:Anticonceptivos – Fray Bartolomé de las Casas (Alta Verapaz)
DESCRIPTION:Servicios anticonceptivos en el Servicio de Salud El Paraíso\, Fray Bartolomé de las Casas (Alta Verapaz). \nAnticonceptivos: Colocación de DIU (T de cobre) y Jadelle (implante hormonal).  \nTambién se ofrecerán pruebas de detección de cáncer cervical.  \nServicios gratuitos.  \nPara más información y reserva de cupo\, llamar al 3227-1513. 
URL:https://www.wingsguate.org/event/anticonceptivos-fray-bartolome-de-las-casas-alta-verapaz-5/
CATEGORIES:English,Spanish
END:VEVENT
BEGIN:VEVENT
DTSTART;TZID=UTC:20221005T080000
DTEND;TZID=UTC:20221005T143000
DTSTAMP:20260419T132603
CREATED:20221004T034549Z
LAST-MODIFIED:20221004T034549Z
UID:10109-1664956800-1664980200@www.wingsguate.org
SUMMARY:Anticonceptivos – Patzun (Chimaltenango)
DESCRIPTION:Servicios anticonceptivos en el Puesto de Salud\, Aldea El Sitio\, Patzún (Chimaltenango).  \nAnticonceptivos: Colocación de DIU (T de cobre) y Jadelle (implante hormonal).  \nTambién se ofrecerán pruebas de detección de cáncer cervical.  \nServicios gratuitos.  \nPara más información y reserva de cupo\, llamar al 4511-5525. 
URL:https://www.wingsguate.org/event/anticonceptivos-patzun-chimaltenango-25/
CATEGORIES:English,Spanish
END:VEVENT
BEGIN:VEVENT
DTSTART;TZID=UTC:20221005T080000
DTEND;TZID=UTC:20221005T143000
DTSTAMP:20260419T132603
CREATED:20221004T225721Z
LAST-MODIFIED:20221004T225721Z
UID:10137-1664956800-1664980200@www.wingsguate.org
SUMMARY:Anticonceptivos – Mixco (Ciudad de Guatemala)
DESCRIPTION:Servicios anticonceptivos en Clínicas Municipales\, Col. El Milagro zona 6 de Mixco (Ciudad de Guatemala).  \nAnticonceptivos: Colocación de DIU (T de cobre) y Jadelle (implante hormonal).  \nTambién se ofrecerán pruebas de detección de cáncer cervical.  \nServicios gratuitos.  \nPara más información y reserva de cupo\, llamar al 3003-1246. 
URL:https://www.wingsguate.org/event/anticonceptivos-mixco-ciudad-de-guatemala-9/
CATEGORIES:English,Spanish
END:VEVENT
BEGIN:VEVENT
DTSTART;TZID=UTC:20221005T080000
DTEND;TZID=UTC:20221005T143000
DTSTAMP:20260419T132603
CREATED:20221004T231242Z
LAST-MODIFIED:20221004T231242Z
UID:10161-1664956800-1664980200@www.wingsguate.org
SUMMARY:Anticonceptivos – Santiago Sacatepéquez (Sacatepéquez)
DESCRIPTION:Servicios anticonceptivos en la Clínica Municipal de Santiago Sacatepéquez (Sacatepéquez).  \nAnticonceptivos: Colocación de DIU (T de cobre) y Jadelle (implante hormonal).  \nTambién se ofrecerán pruebas de detección de cáncer cervical.  \nServicios gratuitos.  \nPara más información y reserva de cupo\, llamar al 3003-1246. 
URL:https://www.wingsguate.org/event/anticonceptivos-santiago-sacatepequez-sacatepequez-18/
CATEGORIES:English,Spanish
END:VEVENT
BEGIN:VEVENT
DTSTART;TZID=UTC:20221005T080000
DTEND;TZID=UTC:20221005T143000
DTSTAMP:20260419T132603
CREATED:20221004T231707Z
LAST-MODIFIED:20221004T231707Z
UID:10167-1664956800-1664980200@www.wingsguate.org
SUMMARY:Operaciones – Ciudad de Guatemala (Ciudad de Guatemala)
DESCRIPTION:Jornada de operaciones para mujer y hombre en La Maternidad zona 13\, Ciudad de Guatemala (Ciudad de Guatemala).  \nOperaciones (para no tener más hijos): Ligaduras de trompas y Vasectomías.  \nServicios Gratuitos \nPara más información y reserva de cupo\, llamar al 3003-1246. 
URL:https://www.wingsguate.org/event/operaciones-ciudad-de-guatemala-ciudad-de-guatemala-14/
CATEGORIES:English,Spanish
END:VEVENT
BEGIN:VEVENT
DTSTART;TZID=UTC:20221005T080000
DTEND;TZID=UTC:20221005T143000
DTSTAMP:20260419T132603
CREATED:20221005T033047Z
LAST-MODIFIED:20221005T033047Z
UID:10198-1664956800-1664980200@www.wingsguate.org
SUMMARY:Anticonceptivos – San Miguel Panan (Suchitepéquez)
DESCRIPTION:Servicios anticonceptivos en el Centro de Salud de San Miguel Panan (Suchitepéquez).  \nAnticonceptivos: Colocación de DIU (T de cobre) y Jadelle (implante hormonal).  \nTambién se ofrecerán pruebas de detección de cáncer cervical.  \nServicios gratuitos.  \nPara más información y reserva de cupo\, llamar al 4511-6520. 
URL:https://www.wingsguate.org/event/anticonceptivos-san-miguel-panan-suchitepequez-5/
CATEGORIES:English,Spanish
END:VEVENT
BEGIN:VEVENT
DTSTART;TZID=UTC:20221005T080000
DTEND;TZID=UTC:20221005T143000
DTSTAMP:20260419T132603
CREATED:20221005T033146Z
LAST-MODIFIED:20221005T033146Z
UID:10200-1664956800-1664980200@www.wingsguate.org
SUMMARY:Anticonceptivos – Cuyotenango (Suchitepéquez)
DESCRIPTION:Servicios anticonceptivos en el Centro de Atención Permanente de Cuyotenango (Suchitepéquez).  \nAnticonceptivos: Colocación de DIU (T de cobre) y Jadelle (implante hormonal).  \nTambién se ofrecerán pruebas de detección de cáncer cervical.  \nServicios gratuitos.  \nPara más información y reserva de cupo\, llamar al 4511-6520. 
URL:https://www.wingsguate.org/event/anticonceptivos-cuyotenango-suchitepequez-44/
CATEGORIES:English,Spanish
END:VEVENT
BEGIN:VEVENT
DTSTART;TZID=UTC:20221005T080000
DTEND;TZID=UTC:20221005T143000
DTSTAMP:20260419T132603
CREATED:20221005T035858Z
LAST-MODIFIED:20221005T035858Z
UID:10230-1664956800-1664980200@www.wingsguate.org
SUMMARY:Anticonceptivos – Quetzaltenango (Quetzaltenango)
DESCRIPTION:Servicios anticonceptivos en el Centro de Atención Permanente Quetzaltenango (Quetzaltenango).  \nAnticonceptivos: Colocación de DIU (T de cobre) y Jadelle (implante hormonal).  \nTambién se ofrecerán pruebas de detección de cáncer cervical.  \nServicios gratuitos.  \nPara más información y reserva de cupo\, llamar al 4511-7490. 
URL:https://www.wingsguate.org/event/anticonceptivos-quetzaltenango-quetzaltenango-89/
CATEGORIES:English,Spanish
END:VEVENT
BEGIN:VEVENT
DTSTART;TZID=UTC:20221005T080000
DTEND;TZID=UTC:20221005T143000
DTSTAMP:20260419T132603
CREATED:20221005T035945Z
LAST-MODIFIED:20221005T035945Z
UID:10232-1664956800-1664980200@www.wingsguate.org
SUMMARY:Anticonceptivos – Quetzaltenango (Quetzaltenango)
DESCRIPTION:Servicios anticonceptivos en el Centro de Salud La Esperanza Centro\, zona 1 de Quetzaltenango (Quetzaltenango).  \nAnticonceptivos: Colocación de DIU (T de cobre) y Jadelle (implante hormonal).  \nTambién se ofrecerán pruebas de detección de cáncer cervical.  \nServicios gratuitos.  \nPara más información y reserva de cupo\, llamar al 4511-7490. 
URL:https://www.wingsguate.org/event/anticonceptivos-quetzaltenango-quetzaltenango-90/
CATEGORIES:English,Spanish
END:VEVENT
END:VCALENDAR