BEGIN:VCALENDAR
VERSION:2.0
PRODID:-//WINGS Guatemala - ECPv6.15.20//NONSGML v1.0//EN
CALSCALE:GREGORIAN
METHOD:PUBLISH
X-WR-CALNAME:WINGS Guatemala
X-ORIGINAL-URL:https://www.wingsguate.org
X-WR-CALDESC:Events for WINGS Guatemala
REFRESH-INTERVAL;VALUE=DURATION:PT1H
X-Robots-Tag:noindex
X-PUBLISHED-TTL:PT1H
BEGIN:VTIMEZONE
TZID:UTC
BEGIN:STANDARD
TZOFFSETFROM:+0000
TZOFFSETTO:+0000
TZNAME:UTC
DTSTART:20210101T000000
END:STANDARD
END:VTIMEZONE
BEGIN:VEVENT
DTSTART;TZID=UTC:20220823T080000
DTEND;TZID=UTC:20220823T130000
DTSTAMP:20260421T072543
CREATED:20220805T212844Z
LAST-MODIFIED:20220805T212844Z
UID:9780-1661241600-1661259600@www.wingsguate.org
SUMMARY:Operaciones – Quetzaltenango (Quetzaltenango)
DESCRIPTION:Jornada de operaciones para mujer y hombre en el Hospital Vida Quetzaltenango (Quetzaltenango).  \nOperaciones (para no tener más hijos): Ligaduras de trompas y Vasectomías.  \nDonativo: Q75.  \nPara más información y reserva de cupo\, llamar al 4511-7490. 
URL:https://www.wingsguate.org/event/operaciones-quetzaltenango-quetzaltenango-23/
CATEGORIES:English,Spanish
END:VEVENT
BEGIN:VEVENT
DTSTART;TZID=UTC:20220823T080000
DTEND;TZID=UTC:20220823T143000
DTSTAMP:20260421T072543
CREATED:20220729T223509Z
LAST-MODIFIED:20220729T223509Z
UID:9544-1661241600-1661265000@www.wingsguate.org
SUMMARY:Anticonceptivos – Cobán (Alta Verapaz)
DESCRIPTION:Servicios anticonceptivos en Asociación Alas de Guatemala\, 2da. calle 11-51 zona 2\, Cobán (Alta Verapaz). \nAnticonceptivos: Colocación de DIU (T de cobre) y Jadelle (implante hormonal).  \nTambién se ofrecerán pruebas de detección de cáncer cervical.  \nServicios gratuitos.  \nPara más información y reserva de cupo\, llamar al 3227-1513. 
URL:https://www.wingsguate.org/event/anticonceptivos-coban-alta-verapaz-46/
CATEGORIES:English,Spanish
END:VEVENT
BEGIN:VEVENT
DTSTART;TZID=UTC:20220823T080000
DTEND;TZID=UTC:20220823T143000
DTSTAMP:20260421T072543
CREATED:20220729T235958Z
LAST-MODIFIED:20220729T235958Z
UID:9581-1661241600-1661265000@www.wingsguate.org
SUMMARY:Anticonceptivos – Ixcán (Quiche)
DESCRIPTION:Servicios anticonceptivos en el Puesto de Salud Los Valles\, Ixcán (Quiche). \nAnticonceptivos: Colocación de DIU (T de cobre) y Jadelle (implante hormonal).  \nTambién se ofrecerán pruebas de detección de cáncer cervical.  \nServicios gratuitos.  \nPara más información y reserva de cupo\, llamar al 3227-1513. 
URL:https://www.wingsguate.org/event/anticonceptivos-ixcan-quiche-5/
CATEGORIES:English,Spanish
END:VEVENT
BEGIN:VEVENT
DTSTART;TZID=UTC:20220823T080000
DTEND;TZID=UTC:20220823T143000
DTSTAMP:20260421T072543
CREATED:20220730T000347Z
LAST-MODIFIED:20220816T023326Z
UID:9583-1661241600-1661265000@www.wingsguate.org
SUMMARY:Anticonceptivos – Ixcán (Quiche)
DESCRIPTION:Servicios anticonceptivos en el Centro Comunitario (ubicado en el salón cultural) Playa Grande\, Ixcán (Quiche). \nAnticonceptivos: Colocación de DIU (T de cobre) y Jadelle (implante hormonal).  \nTambién se ofrecerán pruebas de detección de cáncer cervical.  \nServicios gratuitos.  \nPara más información y reserva de cupo\, llamar al 3227-1513. 
URL:https://www.wingsguate.org/event/anticonceptivos-ixcan-quiche-6/
CATEGORIES:English,Spanish
END:VEVENT
BEGIN:VEVENT
DTSTART;TZID=UTC:20220823T080000
DTEND;TZID=UTC:20220823T143000
DTSTAMP:20260421T072543
CREATED:20220730T020642Z
LAST-MODIFIED:20220730T020642Z
UID:9609-1661241600-1661265000@www.wingsguate.org
SUMMARY:Anticonceptivos – Chimaltenango (Chimaltenango)
DESCRIPTION:Servicios anticonceptivos en SOSEA\, 6ta avenida 1-08 zona 3\, Chimaltenango (Chimaltenango).  \nAnticonceptivos: Colocación de DIU (T de cobre) y Jadelle (implante hormonal).  \nTambién se ofrecerán pruebas de detección de cáncer cervical.  \nServicios gratuitos.  \nPara más información y reserva de cupo\, llamar al 4511-5525. 
URL:https://www.wingsguate.org/event/anticonceptivos-chimaltenango-chimaltenango-27/
CATEGORIES:English,Spanish
END:VEVENT
BEGIN:VEVENT
DTSTART;TZID=UTC:20220823T080000
DTEND;TZID=UTC:20220823T143000
DTSTAMP:20260421T072543
CREATED:20220801T222945Z
LAST-MODIFIED:20220801T222945Z
UID:9700-1661241600-1661265000@www.wingsguate.org
SUMMARY:Anticonceptivos – Santo Domingo (Suchitepéquez)
DESCRIPTION:Servicios anticonceptivos en el Puesto de Salud Japon Nacional\, Santo Domingo (Suchitepéquez).  \nAnticonceptivos: Colocación de DIU (T de cobre) y Jadelle (implante hormonal).  \nTambién se ofrecerán pruebas de detección de cáncer cervical.  \nServicios gratuitos.  \nPara más información y reserva de cupo\, llamar al 4511-6520. 
URL:https://www.wingsguate.org/event/anticonceptivos-santo-domingo-suchitepequez-20/
CATEGORIES:English,Spanish
END:VEVENT
BEGIN:VEVENT
DTSTART;TZID=UTC:20220823T080000
DTEND;TZID=UTC:20220823T143000
DTSTAMP:20260421T072543
CREATED:20220805T212129Z
LAST-MODIFIED:20220805T212129Z
UID:9774-1661241600-1661265000@www.wingsguate.org
SUMMARY:Anticonceptivos - Villa Nueva (Ciudad de Guatemala)
DESCRIPTION:Servicios anticonceptivos en Clínicas Dirección de Salud Centro de Comercio\, Villa Nueva (Ciudad de Guatemala).  \nAnticonceptivos: Colocación de DIU (T de cobre) y Jadelle (implante hormonal).  \nTambién se ofrecerán pruebas de detección de cáncer cervical.  \nServicios gratuitos.  \nPara más información y reserva de cupo\, llamar al 3003-1246. 
URL:https://www.wingsguate.org/event/anticonceptivos-villa-nueva-ciudad-de-guatemala-24/
CATEGORIES:English,Spanish
END:VEVENT
END:VCALENDAR