BEGIN:VCALENDAR
VERSION:2.0
PRODID:-//WINGS Guatemala - ECPv6.15.20//NONSGML v1.0//EN
CALSCALE:GREGORIAN
METHOD:PUBLISH
X-ORIGINAL-URL:https://www.wingsguate.org
X-WR-CALDESC:Events for WINGS Guatemala
REFRESH-INTERVAL;VALUE=DURATION:PT1H
X-Robots-Tag:noindex
X-PUBLISHED-TTL:PT1H
BEGIN:VTIMEZONE
TZID:UTC
BEGIN:STANDARD
TZOFFSETFROM:+0000
TZOFFSETTO:+0000
TZNAME:UTC
DTSTART:20210101T000000
END:STANDARD
END:VTIMEZONE
BEGIN:VEVENT
DTSTART;TZID=UTC:20220819T080000
DTEND;TZID=UTC:20220819T110000
DTSTAMP:20260421T032952
CREATED:20220802T003534Z
LAST-MODIFIED:20220802T003534Z
UID:9742-1660896000-1660906800@www.wingsguate.org
SUMMARY:Vasectomías – La Antigua Guatemala (Sacatepéquez)
DESCRIPTION:Vasectomías en la Clínica de Alas\, La Antigua Guatemala (Sacatepéquez).  \nDonación: Servicio Gratuito (población objetivo) / Q.100  \nVasectomía: Operación para hombres para no tener más hijos.  \nPara más información y reserva de cupo\, llamar al 4511-4347. 
URL:https://www.wingsguate.org/event/vasectomias-la-antigua-guatemala-sacatepequez-105/
CATEGORIES:English,Spanish
END:VEVENT
BEGIN:VEVENT
DTSTART;TZID=UTC:20220819T080000
DTEND;TZID=UTC:20220819T143000
DTSTAMP:20260421T032952
CREATED:20220729T223852Z
LAST-MODIFIED:20220729T223852Z
UID:9550-1660896000-1660919400@www.wingsguate.org
SUMMARY:Anticonceptivos – San Pedro Carchá (Alta Verapaz)
DESCRIPTION:Servicios anticonceptivos en el Centro Comunitario\, Comunidad de Tanchi\, San Pedro Carchá (Alta Verapaz). \nAnticonceptivos: Colocación de DIU (T de cobre) y Jadelle (implante hormonal).  \nTambién se ofrecerán pruebas de detección de cáncer cervical.  \nServicios gratuitos.  \nPara más información y reserva de cupo\, llamar al 3227-1513. 
URL:https://www.wingsguate.org/event/anticonceptivos-san-pedro-carcha-alta-verapaz-54/
CATEGORIES:English,Spanish
END:VEVENT
BEGIN:VEVENT
DTSTART;TZID=UTC:20220819T080000
DTEND;TZID=UTC:20220819T143000
DTSTAMP:20260421T032952
CREATED:20220730T020518Z
LAST-MODIFIED:20220730T020518Z
UID:9607-1660896000-1660919400@www.wingsguate.org
SUMMARY:Anticonceptivos – Tecpán (Chimaltenango)
DESCRIPTION:Servicios anticonceptivos en el Centro de Salud Aldea Panabajal\, Tecpán (Chimaltenango).  \nAnticonceptivos: Colocación de DIU (T de cobre) y Jadelle (implante hormonal).  \nTambién se ofrecerán pruebas de detección de cáncer cervical.  \nServicios gratuitos.  \nPara más información y reserva de cupo\, llamar al 4511-5525. 
URL:https://www.wingsguate.org/event/anticonceptivos-tecpan-chimaltenango-51/
CATEGORIES:English,Spanish
END:VEVENT
BEGIN:VEVENT
DTSTART;TZID=UTC:20220819T080000
DTEND;TZID=UTC:20220819T143000
DTSTAMP:20260421T032952
CREATED:20220730T022026Z
LAST-MODIFIED:20220730T022026Z
UID:9627-1660896000-1660919400@www.wingsguate.org
SUMMARY:Operaciones – Escuintla (Escuintla)
DESCRIPTION:Jornada de operaciones para mujer y hombre en el Hospital Regional de Escuintla (Escuintla).  \nOperaciones (para no tener más hijos): Ligaduras de trompas y Vasectomías.  \nServicios Gratuitos.  \nPara más información y reserva de cupo\, llamar al 4511-3725. 
URL:https://www.wingsguate.org/event/operaciones-escuintla-escuintla-15/
CATEGORIES:English,Spanish
END:VEVENT
BEGIN:VEVENT
DTSTART;TZID=UTC:20220819T080000
DTEND;TZID=UTC:20220819T143000
DTSTAMP:20260421T032952
CREATED:20220801T230454Z
LAST-MODIFIED:20220801T230454Z
UID:9706-1660896000-1660919400@www.wingsguate.org
SUMMARY:Anticonceptivos – Retalhuleu (Retalhuleu)
DESCRIPTION:Servicios anticonceptivos en Iglesia El Evangelio Completo 14 calle zona 4\, Cantón Peru\, Retalhuleu (Retalhuleu).  \nAnticonceptivos: Colocación de DIU (T de cobre) y Jadelle (implante hormonal).  \nTambién se ofrecerán pruebas de detección de cáncer cervical.  \nServicios gratuitos.  \nPara más información y reserva de cupo\, llamar al 4511-6520. 
URL:https://www.wingsguate.org/event/anticonceptivos-retalhuleu-retalhuleu-27/
CATEGORIES:English,Spanish
END:VEVENT
END:VCALENDAR