BEGIN:VCALENDAR
VERSION:2.0
PRODID:-//WINGS Guatemala - ECPv6.15.20//NONSGML v1.0//EN
CALSCALE:GREGORIAN
METHOD:PUBLISH
X-WR-CALNAME:WINGS Guatemala
X-ORIGINAL-URL:https://www.wingsguate.org
X-WR-CALDESC:Events for WINGS Guatemala
REFRESH-INTERVAL;VALUE=DURATION:PT1H
X-Robots-Tag:noindex
X-PUBLISHED-TTL:PT1H
BEGIN:VTIMEZONE
TZID:UTC
BEGIN:STANDARD
TZOFFSETFROM:+0000
TZOFFSETTO:+0000
TZNAME:UTC
DTSTART:20210101T000000
END:STANDARD
END:VTIMEZONE
BEGIN:VEVENT
DTSTART;TZID=UTC:20220816T080000
DTEND;TZID=UTC:20220816T123000
DTSTAMP:20260420T070957
CREATED:20220729T225125Z
LAST-MODIFIED:20220729T225125Z
UID:9556-1660636800-1660653000@www.wingsguate.org
SUMMARY:Vasectomías – Cobán (Alta Verapaz)
DESCRIPTION:Jornada de operaciones para hombre en el Hopital Cubano\, Cobán (Alta Verapaz).  \nOperaciones (para no tener más hijos): Vasectomías.  \nDontativo: Q50.  \nPara más información y reserva de cupo\, llamar al 3227-1513. 
URL:https://www.wingsguate.org/event/vasectomias-coban-alta-verapaz-5/
CATEGORIES:English,Spanish
END:VEVENT
BEGIN:VEVENT
DTSTART;TZID=UTC:20220816T080000
DTEND;TZID=UTC:20220816T130000
DTSTAMP:20260420T070957
CREATED:20220816T025000Z
LAST-MODIFIED:20220816T025000Z
UID:9821-1660636800-1660654800@www.wingsguate.org
SUMMARY:Operaciones – Quetzaltenango (Quetzaltenango)
DESCRIPTION:Jornada de operaciones para mujer y hombre en el Hospital Vida Quetzaltenango (Quetzaltenango).  \nOperaciones (para no tener más hijos): Ligaduras de trompas y Vasectomías.  \nDonativo: Q75.  \nPara más información y reserva de cupo\, llamar al 4511-7490. 
URL:https://www.wingsguate.org/event/operaciones-quetzaltenango-quetzaltenango-24/
CATEGORIES:English,Spanish
END:VEVENT
BEGIN:VEVENT
DTSTART;TZID=UTC:20220816T080000
DTEND;TZID=UTC:20220816T143000
DTSTAMP:20260420T070957
CREATED:20220730T004156Z
LAST-MODIFIED:20220730T004156Z
UID:9597-1660636800-1660660200@www.wingsguate.org
SUMMARY:Anticonceptivos – San Juan Comalapa (Chimaltenango)
DESCRIPTION:Servicios anticonceptivos en el Centro de Atención Permanente de San Juan Comalapa (Chimaltenango).  \nAnticonceptivos: Colocación de DIU (T de cobre) y Jadelle (implante hormonal).  \nTambién se ofrecerán pruebas de detección de cáncer cervical.  \nServicios gratuitos.  \nPara más información y reserva de cupo\, llamar al 4511-5525. 
URL:https://www.wingsguate.org/event/anticonceptivos-san-juan-comalapa-chimaltenango-20/
CATEGORIES:English,Spanish
END:VEVENT
BEGIN:VEVENT
DTSTART;TZID=UTC:20220816T080000
DTEND;TZID=UTC:20220816T143000
DTSTAMP:20260420T070957
CREATED:20220730T025713Z
LAST-MODIFIED:20220730T025713Z
UID:9650-1660636800-1660660200@www.wingsguate.org
SUMMARY:Anticonceptivos – Santiago Sacatepéquez (Sacatepéquez)
DESCRIPTION:Servicios anticonceptivos en la Clínica del Dr. Juan Carlos Barrios\, Santiago Sacatepéquez (Sacatepéquez).  \nAnticonceptivos: Colocación de DIU (T de cobre) y Jadelle (implante hormonal).  \nTambién se ofrecerán pruebas de detección de cáncer cervical.  \nServicios gratuitos.  \nPara más información y reserva de cupo\, llamar al 3003-1246. 
URL:https://www.wingsguate.org/event/anticonceptivos-santiago-sacatepequez-sacatepequez-15/
CATEGORIES:English,Spanish
END:VEVENT
BEGIN:VEVENT
DTSTART;TZID=UTC:20220816T080000
DTEND;TZID=UTC:20220816T143000
DTSTAMP:20260420T070957
CREATED:20220801T221000Z
LAST-MODIFIED:20220801T221000Z
UID:9696-1660636800-1660660200@www.wingsguate.org
SUMMARY:Anticonceptivos – Santo Domingo (Suchitepéquez)
DESCRIPTION:Servicios anticonceptivos en el Puesto de Salud Aldea Bolivia\, Santo Domingo (Suchitepéquez).  \nAnticonceptivos: Colocación de DIU (T de cobre) y Jadelle (implante hormonal).  \nTambién se ofrecerán pruebas de detección de cáncer cervical.  \nServicios gratuitos.  \nPara más información y reserva de cupo\, llamar al 4511-6520.
URL:https://www.wingsguate.org/event/anticonceptivos-santo-domingo-suchitepequez-19/
CATEGORIES:English,Spanish
END:VEVENT
BEGIN:VEVENT
DTSTART;TZID=UTC:20220816T080000
DTEND;TZID=UTC:20220816T153000
DTSTAMP:20260420T070957
CREATED:20220730T021633Z
LAST-MODIFIED:20220730T021633Z
UID:9621-1660636800-1660663800@www.wingsguate.org
SUMMARY:Operaciones – Palín (Escuintla)
DESCRIPTION:Jornada de operaciones para mujer y hombre en la Maternidad Municipal de Palín (Escuintla).  \nOperaciones (para no tener más hijos): Ligaduras de trompas y Vasectomías.  \nServicios Gratuitos.  \nPara más información y reserva de cupo\, llamar al 4511-3725. 
URL:https://www.wingsguate.org/event/operaciones-palin-escuintla-23/
CATEGORIES:English,Spanish
END:VEVENT
END:VCALENDAR