BEGIN:VCALENDAR
VERSION:2.0
PRODID:-//WINGS Guatemala - ECPv6.15.20//NONSGML v1.0//EN
CALSCALE:GREGORIAN
METHOD:PUBLISH
X-WR-CALNAME:WINGS Guatemala
X-ORIGINAL-URL:https://www.wingsguate.org
X-WR-CALDESC:Events for WINGS Guatemala
REFRESH-INTERVAL;VALUE=DURATION:PT1H
X-Robots-Tag:noindex
X-PUBLISHED-TTL:PT1H
BEGIN:VTIMEZONE
TZID:UTC
BEGIN:STANDARD
TZOFFSETFROM:+0000
TZOFFSETTO:+0000
TZNAME:UTC
DTSTART:20210101T000000
END:STANDARD
END:VTIMEZONE
BEGIN:VEVENT
DTSTART;TZID=UTC:20220810T080000
DTEND;TZID=UTC:20220810T140000
DTSTAMP:20260422T171740
CREATED:20220801T231354Z
LAST-MODIFIED:20220801T231354Z
UID:9710-1660118400-1660140000@www.wingsguate.org
SUMMARY:Operaciones – Mazatenango (Suchitepéquez)
DESCRIPTION:Jornada de operaciones para mujer y hombre en la Clínica de la Dra. Yumi\, Mazatenango (Suchitepéquez).  \nOperaciones (para no tener más hijos): Ligaduras de trompas y Vasectomías.  \nServicios Gratuitos.  \nPara más información y reserva de cupo\, llamar al 4511-6520. 
URL:https://www.wingsguate.org/event/operaciones-mazatenango-suchitepequez-32/
CATEGORIES:English,Spanish
END:VEVENT
BEGIN:VEVENT
DTSTART;TZID=UTC:20220810T080000
DTEND;TZID=UTC:20220810T143000
DTSTAMP:20260422T171740
CREATED:20220729T214925Z
LAST-MODIFIED:20220729T214925Z
UID:9538-1660118400-1660141800@www.wingsguate.org
SUMMARY:Anticonceptivos – Livingston (Izabal)
DESCRIPTION:Servicios anticonceptivos en el Puesto de Salud Tamagas\, Livingston(Izabal). \nAnticonceptivos: Colocación de DIU (T de cobre) y Jadelle (implante hormonal).  \nTambién se ofrecerán pruebas de detección de cáncer cervical.  \nServicios gratuitos.  \nPara más información y reserva de cupo\, llamar al 3227-1513. 
URL:https://www.wingsguate.org/event/anticonceptivos-livingston-izabal-3/
CATEGORIES:English,Spanish
END:VEVENT
BEGIN:VEVENT
DTSTART;TZID=UTC:20220810T080000
DTEND;TZID=UTC:20220810T143000
DTSTAMP:20260422T171740
CREATED:20220729T215011Z
LAST-MODIFIED:20220729T215011Z
UID:9540-1660118400-1660141800@www.wingsguate.org
SUMMARY:Anticonceptivos – Livingston (Izabal)
DESCRIPTION:Servicios anticonceptivos en el Puesto de Salud Semox\, Livingston (Izabal). \nAnticonceptivos: Colocación de DIU (T de cobre) y Jadelle (implante hormonal).  \nTambién se ofrecerán pruebas de detección de cáncer cervical.  \nServicios gratuitos.  \nPara más información y reserva de cupo\, llamar al 3227-1513. 
URL:https://www.wingsguate.org/event/anticonceptivos-livingston-izabal-4/
CATEGORIES:English,Spanish
END:VEVENT
BEGIN:VEVENT
DTSTART;TZID=UTC:20220810T080000
DTEND;TZID=UTC:20220810T143000
DTSTAMP:20260422T171740
CREATED:20220730T003856Z
LAST-MODIFIED:20220730T003856Z
UID:9593-1660118400-1660141800@www.wingsguate.org
SUMMARY:Anticonceptivos – Santa Cruz Balanyá (Chimaltenango)
DESCRIPTION:Servicios anticonceptivos en el Centro de Salud Santa Cruz Balanyá (Chimaltenango).  \nAnticonceptivos: Colocación de DIU (T de cobre) y Jadelle (implante hormonal).  \nTambién se ofrecerán pruebas de detección de cáncer cervical.  \nServicios gratuitos.  \nPara más información y reserva de cupo\, llamar al 4511-5525. 
URL:https://www.wingsguate.org/event/anticonceptivos-santa-cruz-balanya-chimaltenango-27/
CATEGORIES:English,Spanish
END:VEVENT
BEGIN:VEVENT
DTSTART;TZID=UTC:20220810T080000
DTEND;TZID=UTC:20220810T143000
DTSTAMP:20260422T171740
CREATED:20220730T022638Z
LAST-MODIFIED:20220730T022638Z
UID:9633-1660118400-1660141800@www.wingsguate.org
SUMMARY:Anticonceptivos – La Nueva Concepción (Escuintla)
DESCRIPTION:Servicios anticonceptivos en Casa Particular Aldea la Trocha 3\, La Nueva Concepción (Escuintla).\nAnticonceptivos: Colocación de DIU (T de cobre) y Jadelle (implante hormonal). \n\n\nTambién se ofrecerán pruebas de detección de cáncer cervical.  \nServicios gratuitos.  \nPara más información y reserva de cupo\, llamar al 4511-3527. 
URL:https://www.wingsguate.org/event/anticonceptivos-la-nueva-concepcion-escuintla-12/
CATEGORIES:English,Spanish
END:VEVENT
BEGIN:VEVENT
DTSTART;TZID=UTC:20220810T080000
DTEND;TZID=UTC:20220810T143000
DTSTAMP:20260422T171740
CREATED:20220730T035518Z
LAST-MODIFIED:20220730T035518Z
UID:9662-1660118400-1660141800@www.wingsguate.org
SUMMARY:Anticonceptivos – Fraijanes (Ciudad de Guatemala)
DESCRIPTION:Servicios anticonceptivos en el Puesto de Salud Rabanales\, Fraijanes (Ciudad de Guatemala).  \nAnticonceptivos: Colocación de DIU (T de cobre) y Jadelle (implante hormonal).  \nTambién se ofrecerán pruebas de detección de cáncer cervical.  \nServicios gratuitos.  \nPara más información y reserva de cupo\, llamar al 3003-1246. 
URL:https://www.wingsguate.org/event/anticonceptivos-fraijanes-ciudad-de-guatemala/
CATEGORIES:English,Spanish
END:VEVENT
BEGIN:VEVENT
DTSTART;TZID=UTC:20220810T080000
DTEND;TZID=UTC:20220810T143000
DTSTAMP:20260422T171740
CREATED:20220802T001503Z
LAST-MODIFIED:20220802T001503Z
UID:9724-1660118400-1660141800@www.wingsguate.org
SUMMARY:Anticonceptivos – Sololá (Sololá)
DESCRIPTION:Servicios anticonceptivos en el Centro de Atención Permanente de Sololá (Sololá).  \nAnticonceptivos: Colocación de DIU (T de cobre) y Jadelle (implante hormonal).  \nTambién se ofrecerán pruebas de detección de cáncer cervical.  \nServicios gratuitos.  \nPara más información y reserva de cupo\, llamar al 3227-4564. 
URL:https://www.wingsguate.org/event/anticonceptivos-solola-solola-2/
CATEGORIES:English,Spanish
END:VEVENT
BEGIN:VEVENT
DTSTART;TZID=UTC:20220810T080000
DTEND;TZID=UTC:20220810T170000
DTSTAMP:20260422T171740
CREATED:20220801T212706Z
LAST-MODIFIED:20220801T212706Z
UID:9679-1660118400-1660150800@www.wingsguate.org
SUMMARY:Operaciones – Ciudad de Guatemala (Ciudad de Guatemala)
DESCRIPTION:Jornada de operaciones para mujer en la Maternidad zona 18\, Ciudad de Guatemala (Ciudad de Guatemala).  \nOperaciones (para no tener más hijos): Ligaduras de trompas.  \nServicios Gratuitos \nPara más información y reserva de cupo\, llamar al 3003-1246. 
URL:https://www.wingsguate.org/event/operaciones-ciudad-de-guatemala-ciudad-de-guatemala-10/
CATEGORIES:English,Spanish
END:VEVENT
END:VCALENDAR