BEGIN:VCALENDAR
VERSION:2.0
PRODID:-//WINGS Guatemala - ECPv6.15.20//NONSGML v1.0//EN
CALSCALE:GREGORIAN
METHOD:PUBLISH
X-ORIGINAL-URL:https://www.wingsguate.org
X-WR-CALDESC:Events for WINGS Guatemala
REFRESH-INTERVAL;VALUE=DURATION:PT1H
X-Robots-Tag:noindex
X-PUBLISHED-TTL:PT1H
BEGIN:VTIMEZONE
TZID:UTC
BEGIN:STANDARD
TZOFFSETFROM:+0000
TZOFFSETTO:+0000
TZNAME:UTC
DTSTART:20210101T000000
END:STANDARD
END:VTIMEZONE
BEGIN:VEVENT
DTSTART;TZID=UTC:20220623T080000
DTEND;TZID=UTC:20220623T130000
DTSTAMP:20260422T131157
CREATED:20220611T023128Z
LAST-MODIFIED:20220611T023128Z
UID:8943-1655971200-1655989200@www.wingsguate.org
SUMMARY:Operaciones - Ciudad de Guatemala (Ciudad de Guatemala)
DESCRIPTION:Jornada de operaciones para mujer en la Maternidad zona 12\, Ciudad de Guatemala (Ciudad de Guatemala).  \nOperaciones (para no tener más hijos): Ligadura de trompas.  \nServicios Gratuitos.  \nPara más información y reserva de cupo\, llamar al 3003-1246. 
URL:https://www.wingsguate.org/event/operaciones-ciudad-de-guatemala-ciudad-de-guatemala-8/
CATEGORIES:English,Spanish
END:VEVENT
BEGIN:VEVENT
DTSTART;TZID=UTC:20220623T080000
DTEND;TZID=UTC:20220623T143000
DTSTAMP:20260422T131157
CREATED:20220607T001356Z
LAST-MODIFIED:20220607T001356Z
UID:8526-1655971200-1655994600@www.wingsguate.org
SUMMARY:Anticonceptivos – San Pedro Carchá (Alta Verapaz)
DESCRIPTION:Servicios anticonceptivos en el Centro de Salud de San Pedro Carchá (Alta Verapaz). \nAnticonceptivos: Colocación de DIU (T de cobre) y Jadelle (implante hormonal).  \nTambién se ofrecerán pruebas de detección de cáncer cervical.  \nServicios gratuitos.  \nPara más información y reserva de cupo\, llamar al 3227-1513. 
URL:https://www.wingsguate.org/event/anticonceptivos-san-pedro-carcha-alta-verapaz-50/
CATEGORIES:English,Spanish
END:VEVENT
BEGIN:VEVENT
DTSTART;TZID=UTC:20220623T080000
DTEND;TZID=UTC:20220623T143000
DTSTAMP:20260422T131157
CREATED:20220607T001638Z
LAST-MODIFIED:20220607T001638Z
UID:8528-1655971200-1655994600@www.wingsguate.org
SUMMARY:Anticonceptivos – San Pedro Carchá (Alta Verapaz)
DESCRIPTION:Servicios anticonceptivos en el Puesto de Salud Pocola\, San Pedro Carchá (Alta Verapaz). \nAnticonceptivos: Colocación de DIU (T de cobre) y Jadelle (implante hormonal).  \nTambién se ofrecerán pruebas de detección de cáncer cervical.  \nServicios gratuitos.  \nPara más información y reserva de cupo\, llamar al 3227-1513. 
URL:https://www.wingsguate.org/event/anticonceptivos-san-pedro-carcha-alta-verapaz-51/
CATEGORIES:English,Spanish
END:VEVENT
BEGIN:VEVENT
DTSTART;TZID=UTC:20220623T080000
DTEND;TZID=UTC:20220623T143000
DTSTAMP:20260422T131157
CREATED:20220607T022200Z
LAST-MODIFIED:20220607T022200Z
UID:8546-1655971200-1655994600@www.wingsguate.org
SUMMARY:Anticonceptivos – Jocotenango (Sacatepéquez)
DESCRIPTION:Servicios anticonceptivos en la Dirección Municipal de la Mujer Col. Los Angeles zona 3\, Jocotenango (Sacatepéquez).\nAnticonceptivos: Colocación de DIU (T de cobre) y Jadelle (implante hormonal). \n\n\nTambién se ofrecerán pruebas de detección de cáncer cervical.  \nServicios gratuitos.  \nPara más información y reserva de cupo\, llamar al 4511-3527. 
URL:https://www.wingsguate.org/event/anticonceptivos-jocotenango-sacatepequez-6/
CATEGORIES:English,Spanish
END:VEVENT
BEGIN:VEVENT
DTSTART;TZID=UTC:20220623T080000
DTEND;TZID=UTC:20220623T143000
DTSTAMP:20260422T131157
CREATED:20220607T023222Z
LAST-MODIFIED:20220607T023222Z
UID:8554-1655971200-1655994600@www.wingsguate.org
SUMMARY:Anticonceptivos – Zaragoza (Chimaltenango)
DESCRIPTION:Servicios anticonceptivos en la Casa Doña Rosmery zona 4\, Zaragoza (Chimaltenango).  \nAnticonceptivos: Colocación de DIU (T de cobre) y Jadelle (implante hormonal).  \nTambién se ofrecerán pruebas de detección de cáncer cervical.  \nServicios gratuitos.  \nPara más información y reserva de cupo\, llamar al 4511-5525. 
URL:https://www.wingsguate.org/event/anticonceptivos-zaragoza-chimaltenango-13/
CATEGORIES:English,Spanish
END:VEVENT
BEGIN:VEVENT
DTSTART;TZID=UTC:20220623T080000
DTEND;TZID=UTC:20220623T143000
DTSTAMP:20260422T131157
CREATED:20220610T215613Z
LAST-MODIFIED:20220610T215613Z
UID:8880-1655971200-1655994600@www.wingsguate.org
SUMMARY:Anticonceptivos – La Esperanza (Quetzaltenango)
DESCRIPTION:Servicios anticonceptivos en el Puesto de Salud Aldea Santa Rita\, La Esperanza (Quetzaltenango).  \nAnticonceptivos: Colocación de DIU (T de cobre) y Jadelle (implante hormonal).  \nTambién se ofrecerán pruebas de detección de cáncer cervical.  \nServicios gratuitos.  \nPara más información y reserva de cupo\, llamar al 4511-7490. 
URL:https://www.wingsguate.org/event/anticonceptivos-la-esperanza-quetzaltenango-5/
CATEGORIES:English,Spanish
END:VEVENT
BEGIN:VEVENT
DTSTART;TZID=UTC:20220623T080000
DTEND;TZID=UTC:20220623T143000
DTSTAMP:20260422T131157
CREATED:20220610T221556Z
LAST-MODIFIED:20220610T221556Z
UID:8902-1655971200-1655994600@www.wingsguate.org
SUMMARY:Anticonceptivos – San Antonio (Suchitepéquez)
DESCRIPTION:Servicios anticonceptivos en el Centro de Atención Permanente de San Antonio (Suchitepéquez).  \nAnticonceptivos: Colocación de DIU (T de cobre) y Jadelle (implante hormonal).  \nTambién se ofrecerán pruebas de detección de cáncer cervical.  \nServicios gratuitos.  \nPara más información y reserva de cupo\, llamar al 4511-6520. 
URL:https://www.wingsguate.org/event/anticonceptivos-san-antonio-suchitepequez-3/
CATEGORIES:English,Spanish
END:VEVENT
END:VCALENDAR