BEGIN:VCALENDAR
VERSION:2.0
PRODID:-//WINGS Guatemala - ECPv6.15.20//NONSGML v1.0//EN
CALSCALE:GREGORIAN
METHOD:PUBLISH
X-WR-CALNAME:WINGS Guatemala
X-ORIGINAL-URL:https://www.wingsguate.org
X-WR-CALDESC:Events for WINGS Guatemala
REFRESH-INTERVAL;VALUE=DURATION:PT1H
X-Robots-Tag:noindex
X-PUBLISHED-TTL:PT1H
BEGIN:VTIMEZONE
TZID:UTC
BEGIN:STANDARD
TZOFFSETFROM:+0000
TZOFFSETTO:+0000
TZNAME:UTC
DTSTART:20210101T000000
END:STANDARD
END:VTIMEZONE
BEGIN:VEVENT
DTSTART;TZID=UTC:20220621T080000
DTEND;TZID=UTC:20220621T113000
DTSTAMP:20260423T000051
CREATED:20220609T224422Z
LAST-MODIFIED:20220609T224422Z
UID:8872-1655798400-1655811000@www.wingsguate.org
SUMMARY:Operaciones – Comitancillo (San Marcos)
DESCRIPTION:Jornada de operaciones para hombre y mujer en el Centro Médico Txoljá\, Comitancillo (San Marcos).  \nOperaciones (para no tener más hijos): Ligaduras de trompas y vasectomías.  \nDonativo: Q50.  \n\nPara más información y reserva de cupo\, llamar al 4511-7490. 
URL:https://www.wingsguate.org/event/operaciones-comitancillo-san-marcos-2/
CATEGORIES:English,Spanish
END:VEVENT
BEGIN:VEVENT
DTSTART;TZID=UTC:20220621T080000
DTEND;TZID=UTC:20220621T143000
DTSTAMP:20260423T000051
CREATED:20220607T001049Z
LAST-MODIFIED:20220607T001049Z
UID:8522-1655798400-1655821800@www.wingsguate.org
SUMMARY:Anticonceptivos – Tactic (Alta Verapaz)
DESCRIPTION:Servicios anticonceptivos en el Centro de Salud de Tactic (Alta Verapaz). \nAnticonceptivos: Colocación de DIU (T de cobre) y Jadelle (implante hormonal).  \nTambién se ofrecerán pruebas de detección de cáncer cervical.  \nServicios gratuitos.  \nPara más información y reserva de cupo\, llamar al 3227-1513. 
URL:https://www.wingsguate.org/event/anticonceptivos-tactic-alta-verapaz-19/
CATEGORIES:English,Spanish
END:VEVENT
BEGIN:VEVENT
DTSTART;TZID=UTC:20220621T080000
DTEND;TZID=UTC:20220621T143000
DTSTAMP:20260423T000051
CREATED:20220607T021802Z
LAST-MODIFIED:20220607T021802Z
UID:8544-1655798400-1655821800@www.wingsguate.org
SUMMARY:Anticonceptivos – San Tomas Milpas Altas (Sacatepéquez)
DESCRIPTION:Servicios anticonceptivos en la Granja Municipal de Santo Tomas Milpas Altas (Sacatepéquez).\nAnticonceptivos: Colocación de DIU (T de cobre) y Jadelle (implante hormonal). \n\n\nTambién se ofrecerán pruebas de detección de cáncer cervical.  \nServicios gratuitos.  \nPara más información y reserva de cupo\, llamar al 4511-3527. 
URL:https://www.wingsguate.org/event/anticonceptivos-san-tomas-milpas-altas-sacatepequez/
CATEGORIES:English,Spanish
END:VEVENT
BEGIN:VEVENT
DTSTART;TZID=UTC:20220621T080000
DTEND;TZID=UTC:20220621T143000
DTSTAMP:20260423T000051
CREATED:20220610T221309Z
LAST-MODIFIED:20220610T221309Z
UID:8898-1655798400-1655821800@www.wingsguate.org
SUMMARY:Anticonceptivos – Mazatenango (Suchitepéquez)
DESCRIPTION:Servicios anticonceptivos en Asociación Alas de Guatemala\, Col. La Independencia zona 2\, Mazatenango  (Suchitepéquez).  \nAnticonceptivos: Colocación de DIU (T de cobre) y Jadelle (implante hormonal).  \nTambién se ofrecerán pruebas de detección de cáncer cervical.  \nServicios gratuitos.  \nPara más información y reserva de cupo\, llamar al 4511-6520. 
URL:https://www.wingsguate.org/event/anticonceptivos-mazatenango-suchitepequez-8/
CATEGORIES:English,Spanish
END:VEVENT
BEGIN:VEVENT
DTSTART;TZID=UTC:20220621T080000
DTEND;TZID=UTC:20220621T143000
DTSTAMP:20260423T000051
CREATED:20220610T221432Z
LAST-MODIFIED:20220610T221432Z
UID:8900-1655798400-1655821800@www.wingsguate.org
SUMMARY:Anticonceptivos – Santo Domingo (Suchitepéquez)
DESCRIPTION:Servicios anticonceptivos en el Puesto de Salud Aldea Xiquiná\, Santo Domingo (Suchitepéquez).  \nAnticonceptivos: Colocación de DIU (T de cobre) y Jadelle (implante hormonal).  \nTambién se ofrecerán pruebas de detección de cáncer cervical.  \nServicios gratuitos.  \nPara más información y reserva de cupo\, llamar al 4511-6520. 
URL:https://www.wingsguate.org/event/anticonceptivos-santo-domingo-suchitepequez-16/
CATEGORIES:English,Spanish
END:VEVENT
BEGIN:VEVENT
DTSTART;TZID=UTC:20220621T080000
DTEND;TZID=UTC:20220621T143000
DTSTAMP:20260423T000051
CREATED:20220611T025952Z
LAST-MODIFIED:20220611T025952Z
UID:8964-1655798400-1655821800@www.wingsguate.org
SUMMARY:Anticonceptivos – Santa Cruz Balanyá (Chimaltenango)
DESCRIPTION:Servicios anticonceptivos en el Centro de Salud de Santa Cruz Balanyá (Chimaltenango).\nAnticonceptivos: Colocación de DIU (T de cobre) y Jadelle (implante hormonal). \n\n\nTambién se ofrecerán pruebas de detección de cáncer cervical.  \nServicios gratuitos.  \nPara más información y reserva de cupo\, llamar al 4511-5525. 
URL:https://www.wingsguate.org/event/anticonceptivos-santa-cruz-balanya-chimaltenango-26/
CATEGORIES:English,Spanish
END:VEVENT
BEGIN:VEVENT
DTSTART;TZID=UTC:20220621T080000
DTEND;TZID=UTC:20220621T143000
DTSTAMP:20260423T000051
CREATED:20220617T215214Z
LAST-MODIFIED:20220617T215214Z
UID:9000-1655798400-1655821800@www.wingsguate.org
SUMMARY:Anticonceptivos – Villa Nueva (Ciudad de Guatemala)
DESCRIPTION:Servicios anticonceptivos en las Clínicas Dirección de Salud Centro de Comercio\, Villa Nueva (Ciudad de Guatemala).  \nAnticonceptivos: Colocación de DIU (T de cobre) y Jadelle (implante hormonal).  \nTambién se ofrecerán pruebas de detección de cáncer cervical.  \nServicios gratuitos.  \nPara más información y reserva de cupo\, llamar al 3003-1246. 
URL:https://www.wingsguate.org/event/anticonceptivos-villa-nueva-ciudad-de-guatemala-18/
CATEGORIES:English,Spanish
END:VEVENT
END:VCALENDAR