BEGIN:VCALENDAR
VERSION:2.0
PRODID:-//WINGS Guatemala - ECPv6.15.20//NONSGML v1.0//EN
CALSCALE:GREGORIAN
METHOD:PUBLISH
X-ORIGINAL-URL:https://www.wingsguate.org
X-WR-CALDESC:Events for WINGS Guatemala
REFRESH-INTERVAL;VALUE=DURATION:PT1H
X-Robots-Tag:noindex
X-PUBLISHED-TTL:PT1H
BEGIN:VTIMEZONE
TZID:UTC
BEGIN:STANDARD
TZOFFSETFROM:+0000
TZOFFSETTO:+0000
TZNAME:UTC
DTSTART:20210101T000000
END:STANDARD
END:VTIMEZONE
BEGIN:VEVENT
DTSTART;TZID=UTC:20220523T080000
DTEND;TZID=UTC:20220523T143000
DTSTAMP:20260423T044841
CREATED:20220518T113412Z
LAST-MODIFIED:20220518T113412Z
UID:8359-1653292800-1653316200@www.wingsguate.org
SUMMARY:Anticonceptivos – San Lucas (Sacatepéquez)
DESCRIPTION:Servicios anticonceptivos en el Centro de Salud de San Lucas (Sacatepéquez).  \nAnticonceptivos: Colocación de DIU (T de cobre) y Jadelle (implante hormonal).  \nTambién se ofrecerán pruebas de detección de cáncer cervical.  \nServicios gratuitos.  \nPara más información y reserva de cupo\, llamar al 3003-1246. 
URL:https://www.wingsguate.org/event/anticonceptivos-san-lucas-sacatepequez-11/
CATEGORIES:English,Spanish
END:VEVENT
BEGIN:VEVENT
DTSTART;TZID=UTC:20220523T080000
DTEND;TZID=UTC:20220523T143000
DTSTAMP:20260423T044841
CREATED:20220520T032458Z
LAST-MODIFIED:20220520T032458Z
UID:8389-1653292800-1653316200@www.wingsguate.org
SUMMARY:Anticonceptivos – Santa Lucía Milpas Altas (Sacatepéquez)
DESCRIPTION:Servicios anticonceptivos en el Puesto de Salud de Santa Lucía Milpas Altas (Sacatepéquez).  \nAnticonceptivos: Colocación de DIU (T de cobre) y Jadelle (implante hormonal).  \nTambién se ofrecerán pruebas de detección de cáncer cervical.  \nServicios gratuitos.  \nPara más información y reserva de cupo\, llamar al 4511-3527. 
URL:https://www.wingsguate.org/event/anticonceptivos-santa-lucia-milpas-altas-sacatepequez-19/
CATEGORIES:English,Spanish
END:VEVENT
END:VCALENDAR