BEGIN:VCALENDAR
VERSION:2.0
PRODID:-//WINGS Guatemala - ECPv6.15.20//NONSGML v1.0//EN
CALSCALE:GREGORIAN
METHOD:PUBLISH
X-ORIGINAL-URL:https://www.wingsguate.org
X-WR-CALDESC:Events for WINGS Guatemala
REFRESH-INTERVAL;VALUE=DURATION:PT1H
X-Robots-Tag:noindex
X-PUBLISHED-TTL:PT1H
BEGIN:VTIMEZONE
TZID:UTC
BEGIN:STANDARD
TZOFFSETFROM:+0000
TZOFFSETTO:+0000
TZNAME:UTC
DTSTART:20210101T000000
END:STANDARD
END:VTIMEZONE
BEGIN:VEVENT
DTSTART;TZID=UTC:20220329T080000
DTEND;TZID=UTC:20220329T140000
DTSTAMP:20260422T192422
CREATED:20220322T020605Z
LAST-MODIFIED:20220322T020605Z
UID:7919-1648540800-1648562400@www.wingsguate.org
SUMMARY:Anticonceptivos – Salamá (Baja Verapaz)
DESCRIPTION:Servicios anticonceptivos en el Puesto de Salud de Chilasco\, Salamá (Baja Verapaz).  \nAnticonceptivos: Colocación de DIU (T de cobre) y Jadelle (implante hormonal).  \nTambién se ofrecerán pruebas de detección de cáncer cervical.  \nServicios gratuitos.  \nPara más información y reserva de cupo\, llamar al 3227-1513. 
URL:https://www.wingsguate.org/event/anticonceptivos-salama-baja-verapaz-5/
CATEGORIES:English,Spanish
END:VEVENT
BEGIN:VEVENT
DTSTART;TZID=UTC:20220329T080000
DTEND;TZID=UTC:20220329T140000
DTSTAMP:20260422T192422
CREATED:20220322T021159Z
LAST-MODIFIED:20220322T021159Z
UID:7923-1648540800-1648562400@www.wingsguate.org
SUMMARY:Anticonceptivos – Chimaltenango (Chimaltenango)
DESCRIPTION:Servicios anticonceptivos en la Secretaría de Obras Sociales de la Esposa del Alcalde de Chimaltenango (Chimaltenango).\nAnticonceptivos: Colocación de DIU (T de cobre) y Jadelle (implante hormonal). \n\n\nTambién se ofrecerán pruebas de detección de cáncer cervical.  \nServicios gratuitos.  \nPara más información y reserva de cupo\, llamar al 4511-5525. 
URL:https://www.wingsguate.org/event/anticonceptivos-chimaltenango-chimaltenango-23/
CATEGORIES:English,Spanish
END:VEVENT
BEGIN:VEVENT
DTSTART;TZID=UTC:20220329T080000
DTEND;TZID=UTC:20220329T140000
DTSTAMP:20260422T192422
CREATED:20220322T022413Z
LAST-MODIFIED:20220322T022413Z
UID:7929-1648540800-1648562400@www.wingsguate.org
SUMMARY:Anticonceptivos – San Juan Sacatepéquez (Ciudad de Guatemala)
DESCRIPTION:Servicios anticonceptivos en la  Asociación Grupo Integral de Mujeres Sanjuaneras (AGIMS) San Juan Sacatepéquez (Ciudad de Guatemala).\nAnticonceptivos: Colocación de DIU (T de cobre) y Jadelle (implante hormonal). \n\n\nTambién se ofrecerán pruebas de detección de cáncer cervical.  \nServicios gratuitos.  \nPara más información y reserva de cupo\, llamar al 4511-3527. 
URL:https://www.wingsguate.org/event/san_juan_sacatepequez_ciudad_de_guatemala/
CATEGORIES:English,Spanish
END:VEVENT
END:VCALENDAR