BEGIN:VCALENDAR
VERSION:2.0
PRODID:-//WINGS Guatemala - ECPv6.15.20//NONSGML v1.0//EN
CALSCALE:GREGORIAN
METHOD:PUBLISH
X-ORIGINAL-URL:https://www.wingsguate.org
X-WR-CALDESC:Events for WINGS Guatemala
REFRESH-INTERVAL;VALUE=DURATION:PT1H
X-Robots-Tag:noindex
X-PUBLISHED-TTL:PT1H
BEGIN:VTIMEZONE
TZID:UTC
BEGIN:STANDARD
TZOFFSETFROM:+0000
TZOFFSETTO:+0000
TZNAME:UTC
DTSTART:20170101T000000
END:STANDARD
END:VTIMEZONE
BEGIN:VEVENT
DTSTART;TZID=UTC:20180821T080000
DTEND;TZID=UTC:20180821T140000
DTSTAMP:20260419T234554
CREATED:20180731T002853Z
LAST-MODIFIED:20180806T222827Z
UID:1200-1534838400-1534860000@www.wingsguate.org
SUMMARY:Anticonceptivos - Santa María Chiquimula (Totonicapán)
DESCRIPTION:Jornada de anticonceptivos en Santa María Chiquimula (Totonicapán).  \nAnticonceptivos: Colocación de DIU (T de cobre) y Jadelle (implante hormonal).  \n\nPara más información y reserva de cupo\, llamar al 4511-4847.
URL:https://www.wingsguate.org/event/anticonceptivos-santa-maria-chiquimula-totonicapan/
CATEGORIES:Spanish
END:VEVENT
BEGIN:VEVENT
DTSTART;TZID=UTC:20180821T080000
DTEND;TZID=UTC:20180821T140000
DTSTAMP:20260419T234554
CREATED:20180731T002956Z
LAST-MODIFIED:20180806T223052Z
UID:1202-1534838400-1534860000@www.wingsguate.org
SUMMARY:Anticonceptivos - Tiquisate (Escuintla)
DESCRIPTION:Jornada de anticonceptivos en el Hospital Nacional de Tiquisate (Escuintla).  \nJornada gratuita. \nAnticonceptivos: Colocación de DIU (T de cobre) y Jadelle (implante hormonal). \nPara más información y reserva de cupo\, llamar al 4511-5739 o 4511-6520. 
URL:https://www.wingsguate.org/event/anticonceptivos-tiquisate-escuintla-2/
CATEGORIES:Spanish
END:VEVENT
END:VCALENDAR