BEGIN:VCALENDAR
VERSION:2.0
PRODID:-//WINGS Guatemala - ECPv6.15.20//NONSGML v1.0//EN
CALSCALE:GREGORIAN
METHOD:PUBLISH
X-WR-CALNAME:WINGS Guatemala
X-ORIGINAL-URL:https://www.wingsguate.org
X-WR-CALDESC:Events for WINGS Guatemala
REFRESH-INTERVAL;VALUE=DURATION:PT1H
X-Robots-Tag:noindex
X-PUBLISHED-TTL:PT1H
BEGIN:VTIMEZONE
TZID:UTC
BEGIN:STANDARD
TZOFFSETFROM:+0000
TZOFFSETTO:+0000
TZNAME:UTC
DTSTART:20170101T000000
END:STANDARD
END:VTIMEZONE
BEGIN:VEVENT
DTSTART;TZID=UTC:20180809T070000
DTEND;TZID=UTC:20180809T140000
DTSTAMP:20260419T130355
CREATED:20180731T000918Z
LAST-MODIFIED:20180731T010149Z
UID:1180-1533798000-1533823200@www.wingsguate.org
SUMMARY:Operaciones - Hospital de Escuintla (Escuintla)
DESCRIPTION:Jornada de operaciones para hombre y mujer en el Hospital Nacional de Escuintla.  \nJORNADA GRATUITA. \nOperaciones (para no tener más hijos): Ligaduras de trompas y vasectomías.  \nPara más información y reserva de cupo\, llamar al 4511-5739 o 4511-6520.
URL:https://www.wingsguate.org/event/operaciones-escuintla-escuintla-2/
CATEGORIES:Spanish
END:VEVENT
BEGIN:VEVENT
DTSTART;TZID=UTC:20180809T080000
DTEND;TZID=UTC:20180809T140000
DTSTAMP:20260419T130355
CREATED:20180731T000754Z
LAST-MODIFIED:20180806T221259Z
UID:1178-1533801600-1533823200@www.wingsguate.org
SUMMARY:Anticonceptivos - Aldea El Rejon\, Sumpango (Sacatepéquez)
DESCRIPTION:Jornada de anticonceptivos en el centro de convergencia de la aldea El Rejon\, Sumpango (Sacatepéquez) \nDonación: Q. 25. \nAnticonceptivos: Colocación de DIU (T de cobre) y Jadelle (implante hormonal).  \nPara más información y reserva de cupo\, llamar al 4511-5525.
URL:https://www.wingsguate.org/event/anticonceptivos-aldea-el-rejon-sumpango-sacatepequez/
CATEGORIES:Spanish
END:VEVENT
END:VCALENDAR