BEGIN:VCALENDAR
VERSION:2.0
PRODID:-//WINGS Guatemala - ECPv6.15.20//NONSGML v1.0//EN
CALSCALE:GREGORIAN
METHOD:PUBLISH
X-WR-CALNAME:WINGS Guatemala
X-ORIGINAL-URL:https://www.wingsguate.org
X-WR-CALDESC:Events for WINGS Guatemala
REFRESH-INTERVAL;VALUE=DURATION:PT1H
X-Robots-Tag:noindex
X-PUBLISHED-TTL:PT1H
BEGIN:VTIMEZONE
TZID:UTC
BEGIN:STANDARD
TZOFFSETFROM:+0000
TZOFFSETTO:+0000
TZNAME:UTC
DTSTART:20170101T000000
END:STANDARD
END:VTIMEZONE
BEGIN:VEVENT
DTSTART;TZID=UTC:20180629T070000
DTEND;TZID=UTC:20180629T140000
DTSTAMP:20260420T231415
CREATED:20180529T004337Z
LAST-MODIFIED:20180609T002851Z
UID:1004-1530255600-1530280800@www.wingsguate.org
SUMMARY:Vasectomías - La Antigua (Sacatepéquez)
DESCRIPTION:[CUPO LLENO] \nJornada de vasectomías en la Clínica de Alas\, La Antigua Guatemala (Sacatepéquez). \nVasectomía: Operación para hombres para no tener más hijos. \nPara más información\, llamar al 7832-5130.
URL:https://www.wingsguate.org/event/vasectomias-la-antigua-sacatepequez-3/
CATEGORIES:Spanish
END:VEVENT
BEGIN:VEVENT
DTSTART;TZID=UTC:20180629T080000
DTEND;TZID=UTC:20180629T140000
DTSTAMP:20260420T231415
CREATED:20180529T002029Z
LAST-MODIFIED:20180529T002029Z
UID:1002-1530259200-1530280800@www.wingsguate.org
SUMMARY:Anticonceptivos - Cuyotenango (Suchitepéquez)
DESCRIPTION:Jornada de anticonceptivos en Cuyotenango (Suchitepéquez).  \nAnticonceptivos: Colocación de DIU (T de cobre) y Jadelle (implante hormonal).  \nPara más información y reserva de cupo\, llamar al 4511-5739 o 4511-6520.
URL:https://www.wingsguate.org/event/anticonceptivos-cuyotenango-suchitepequez/
CATEGORIES:Spanish
END:VEVENT
END:VCALENDAR