BEGIN:VCALENDAR
VERSION:2.0
PRODID:-//WINGS Guatemala - ECPv6.15.20//NONSGML v1.0//EN
CALSCALE:GREGORIAN
METHOD:PUBLISH
X-WR-CALNAME:WINGS Guatemala
X-ORIGINAL-URL:https://www.wingsguate.org
X-WR-CALDESC:Events for WINGS Guatemala
REFRESH-INTERVAL;VALUE=DURATION:PT1H
X-Robots-Tag:noindex
X-PUBLISHED-TTL:PT1H
BEGIN:VTIMEZONE
TZID:UTC
BEGIN:STANDARD
TZOFFSETFROM:+0000
TZOFFSETTO:+0000
TZNAME:UTC
DTSTART:20230101T000000
END:STANDARD
END:VTIMEZONE
BEGIN:VEVENT
DTSTART;TZID=UTC:20241004T080000
DTEND;TZID=UTC:20241004T123000
DTSTAMP:20260424T132011
CREATED:20241002T101647Z
LAST-MODIFIED:20241002T101647Z
UID:17464-1728028800-1728045000@www.wingsguate.org
SUMMARY:Operaciones - Santiago Atitlán (Sololá)
DESCRIPTION:Jornada de operaciones para mujer en el Hospitalito Atitlán\, Santiago Atitlán (Sololá).  \nOperaciones (para no tener más hijos): ligadura de trompas.  \nDonativo: Q100.   \nPara más información y requisitos llamar al 3185-0032. 
URL:https://www.wingsguate.org/event/operaciones-santiago-atitlan-solola-13/
CATEGORIES:English,Spanish
END:VEVENT
BEGIN:VEVENT
DTSTART;TZID=UTC:20241004T080000
DTEND;TZID=UTC:20241004T123000
DTSTAMP:20260424T132011
CREATED:20241002T111251Z
LAST-MODIFIED:20241002T111251Z
UID:17544-1728028800-1728045000@www.wingsguate.org
SUMMARY:Operaciones – Mixco (Guatemala)
DESCRIPTION:Jornada de operaciones para mujer en el Sanatorio Jac de Wit\, zona 6 de Mixco (Guatemala).  \nOperaciones (para no tener más hijos): ligadura de trompas.  \nServicios Gratuitos.   \nPara más información y requisitos llamar al 3003-1246. 
URL:https://www.wingsguate.org/event/operaciones-mixco-guatemala-2/
CATEGORIES:English,Spanish
END:VEVENT
BEGIN:VEVENT
DTSTART;TZID=UTC:20241004T080000
DTEND;TZID=UTC:20241004T123000
DTSTAMP:20260424T132011
CREATED:20241002T112841Z
LAST-MODIFIED:20241002T112841Z
UID:17564-1728028800-1728045000@www.wingsguate.org
SUMMARY:Operaciones - Totonicapán (Totonicapán)
DESCRIPTION:Jornada de operaciones para hombre en Asociación CDRO\, Totonicapán (Totonicapán).  \nOperaciones (para no tener más hijos): vasectomias.  \nDonativo: Q10.   \nPara más información y requisitos llamar al 3227-4564. 
URL:https://www.wingsguate.org/event/operaciones-totonicapan-totonicapan-21/
CATEGORIES:English,Spanish
END:VEVENT
BEGIN:VEVENT
DTSTART;TZID=UTC:20241004T080000
DTEND;TZID=UTC:20241004T143000
DTSTAMP:20260424T132011
CREATED:20241002T094818Z
LAST-MODIFIED:20241002T094818Z
UID:17421-1728028800-1728052200@www.wingsguate.org
SUMMARY:Anticonceptivos – Salama (Baja Verapaz)
DESCRIPTION:Servicios anticonceptivos en el Salón Comunal Chilasco\, Salamá (Baja Verapaz). \nAnticonceptivos: Colocación de DIU (T de cobre) y Jadelle (implante hormonal).  \nTambién se ofrecerán pruebas de detección de cáncer cervical.  \nServicios gratuitos.  \nPara más información y reserva de cupo llamar al 3002-5055. 
URL:https://www.wingsguate.org/event/anticonceptivos-salama-baja-verapaz-44/
CATEGORIES:English,Spanish
END:VEVENT
BEGIN:VEVENT
DTSTART;TZID=UTC:20241004T080000
DTEND;TZID=UTC:20241004T143000
DTSTAMP:20260424T132011
CREATED:20241002T105827Z
LAST-MODIFIED:20241002T105827Z
UID:17519-1728028800-1728052200@www.wingsguate.org
SUMMARY:Anticonceptivos – Pastores (Sacatepéquez)
DESCRIPTION:Servicios anticonceptivos en el Salón Municipal de Pastores (Sacatepequez).  \nAnticonceptivos: Colocación de DIU (T de cobre) y Jadelle (implante hormonal).  \nTambién se ofrecerán pruebas de detección de cáncer cervical.  \nServicios gratuitos.  \nPara más información y reserva de cupo llamar al 4511-3527. 
URL:https://www.wingsguate.org/event/anticonceptivos-pastores-sacatepequez-9/
CATEGORIES:English,Spanish
END:VEVENT
BEGIN:VEVENT
DTSTART;TZID=UTC:20241004T080000
DTEND;TZID=UTC:20241004T143000
DTSTAMP:20260424T132011
CREATED:20241004T034623Z
LAST-MODIFIED:20241004T034623Z
UID:17596-1728028800-1728052200@www.wingsguate.org
SUMMARY:Anticonceptivos – San Juan La Laguna (Sololá)
DESCRIPTION:Servicios anticonceptivos ODIM\, San Juan La Laguna (Sololá).   \nAnticonceptivos: Colocación de DIU (T de cobre) y Jadelle (implante hormonal).  \nTambién se ofrecerán pruebas de detección de cáncer cervical.  \nServicios gratuitos.  \nPara más información y reserva de cupo llamar al 3227-4564. 
URL:https://www.wingsguate.org/event/anticonceptivos-san-juan-la-laguna-solola-10/
CATEGORIES:English,Spanish
END:VEVENT
BEGIN:VEVENT
DTSTART;TZID=UTC:20241004T080000
DTEND;TZID=UTC:20241004T143000
DTSTAMP:20260424T132011
CREATED:20241007T205555Z
LAST-MODIFIED:20241007T205555Z
UID:17612-1728028800-1728052200@www.wingsguate.org
SUMMARY:Anticonceptivos – Quetzaltenango (Quetzaltenango)
DESCRIPTION:Servicios anticonceptivos en Asociación Alas de Guatemala\, zona 1 Quetzaltenango (Quetzaltenango).  \nAnticonceptivos: Colocación de DIU (T de cobre) y Jadelle (implante hormonal).  \nTambién se ofrecerán pruebas de detección de cáncer cervical.  \nServicios gratuitos.  \nPara más información y reserva de cupo llamar al 4511-7490. 
URL:https://www.wingsguate.org/event/anticonceptivos-quetzaltenango-quetzaltenango-202/
CATEGORIES:English,Spanish
END:VEVENT
END:VCALENDAR