BEGIN:VCALENDAR
VERSION:2.0
PRODID:-//WINGS Guatemala - ECPv6.15.20//NONSGML v1.0//EN
CALSCALE:GREGORIAN
METHOD:PUBLISH
X-ORIGINAL-URL:https://www.wingsguate.org
X-WR-CALDESC:Events for WINGS Guatemala
REFRESH-INTERVAL;VALUE=DURATION:PT1H
X-Robots-Tag:noindex
X-PUBLISHED-TTL:PT1H
BEGIN:VTIMEZONE
TZID:UTC
BEGIN:STANDARD
TZOFFSETFROM:+0000
TZOFFSETTO:+0000
TZNAME:UTC
DTSTART:20230101T000000
END:STANDARD
END:VTIMEZONE
BEGIN:VEVENT
DTSTART;TZID=UTC:20240628T080000
DTEND;TZID=UTC:20240628T143000
DTSTAMP:20260420T205557
CREATED:20240606T232024Z
LAST-MODIFIED:20240606T232024Z
UID:16089-1719561600-1719585000@www.wingsguate.org
SUMMARY:Anticonceptivos – Pacajá (Quetzaltenango)
DESCRIPTION:Servicios anticonceptivos en Clinica Para Todos zona 1 Colonia El Paraiso\, Pacajá (Quetzaltenango).  \nAnticonceptivos: Colocación de DIU (T de cobre) y Jadelle (implante hormonal).  \nTambién se ofrecerán pruebas de detección de cáncer cervical.  \nServicios gratuitos.  \nPara más información y reserva de cupo llamar al 4511-7490. 
URL:https://www.wingsguate.org/event/anticonceptivos-pacaja-quetzaltenango/
CATEGORIES:English,Spanish
END:VEVENT
BEGIN:VEVENT
DTSTART;TZID=UTC:20240628T080000
DTEND;TZID=UTC:20240628T150000
DTSTAMP:20260420T205557
CREATED:20240607T000646Z
LAST-MODIFIED:20240607T000735Z
UID:16129-1719561600-1719586800@www.wingsguate.org
SUMMARY:Vasectomías –Mazatenango (Suchitepéquez)
DESCRIPTION:Jornada de operaciones para hombres en la Clinica de la Dra. Yumi\, Colonia La Independencia\, Mazatenango (Suchitepéquez).  \nOperaciones (para no tener más hijos): vasectomías.  \nDonativo Q50.   \nPara más información y reserva de cupo llamar al 3185-0032. 
URL:https://www.wingsguate.org/event/operaciones-mazatenango-suchitepequez-26-2/
CATEGORIES:English,Spanish
END:VEVENT
END:VCALENDAR