BEGIN:VCALENDAR
VERSION:2.0
PRODID:-//WINGS Guatemala - ECPv6.15.20//NONSGML v1.0//EN
CALSCALE:GREGORIAN
METHOD:PUBLISH
X-ORIGINAL-URL:https://www.wingsguate.org
X-WR-CALDESC:Events for WINGS Guatemala
REFRESH-INTERVAL;VALUE=DURATION:PT1H
X-Robots-Tag:noindex
X-PUBLISHED-TTL:PT1H
BEGIN:VTIMEZONE
TZID:UTC
BEGIN:STANDARD
TZOFFSETFROM:+0000
TZOFFSETTO:+0000
TZNAME:UTC
DTSTART:20230101T000000
END:STANDARD
END:VTIMEZONE
BEGIN:VEVENT
DTSTART;TZID=UTC:20240611T080000
DTEND;TZID=UTC:20240611T133000
DTSTAMP:20260421T182232
CREATED:20240607T033803Z
LAST-MODIFIED:20240607T033803Z
UID:16145-1718092800-1718112600@www.wingsguate.org
SUMMARY:Anticonceptivos – Mixco (Ciudad de Guatemala)
DESCRIPTION:Servicios anticonceptivos en Clinicas Municipales zona 1 de Mixco (Ciudad de Guatemala).  \nAnticonceptivos: Colocación de DIU (T de cobre) y Jadelle (implante hormonal).  \nTambién se ofrecerán pruebas de detección de cáncer cervical.  \nServicios gratuitos.  \nPara más información y reserva de cupo llamar al 3003-1246. 
URL:https://www.wingsguate.org/event/anticonceptivos-mixco-ciudad-de-guatemala-50/
CATEGORIES:English,Spanish
END:VEVENT
BEGIN:VEVENT
DTSTART;TZID=UTC:20240611T080000
DTEND;TZID=UTC:20240611T143000
DTSTAMP:20260421T182232
CREATED:20240606T232452Z
LAST-MODIFIED:20240606T232452Z
UID:16093-1718092800-1718116200@www.wingsguate.org
SUMMARY:Operaciones – Costa Cuca (Quetzaltenango)
DESCRIPTION:Jornada de operaciones para mujer en el Centro Médico Darian\, Genova\, Costa Cuca (Quetzaltenango).  \nOperaciones (para no tener más hijos): ligadura de trompas.  \nDonativo: Q50.   \nPara más información y reserva de cupo llamar al 4511-7490. 
URL:https://www.wingsguate.org/event/operaciones-costa-cuca-quetzaltenango/
CATEGORIES:English,Spanish
END:VEVENT
BEGIN:VEVENT
DTSTART;TZID=UTC:20240611T080000
DTEND;TZID=UTC:20240611T143000
DTSTAMP:20260421T182232
CREATED:20240606T235407Z
LAST-MODIFIED:20240606T235407Z
UID:16121-1718092800-1718116200@www.wingsguate.org
SUMMARY:Anticonceptivos – Retalhuleu (Retalhuleu)
DESCRIPTION:Servicios anticonceptivos en la Dirección Municipal de la Mujer\, Retalhuleu (Retalhuleu).  \nAnticonceptivos: Colocación de DIU (T de cobre) y Jadelle (implante hormonal).  \nTambién se ofrecerán pruebas de detección de cáncer cervical.  \nServicios gratuitos.  \nPara más información y reserva de cupo llamar al 4511-6520. 
URL:https://www.wingsguate.org/event/anticonceptivos-retalhuleu-retalhuleu-49/
CATEGORIES:English,Spanish
END:VEVENT
BEGIN:VEVENT
DTSTART;TZID=UTC:20240611T080000
DTEND;TZID=UTC:20240611T143000
DTSTAMP:20260421T182232
CREATED:20240606T235536Z
LAST-MODIFIED:20240606T235536Z
UID:16123-1718092800-1718116200@www.wingsguate.org
SUMMARY:Anticonceptivos – Retalhuleu (Retalhuleu)
DESCRIPTION:Servicios anticonceptivos en COCODE Ciudad Don Carlos\, Retalhuleu (Retalhuleu).   \nAnticonceptivos: Colocación de DIU (T de cobre) y Jadelle (implante hormonal).  \nTambién se ofrecerán pruebas de detección de cáncer cervical.  \nServicios gratuitos.  \nPara más información y reserva de cupo llamar al 3185-0032. 
URL:https://www.wingsguate.org/event/anticonceptivos-retalhuleu-retalhuleu-50/
CATEGORIES:English,Spanish
END:VEVENT
BEGIN:VEVENT
DTSTART;TZID=UTC:20240611T080000
DTEND;TZID=UTC:20240611T143000
DTSTAMP:20260421T182232
CREATED:20240607T033138Z
LAST-MODIFIED:20240607T033138Z
UID:16139-1718092800-1718116200@www.wingsguate.org
SUMMARY:Operaciones – Ciudad de Guatemala (Ciudad de Guatemala)
DESCRIPTION:Jornada de operaciones para mujer en Asociación Corazón de Agua zona 2\, Ciudad de Guatemala (Ciudad de Guatemala).  \nOperaciones (para no tener más hijos): ligadura de trompas.  \nDonativo Q100.   \nPara más información y reserva de cupo llamar al 3003-1246. 
URL:https://www.wingsguate.org/event/operaciones-ciudad-de-guatemala-ciudad-de-guatemala-53/
CATEGORIES:English,Spanish
END:VEVENT
BEGIN:VEVENT
DTSTART;TZID=UTC:20240611T080000
DTEND;TZID=UTC:20240611T143000
DTSTAMP:20260421T182232
CREATED:20240607T100222Z
LAST-MODIFIED:20240607T100222Z
UID:16164-1718092800-1718116200@www.wingsguate.org
SUMMARY:Anticonceptivos – San Juan Comalapa (Chimaltenango)
DESCRIPTION:Servicios anticonceptivos en el Centro de Atención Permanente\, San Juan Comalapa (Chimaltenango).  \nAnticonceptivos: Colocación de DIU (T de cobre) y Jadelle (implante hormonal).  \nTambién se ofrecerán pruebas de detección de cáncer cervical.  \nServicios gratuitos.  \nPara más información y reserva de cupo llamar al 4511-5525. 
URL:https://www.wingsguate.org/event/anticonceptivos-san-juan-comalapa-chimaltenango-24/
CATEGORIES:English,Spanish
END:VEVENT
BEGIN:VEVENT
DTSTART;TZID=UTC:20240611T080000
DTEND;TZID=UTC:20240611T143000
DTSTAMP:20260421T182232
CREATED:20240607T105000Z
LAST-MODIFIED:20240607T105000Z
UID:16208-1718092800-1718116200@www.wingsguate.org
SUMMARY:Anticonceptivos – Santiago (Sacatepéquez)
DESCRIPTION:Servicios anticonceptivos en el Salón Municipal de Santiago (Sacatepéquez). \nAnticonceptivos: Colocación de DIU (T de cobre) y Jadelle (implante hormonal).  \nTambién se ofrecerán pruebas de detección de cáncer cervical.  \nServicios gratuitos.  \nPara más información y reserva de cupo llamar al 4511-3527. 
URL:https://www.wingsguate.org/event/anticonceptivos-santiago-sacatepequez-9/
CATEGORIES:English,Spanish
END:VEVENT
BEGIN:VEVENT
DTSTART;TZID=UTC:20240611T080000
DTEND;TZID=UTC:20240611T143000
DTSTAMP:20260421T182232
CREATED:20240624T233541Z
LAST-MODIFIED:20240624T233541Z
UID:16318-1718092800-1718116200@www.wingsguate.org
SUMMARY:Anticonceptivos – El Estor (Izabal)
DESCRIPTION:Servicios anticonceptivos en Salón Comunal Aldea Chichipate\, El Estor (Izabal). \nAnticonceptivos: Colocación de DIU (T de cobre) y Jadelle (implante hormonal).  \nTambién se ofrecerán pruebas de detección de cáncer cervical.  \nServicios gratuitos.  \nPara más información y reserva de cupo llamar al 3227-1513. 
URL:https://www.wingsguate.org/event/anticonceptivos-el-estor-izabal-21/
CATEGORIES:English,Spanish
END:VEVENT
BEGIN:VEVENT
DTSTART;TZID=UTC:20240611T080000
DTEND;TZID=UTC:20240611T150000
DTSTAMP:20260421T182232
CREATED:20240607T033707Z
LAST-MODIFIED:20240607T033707Z
UID:16143-1718092800-1718118000@www.wingsguate.org
SUMMARY:Anticonceptivos – San Juan Sacatepéquez (Ciudad de Guatemala)
DESCRIPTION:Servicios anticonceptivos en Cooperativa lo de Carranza\, San Juan Sacatepéquez (Ciudad de Guatemala).  \nAnticonceptivos: Colocación de DIU (T de cobre) y Jadelle (implante hormonal).  \nTambién se ofrecerán pruebas de detección de cáncer cervical.  \nServicios gratuitos.  \nPara más información y reserva de cupo llamar al 3003-1246. 
URL:https://www.wingsguate.org/event/anticonceptivos-san-juan-sacatepequez-ciudad-de-guatemala-34/
CATEGORIES:English,Spanish
END:VEVENT
BEGIN:VEVENT
DTSTART;TZID=UTC:20240611T080000
DTEND;TZID=UTC:20240611T150000
DTSTAMP:20260421T182232
CREATED:20240607T100338Z
LAST-MODIFIED:20240607T100338Z
UID:16166-1718092800-1718118000@www.wingsguate.org
SUMMARY:Anticonceptivos – San Juan Comalapa (Chimaltenango)
DESCRIPTION:Servicios anticonceptivos en Clinica de Consejeria Social y Familiar zona 1\, San Juan Comalapa (Chimaltenango).  \nAnticonceptivos: Colocación de DIU (T de cobre) y Jadelle (implante hormonal).  \nTambién se ofrecerán pruebas de detección de cáncer cervical.  \nServicios gratuitos.  \nPara más información y reserva de cupo llamar al 4511-5525. 
URL:https://www.wingsguate.org/event/anticonceptivos-san-juan-comalapa-chimaltenango-25/
CATEGORIES:English,Spanish
END:VEVENT
BEGIN:VEVENT
DTSTART;TZID=UTC:20240611T080000
DTEND;TZID=UTC:20240611T150000
DTSTAMP:20260421T182232
CREATED:20240607T103042Z
LAST-MODIFIED:20240607T103042Z
UID:16196-1718092800-1718118000@www.wingsguate.org
SUMMARY:Vasectomías – Antigua Guatemala (Sacatepéquez)
DESCRIPTION:Jornada de operaciones para hombre en Asociación Alas de Guatemala\, 9na calle poniente No. 17\, Residenciales El Rosario No. 3\, Antigua Guatemala (Sacatepéquez).  \nOperaciones (para no tener más hijos): vasectomias.  \nServicios Gratuitos.   \nPara más información y reserva de cupo llamar al 4511-3527. 
URL:https://www.wingsguate.org/event/vasectomias-antigua-guatemala-sacatepequez-3/
CATEGORIES:English,Spanish
END:VEVENT
BEGIN:VEVENT
DTSTART;TZID=UTC:20240611T080000
DTEND;TZID=UTC:20240611T170000
DTSTAMP:20260421T182232
CREATED:20240607T110128Z
LAST-MODIFIED:20240607T110128Z
UID:16219-1718092800-1718125200@www.wingsguate.org
SUMMARY:Operaciones – Tactic (Alta Verapaz)
DESCRIPTION:Jornada de operaciones para mujer en Centro Medico Verapaz\, Barrio Las Magnolias\, Tatic (Alta Verapaz).  \nOperaciones (para no tener más hijos): Ligaduras de trompas.  \nDonativo: Q50.   \nPara más información y reserva de cupo llamar al 3227-1513. 
URL:https://www.wingsguate.org/event/operaciones-tactic-alta-verapaz-3/
CATEGORIES:English,Spanish
END:VEVENT
END:VCALENDAR