BEGIN:VCALENDAR
VERSION:2.0
PRODID:-//WINGS Guatemala - ECPv6.15.20//NONSGML v1.0//EN
CALSCALE:GREGORIAN
METHOD:PUBLISH
X-WR-CALNAME:WINGS Guatemala
X-ORIGINAL-URL:https://www.wingsguate.org
X-WR-CALDESC:Events for WINGS Guatemala
REFRESH-INTERVAL;VALUE=DURATION:PT1H
X-Robots-Tag:noindex
X-PUBLISHED-TTL:PT1H
BEGIN:VTIMEZONE
TZID:UTC
BEGIN:STANDARD
TZOFFSETFROM:+0000
TZOFFSETTO:+0000
TZNAME:UTC
DTSTART:20230101T000000
END:STANDARD
END:VTIMEZONE
BEGIN:VEVENT
DTSTART;TZID=UTC:20240528T080000
DTEND;TZID=UTC:20240528T143000
DTSTAMP:20260422T165927
CREATED:20240429T234824Z
LAST-MODIFIED:20240429T234824Z
UID:15793-1716883200-1716906600@www.wingsguate.org
SUMMARY:Anticonceptivos – San Antonio La Paz (El Progreso)
DESCRIPTION:Servicios anticonceptivos en la Escuelita La Paz\, San Antonio La Paz (El Progreso). \nAnticonceptivos: Colocación de DIU (T de cobre) y Jadelle (implante hormonal).  \nTambién se ofrecerán pruebas de detección de cáncer cervical.  \nServicios gratuitos.  \nPara más información y reserva de cupo llamar al 3004-7603. 
URL:https://www.wingsguate.org/event/anticonceptivos-san-antonio-la-paz-el-progreso-2/
CATEGORIES:English,Spanish
END:VEVENT
BEGIN:VEVENT
DTSTART;TZID=UTC:20240528T080000
DTEND;TZID=UTC:20240528T143000
DTSTAMP:20260422T165927
CREATED:20240429T235730Z
LAST-MODIFIED:20240429T235730Z
UID:15807-1716883200-1716906600@www.wingsguate.org
SUMMARY:Anticonceptivos – Costa Cuca (Quetzaltenango)
DESCRIPTION:Servicios anticonceptivos en el Salón Municipal Flores\, Costa Cuca (Quetzaltenango).  \nAnticonceptivos: Colocación de DIU (T de cobre) y Jadelle (implante hormonal).  \nTambién se ofrecerán pruebas de detección de cáncer cervical.  \nServicios gratuitos.  \nPara más información y reserva de cupo llamar al 4511-7490. 
URL:https://www.wingsguate.org/event/anticonceptivos-costa-cuca-quetzaltenango-3/
CATEGORIES:English,Spanish
END:VEVENT
BEGIN:VEVENT
DTSTART;TZID=UTC:20240528T080000
DTEND;TZID=UTC:20240528T143000
DTSTAMP:20260422T165927
CREATED:20240430T022608Z
LAST-MODIFIED:20240430T022608Z
UID:15823-1716883200-1716906600@www.wingsguate.org
SUMMARY:Anticonceptivos – San Antonio Palopo (Sololá)
DESCRIPTION:Servicios anticonceptivos en el Salón Comunal Aldea Agua Escondida\, San Antonio Palopo (Sololá).  \nAnticonceptivos: Colocación de DIU (T de cobre) y Jadelle (implante hormonal).  \nTambién se ofrecerán pruebas de detección de cáncer cervical.  \nServicios gratuitos.  \nPara más información y reserva de cupo llamar al 3227-4564. 
URL:https://www.wingsguate.org/event/anticonceptivos-san-antonio-palopo-solola-3/
CATEGORIES:English,Spanish
END:VEVENT
BEGIN:VEVENT
DTSTART;TZID=UTC:20240528T080000
DTEND;TZID=UTC:20240528T143000
DTSTAMP:20260422T165927
CREATED:20240430T034023Z
LAST-MODIFIED:20240430T034023Z
UID:15857-1716883200-1716906600@www.wingsguate.org
SUMMARY:Operaciones – Tiquisate (Escuintla)
DESCRIPTION:Jornada de operaciones para mujer Centro Médico Belen\, Tiquisate (Escuintla).  \nOperaciones (para no tener más hijos): ligadura de trompas.  \nDonativo: Q100.   \nPara más información y reserva de cupo llamar al 3185-0032. 
URL:https://www.wingsguate.org/event/operaciones-tiquisate-escuintla-34/
CATEGORIES:English,Spanish
END:VEVENT
BEGIN:VEVENT
DTSTART;TZID=UTC:20240528T080000
DTEND;TZID=UTC:20240528T150000
DTSTAMP:20260422T165927
CREATED:20240507T025342Z
LAST-MODIFIED:20240507T025342Z
UID:15953-1716883200-1716908400@www.wingsguate.org
SUMMARY:Anticonceptivos – Iztapa (Escuintla)
DESCRIPTION:Servicios anticonceptivos en Clinica Municipal Lote 3\, calle principal de Iztapa (Escuintla). \nAnticonceptivos: Colocación de DIU (T de cobre) y Jadelle (implante hormonal).  \nTambién se ofrecerán pruebas de detección de cáncer cervical.  \nServicios gratuitos.  \nPara más información y reserva de cupo llamar al 4511-3527. 
URL:https://www.wingsguate.org/event/anticonceptivos-iztapa-escuintla-7/
CATEGORIES:English,Spanish
END:VEVENT
BEGIN:VEVENT
DTSTART;TZID=UTC:20240528T080000
DTEND;TZID=UTC:20240528T170000
DTSTAMP:20260422T165927
CREATED:20240430T043105Z
LAST-MODIFIED:20240430T043105Z
UID:15867-1716883200-1716915600@www.wingsguate.org
SUMMARY:Operaciones – Palin (Escuintla)
DESCRIPTION:Jornada de operaciones para mujer y hombre en la Maternidad Municipal de Palin (Escuintla).  \nOperaciones (para no tener más hijos): Ligaduras de trompas y vasectomias.  \nServicios Gratuitos.  \nPara más información y reserva de cupo llamar al 4511-3527. 
URL:https://www.wingsguate.org/event/operaciones-palin-escuintla-36/
CATEGORIES:English,Spanish
END:VEVENT
END:VCALENDAR