BEGIN:VCALENDAR
VERSION:2.0
PRODID:-//WINGS Guatemala - ECPv6.15.20//NONSGML v1.0//EN
CALSCALE:GREGORIAN
METHOD:PUBLISH
X-WR-CALNAME:WINGS Guatemala
X-ORIGINAL-URL:https://www.wingsguate.org
X-WR-CALDESC:Events for WINGS Guatemala
REFRESH-INTERVAL;VALUE=DURATION:PT1H
X-Robots-Tag:noindex
X-PUBLISHED-TTL:PT1H
BEGIN:VTIMEZONE
TZID:UTC
BEGIN:STANDARD
TZOFFSETFROM:+0000
TZOFFSETTO:+0000
TZNAME:UTC
DTSTART:20230101T000000
END:STANDARD
END:VTIMEZONE
BEGIN:VEVENT
DTSTART;TZID=UTC:20240507T080000
DTEND;TZID=UTC:20240507T143000
DTSTAMP:20260419T132403
CREATED:20240430T030356Z
LAST-MODIFIED:20240430T030356Z
UID:15829-1715068800-1715092200@www.wingsguate.org
SUMMARY:Operaciones – Totonicapán (Totonicapán)
DESCRIPTION:Jornada de operaciones para mujer en Sanatorio CDRO\, Totonicapán (Totonicapán).   \nOperaciones (para no tener más hijos): ligadura de trompas.  \nServicio Gratuito.   \nPara más información y reserva de cupo llamar al 3227-4564. 
URL:https://www.wingsguate.org/event/operaciones-totonicapan-totonicapan-16/
CATEGORIES:English,Spanish
END:VEVENT
BEGIN:VEVENT
DTSTART;TZID=UTC:20240507T080000
DTEND;TZID=UTC:20240507T143000
DTSTAMP:20260419T132403
CREATED:20240430T032030Z
LAST-MODIFIED:20240430T032030Z
UID:15845-1715068800-1715092200@www.wingsguate.org
SUMMARY:Anticonceptivos – Patulul (Suchitepéquez)
DESCRIPTION:Servicios anticonceptivos en Salon Comunidad Maya\, 9 de Enero\, Patulul (Suchitepéquez).  \nAnticonceptivos: Colocación de DIU (T de cobre) y Jadelle (implante hormonal).  \nTambién se ofrecerán pruebas de detección de cáncer cervical.  \nServicios gratuitos.  \nPara más información y reserva de cupo llamar al 4511-6520. 
URL:https://www.wingsguate.org/event/anticonceptivos-patulul-suchitepequez-9/
CATEGORIES:English,Spanish
END:VEVENT
BEGIN:VEVENT
DTSTART;TZID=UTC:20240507T080000
DTEND;TZID=UTC:20240507T143000
DTSTAMP:20260419T132403
CREATED:20240506T221139Z
LAST-MODIFIED:20240506T221139Z
UID:15890-1715068800-1715092200@www.wingsguate.org
SUMMARY:Operaciones – Ciudad de Guatemala (Ciudad de Guatemala)
DESCRIPTION:Jornada de operaciones para hombre en Distrito Médico zona 6\, Ciudad de Guatemala (Ciudad de Guatemala).  \nOperaciones (para no tener más hijos): vasectomías.  \nDonativo: Q100.   \nPara más información y reserva de cupo llamar al 3003-1246. 
URL:https://www.wingsguate.org/event/operaciones-ciudad-de-guatemala-ciudad-de-guatemala-49/
CATEGORIES:English,Spanish
END:VEVENT
BEGIN:VEVENT
DTSTART;TZID=UTC:20240507T080000
DTEND;TZID=UTC:20240507T143000
DTSTAMP:20260419T132403
CREATED:20240506T231724Z
LAST-MODIFIED:20240506T231724Z
UID:15933-1715068800-1715092200@www.wingsguate.org
SUMMARY:Anticonceptivos – Chimaltenango (Chimaltenango)
DESCRIPTION:Servicios anticonceptivos en Fundación Carroll Berhorst\, Chimaltenango (Chimaltenango).  \nAnticonceptivos: Colocación de DIU (T de cobre) y Jadelle (implante hormonal).  \nTambién se ofrecerán pruebas de detección de cáncer cervical.  \nServicios gratuitos.  \nPara más información y reserva de cupo llamar al 4511-5525. 
URL:https://www.wingsguate.org/event/anticonceptivos-chimaltenango-chimaltenango-49/
CATEGORIES:English,Spanish
END:VEVENT
BEGIN:VEVENT
DTSTART;TZID=UTC:20240507T080000
DTEND;TZID=UTC:20240507T150000
DTSTAMP:20260419T132403
CREATED:20240507T033805Z
LAST-MODIFIED:20240507T033805Z
UID:15961-1715068800-1715094000@www.wingsguate.org
SUMMARY:Anticonceptivos – Jocotenango (Sacatepéquez)
DESCRIPTION:Servicios anticonceptivos en la Dirección Municipal de la Mujer\, Jocotenango (Sacatepéquez). \nAnticonceptivos: Colocación de DIU (T de cobre) y Jadelle (implante hormonal).  \nTambién se ofrecerán pruebas de detección de cáncer cervical.  \nServicios gratuitos.  \nPara más información y reserva de cupo llamar al 4511-3527. 
URL:https://www.wingsguate.org/event/anticonceptivos-jocotenango-sacatepequez-18/
CATEGORIES:English,Spanish
END:VEVENT
BEGIN:VEVENT
DTSTART;TZID=UTC:20240507T080000
DTEND;TZID=UTC:20240507T150000
DTSTAMP:20260419T132403
CREATED:20240507T034341Z
LAST-MODIFIED:20240507T034341Z
UID:15971-1715068800-1715094000@www.wingsguate.org
SUMMARY:Anticonceptivos – Purulhá (Baja Verapaz)
DESCRIPTION:Servicios anticonceptivos en Casa Familiar San Jose Parrachoch\, Purulhá (Baja Verapaz). \nAnticonceptivos: Colocación de DIU (T de cobre) y Jadelle (implante hormonal).  \nTambién se ofrecerán pruebas de detección de cáncer cervical.  \nServicios gratuitos.  \nPara más información y reserva de cupo llamar al 3002-5055. 
URL:https://www.wingsguate.org/event/anticonceptivos-purulha-baja-verapaz-38/
CATEGORIES:English,Spanish
END:VEVENT
BEGIN:VEVENT
DTSTART;TZID=UTC:20240507T080000
DTEND;TZID=UTC:20240507T150000
DTSTAMP:20260419T132403
CREATED:20240507T035137Z
LAST-MODIFIED:20240507T035137Z
UID:15983-1715068800-1715094000@www.wingsguate.org
SUMMARY:Anticonceptivos – Cobán (Alta Verapaz)
DESCRIPTION:Servicios anticonceptivos en Asociación Alas de Guatemala\, zona 2 de Cobán (Alta Verapaz). \nAnticonceptivos: Colocación de DIU (T de cobre) y Jadelle (implante hormonal).  \nTambién se ofrecerán pruebas de detección de cáncer cervical.  \nServicios gratuitos.  \nPara más información y reserva de cupo llamar al 3227-1513. 
URL:https://www.wingsguate.org/event/anticonceptivos-coban-alta-verapaz-147/
CATEGORIES:English,Spanish
END:VEVENT
BEGIN:VEVENT
DTSTART;TZID=UTC:20240507T080000
DTEND;TZID=UTC:20240507T150000
DTSTAMP:20260419T132403
CREATED:20240507T035840Z
LAST-MODIFIED:20240507T035840Z
UID:15997-1715068800-1715094000@www.wingsguate.org
SUMMARY:Anticonceptivos – Cahabón (Alta Verapaz)
DESCRIPTION:Servicios anticonceptivos en Centro Nutremé Aldea Sacta\, Cahabón (Alta Verapaz). \nAnticonceptivos: Colocación de DIU (T de cobre) y Jadelle (implante hormonal).  \nTambién se ofrecerán pruebas de detección de cáncer cervical.  \nServicios gratuitos.  \nPara más información y reserva de cupo llamar al 3227-1513. 
URL:https://www.wingsguate.org/event/anticonceptivos-cahabon-alta-verapaz-41/
CATEGORIES:English,Spanish
END:VEVENT
END:VCALENDAR