BEGIN:VCALENDAR
VERSION:2.0
PRODID:-//WINGS Guatemala - ECPv6.15.20//NONSGML v1.0//EN
CALSCALE:GREGORIAN
METHOD:PUBLISH
X-WR-CALNAME:WINGS Guatemala
X-ORIGINAL-URL:https://www.wingsguate.org
X-WR-CALDESC:Events for WINGS Guatemala
REFRESH-INTERVAL;VALUE=DURATION:PT1H
X-Robots-Tag:noindex
X-PUBLISHED-TTL:PT1H
BEGIN:VTIMEZONE
TZID:UTC
BEGIN:STANDARD
TZOFFSETFROM:+0000
TZOFFSETTO:+0000
TZNAME:UTC
DTSTART:20220101T000000
END:STANDARD
END:VTIMEZONE
BEGIN:VEVENT
DTSTART;TZID=UTC:20231206T080000
DTEND;TZID=UTC:20231206T143000
DTSTAMP:20260421T105542
CREATED:20231127T233920Z
LAST-MODIFIED:20231127T233920Z
UID:14104-1701849600-1701873000@www.wingsguate.org
SUMMARY:Anticonceptivos – Cobán (Alta Verapaz)
DESCRIPTION:Servicios anticonceptivos en Asociación Alas de Guatemala\, zona 2\, Cobán (Alta Verapaz). \nAnticonceptivos: Colocación de DIU (T de cobre) y Jadelle (implante hormonal).  \nTambién se ofrecerán pruebas de detección de cáncer cervical.  \nServicios gratuitos.  \nPara más información y reserva de cupo llamar al 3227-1513. 
URL:https://www.wingsguate.org/event/anticonceptivos-coban-alta-verapaz-121/
CATEGORIES:English,Spanish
END:VEVENT
BEGIN:VEVENT
DTSTART;TZID=UTC:20231206T080000
DTEND;TZID=UTC:20231206T143000
DTSTAMP:20260421T105542
CREATED:20231127T234605Z
LAST-MODIFIED:20231127T234605Z
UID:14112-1701849600-1701873000@www.wingsguate.org
SUMMARY:Anticonceptivos – Purulhá (Baja Verapaz)
DESCRIPTION:Servicios anticonceptivos en el Puesto de Salud Panzal\, Purulha (Baja Verapaz). \nAnticonceptivos: Colocación de DIU (T de cobre) y Jadelle (implante hormonal).  \nTambién se ofrecerán pruebas de detección de cáncer cervical.  \nServicios gratuitos.  \nPara más información y reserva de cupo llamar al 3002-5055. 
URL:https://www.wingsguate.org/event/anticonceptivos-purulha-baja-verapaz-23/
CATEGORIES:English,Spanish
END:VEVENT
BEGIN:VEVENT
DTSTART;TZID=UTC:20231206T080000
DTEND;TZID=UTC:20231206T143000
DTSTAMP:20260421T105542
CREATED:20231127T235544Z
LAST-MODIFIED:20231127T235544Z
UID:14122-1701849600-1701873000@www.wingsguate.org
SUMMARY:Anticonceptivos – Aldea Tecojate (Escuintla)
DESCRIPTION:Servicios anticonceptivos en el Puesto de Salud\, Aldea Tecojate (Escuintla).\nAnticonceptivos: Colocación de DIU (T de cobre) y Jadelle (implante hormonal). \n\n\nTambién se ofrecerán pruebas de detección de cáncer cervical.  \nServicios gratuitos.  \nPara más información y reserva de cupo llamar al 4511-3527. 
URL:https://www.wingsguate.org/event/anticonceptivos-aldea-tecojate-escuintla/
CATEGORIES:English,Spanish
END:VEVENT
BEGIN:VEVENT
DTSTART;TZID=UTC:20231206T080000
DTEND;TZID=UTC:20231206T143000
DTSTAMP:20260421T105542
CREATED:20231128T000245Z
LAST-MODIFIED:20231128T000245Z
UID:14132-1701849600-1701873000@www.wingsguate.org
SUMMARY:Anticonceptivos – Santiago Sacatepéquez (Sacatepéquez)
DESCRIPTION:Servicios anticonceptivos en Clinicas Municipales Santiago Sacatepequez (Sacatepéquez).\nAnticonceptivos: Colocación de DIU (T de cobre) y Jadelle (implante hormonal). \n\n\nTambién se ofrecerán pruebas de detección de cáncer cervical.  \nServicios gratuitos.  \nPara más información y reserva de cupo llamar al 3003-1246. 
URL:https://www.wingsguate.org/event/anticonceptivos-santiago-sacatepequez-sacatepequez-25/
CATEGORIES:English,Spanish
END:VEVENT
BEGIN:VEVENT
DTSTART;TZID=UTC:20231206T080000
DTEND;TZID=UTC:20231206T143000
DTSTAMP:20260421T105542
CREATED:20231128T000659Z
LAST-MODIFIED:20231128T000659Z
UID:14138-1701849600-1701873000@www.wingsguate.org
SUMMARY:Anticonceptivos – Mixco (Ciudad de Guatemala)
DESCRIPTION:Servicios anticonceptivos en Clínica Municipal 7ma Calle 4-40 zona 1\, Mixco (Ciudad de Guatemala).  \nAnticonceptivos: Colocación de DIU (T de cobre) y Jadelle (implante hormonal).  \nTambién se ofrecerán pruebas de detección de cáncer cervical.  \nServicios gratuitos.  \nPara más información y reserva de cupo llamar al 3003-1246. 
URL:https://www.wingsguate.org/event/anticonceptivos-mixco-ciudad-de-guatemala-43/
CATEGORIES:English,Spanish
END:VEVENT
BEGIN:VEVENT
DTSTART;TZID=UTC:20231206T080000
DTEND;TZID=UTC:20231206T143000
DTSTAMP:20260421T105542
CREATED:20231128T001456Z
LAST-MODIFIED:20231128T001456Z
UID:14144-1701849600-1701873000@www.wingsguate.org
SUMMARY:Anticonceptivos – San José Poaquil (Chimaltenango)
DESCRIPTION:Servicios anticonceptivos en el Centro de Salud San José Poaquil (Chimaltenango).  \nAnticonceptivos: Colocación de DIU (T de cobre) y Jadelle (implante hormonal).  \nTambién se ofrecerán pruebas de detección de cáncer cervical.  \nServicios gratuitos.  \nPara más información y reserva de cupo llamar al 4511-5525. 
URL:https://www.wingsguate.org/event/anticonceptivos-san-jose-poaquil-chimaltenango-12/
CATEGORIES:English,Spanish
END:VEVENT
BEGIN:VEVENT
DTSTART;TZID=UTC:20231206T080000
DTEND;TZID=UTC:20231206T143000
DTSTAMP:20260421T105542
CREATED:20231128T023612Z
LAST-MODIFIED:20231128T023612Z
UID:14162-1701849600-1701873000@www.wingsguate.org
SUMMARY:Anticonceptivos – Huehuetenango (Huehuetenango)
DESCRIPTION:Servicios anticonceptivos en el Centro de Salud\, Calvario Norte\, Huehuetenango (Huehuetenango).  \nAnticonceptivos: Colocación de DIU (T de cobre) y Jadelle (implante hormonal).  \nTambién se ofrecerán pruebas de detección de cáncer cervical.  \nServicios gratuitos.  \nPara más información y reserva de cupo\, llamar al 3227-4564. 
URL:https://www.wingsguate.org/event/anticonceptivos-huehuetenango-huehuetenango-62/
CATEGORIES:English,Spanish
END:VEVENT
BEGIN:VEVENT
DTSTART;TZID=UTC:20231206T080000
DTEND;TZID=UTC:20231206T153000
DTSTAMP:20260421T105542
CREATED:20231128T030050Z
LAST-MODIFIED:20231128T030050Z
UID:14173-1701849600-1701876600@www.wingsguate.org
SUMMARY:Anticonceptivos – Santa Clara La Laguna (Sololá)
DESCRIPTION:Servicios anticonceptivos en el Centro de Salud Santa Clara La Laguna (Sololá).  \nAnticonceptivos: Colocación de DIU (T de cobre) y Jadelle (implante hormonal).  \nTambién se ofrecerán pruebas de detección de cáncer cervical.  \nServicios gratuitos.  \nPara más información y reserva de cupo llamar al 3227-4564. 
URL:https://www.wingsguate.org/event/anticonceptivos-santa-clara-la-laguna-solola/
CATEGORIES:English,Spanish
END:VEVENT
END:VCALENDAR