BEGIN:VCALENDAR
VERSION:2.0
PRODID:-//WINGS Guatemala - ECPv6.15.20//NONSGML v1.0//EN
CALSCALE:GREGORIAN
METHOD:PUBLISH
X-ORIGINAL-URL:https://www.wingsguate.org
X-WR-CALDESC:Events for WINGS Guatemala
REFRESH-INTERVAL;VALUE=DURATION:PT1H
X-Robots-Tag:noindex
X-PUBLISHED-TTL:PT1H
BEGIN:VTIMEZONE
TZID:UTC
BEGIN:STANDARD
TZOFFSETFROM:+0000
TZOFFSETTO:+0000
TZNAME:UTC
DTSTART:20220101T000000
END:STANDARD
END:VTIMEZONE
BEGIN:VEVENT
DTSTART;TZID=UTC:20231107T080000
DTEND;TZID=UTC:20231107T143000
DTSTAMP:20260420T121226
CREATED:20231031T003743Z
LAST-MODIFIED:20231031T003743Z
UID:13674-1699344000-1699367400@www.wingsguate.org
SUMMARY:Anticonceptivos – Taxisco (Santa Rosa)
DESCRIPTION:Servicios anticonceptivos en el Centro de Salud Taxisco (Santa Rosa).  \nAnticonceptivos: Colocación de DIU (T de cobre) y Jadelle (implante hormonal).  \nTambién se ofrecerán pruebas de detección de cáncer cervical.  \nServicios gratuitos.  \nPara más información y reserva de cupo llamar al 3063-5196. 
URL:https://www.wingsguate.org/event/anticonceptivos-taxisco-santa-rosa-16/
CATEGORIES:English,Spanish
END:VEVENT
BEGIN:VEVENT
DTSTART;TZID=UTC:20231107T080000
DTEND;TZID=UTC:20231107T143000
DTSTAMP:20260420T121226
CREATED:20231031T024558Z
LAST-MODIFIED:20231031T024558Z
UID:13689-1699344000-1699367400@www.wingsguate.org
SUMMARY:Anticonceptivos – San Idelfonso Ixtahucan (Huehuetenango)
DESCRIPTION:Servicios anticonceptivos en el Centro de Salud San Idelfonso Ixtahucan (Huehuetenango).  \nAnticonceptivos: Colocación de DIU (T de cobre) y Jadelle (implante hormonal).  \nTambién se ofrecerán pruebas de detección de cáncer cervical.  \nServicios gratuitos.  \nPara más información y reserva de cupo llamar al 3227-4564. 
URL:https://www.wingsguate.org/event/anticonceptivos-san-idelfonso-ixtahucan-huehuetenango/
CATEGORIES:English,Spanish
END:VEVENT
BEGIN:VEVENT
DTSTART;TZID=UTC:20231107T080000
DTEND;TZID=UTC:20231107T143000
DTSTAMP:20260420T121226
CREATED:20231031T030356Z
LAST-MODIFIED:20231031T030356Z
UID:13709-1699344000-1699367400@www.wingsguate.org
SUMMARY:Anticonceptivos – Chicacao (Suchitepéquez)
DESCRIPTION:Servicios anticonceptivos en el Puesto de Salud Aldea Nahualate\, Chicacao (Suchitepéquez).  \nAnticonceptivos: Colocación de DIU (T de cobre) y Jadelle (implante hormonal).  \nTambién se ofrecerán pruebas de detección de cáncer cervical.  \nServicios gratuitos.  \nPara más información y reserva de cupo llamar al 4511-6520. 
URL:https://www.wingsguate.org/event/anticonceptivos-chicacao-suchitepequez-8/
CATEGORIES:English,Spanish
END:VEVENT
BEGIN:VEVENT
DTSTART;TZID=UTC:20231107T080000
DTEND;TZID=UTC:20231107T143000
DTSTAMP:20260420T121226
CREATED:20231031T043931Z
LAST-MODIFIED:20231031T043931Z
UID:13754-1699344000-1699367400@www.wingsguate.org
SUMMARY:Operaciones - Chimaltenango (Chimaltenango)
DESCRIPTION:Jornada de operaciones para mujer y hombre  en el Hospital Carroll Berhorsth zona 2\, Chimaltenango (Chimaltenango).  \nOperaciones (para no tener más hijos): Ligaduras de trompas y vasectomias.  \nDonativo: Q50  \nPara más información y reserva de cupo llamar al 4511-5525. 
URL:https://www.wingsguate.org/event/operaciones-chimaltenango-chimaltenango-46/
CATEGORIES:English,Spanish
END:VEVENT
BEGIN:VEVENT
DTSTART;TZID=UTC:20231107T080000
DTEND;TZID=UTC:20231107T143000
DTSTAMP:20260420T121226
CREATED:20231031T044116Z
LAST-MODIFIED:20231031T044116Z
UID:13756-1699344000-1699367400@www.wingsguate.org
SUMMARY:Operaciones – Ciudad de Guatemala (Ciudad de Guatemala)
DESCRIPTION:Jornada de operaciones para mujer en la Maternidad Amparo zona 7\, Ciudad de Guatemala (Ciudad de Guatemala).  \nOperaciones (para no tener más hijos): Ligaduras de trompas.  \nServicio Gratuito.  \nPara más información y reserva de cupo llamar al 3003-1246. 
URL:https://www.wingsguate.org/event/operaciones-ciudad-de-guatemala-ciudad-de-guatemala-42/
CATEGORIES:English,Spanish
END:VEVENT
BEGIN:VEVENT
DTSTART;TZID=UTC:20231107T080000
DTEND;TZID=UTC:20231107T143000
DTSTAMP:20260420T121226
CREATED:20231103T192016Z
LAST-MODIFIED:20231103T192016Z
UID:13790-1699344000-1699367400@www.wingsguate.org
SUMMARY:Anticonceptivos – San Pedro Ayampuc (Ciudad de Guatemala)
DESCRIPTION:Servicios anticonceptivos en el Centro de Salud Las Colonias\, San Pedro Ayampuc (Ciudad de Guatemala).  \nAnticonceptivos: Colocación de DIU (T de cobre) y Jadelle (implante hormonal).  \nTambién se ofrecerán pruebas de detección de cáncer cervical.  \nServicios gratuitos.  \nPara más información y reserva de cupo llamar al 3003-1246. 
URL:https://www.wingsguate.org/event/anticonceptivos-san-pedro-ayampuc-ciudad-de-guatemala-17/
CATEGORIES:English,Spanish
END:VEVENT
BEGIN:VEVENT
DTSTART;TZID=UTC:20231107T080000
DTEND;TZID=UTC:20231107T143000
DTSTAMP:20260420T121226
CREATED:20231103T193446Z
LAST-MODIFIED:20231103T193446Z
UID:13806-1699344000-1699367400@www.wingsguate.org
SUMMARY:Anticonceptivos – Sumpango (Sacatepéquez)
DESCRIPTION:Servicios anticonceptivos en el Centro de Convergencia\, Aldea El Rejón\, Sumpango (Sacatepéquez).\nAnticonceptivos: Colocación de DIU (T de cobre) y Jadelle (implante hormonal). \n\n\nTambién se ofrecerán pruebas de detección de cáncer cervical.  \nServicios gratuitos.  \nPara más información y reserva de cupo llamar al 4511-3527. 
URL:https://www.wingsguate.org/event/anticonceptivos-sumpango-sacatepequez-14/
CATEGORIES:English,Spanish
END:VEVENT
BEGIN:VEVENT
DTSTART;TZID=UTC:20231107T080000
DTEND;TZID=UTC:20231107T143000
DTSTAMP:20260420T121226
CREATED:20231103T201555Z
LAST-MODIFIED:20231103T201555Z
UID:13830-1699344000-1699367400@www.wingsguate.org
SUMMARY:Anticonceptivos – Cobán (Alta Verapaz)
DESCRIPTION:Servicios anticonceptivos en Asociación Alas de Guatemala\, zona 2\, Cobán (Alta Verapaz). \nAnticonceptivos: Colocación de DIU (T de cobre) y Jadelle (implante hormonal).  \nTambién se ofrecerán pruebas de detección de cáncer cervical.  \nServicios gratuitos.  \nPara más información y reserva de cupo llamar al 3227-1513. 
URL:https://www.wingsguate.org/event/anticonceptivos-coban-alta-verapaz-114/
CATEGORIES:English,Spanish
END:VEVENT
BEGIN:VEVENT
DTSTART;TZID=UTC:20231107T080000
DTEND;TZID=UTC:20231107T143000
DTSTAMP:20260420T121226
CREATED:20231103T204236Z
LAST-MODIFIED:20231103T204236Z
UID:13861-1699344000-1699367400@www.wingsguate.org
SUMMARY:Operaciones – Santa Cruz Verapaz (Alta Verapaz)
DESCRIPTION:Jornada de operaciones para mujer en el Centro de Atención Permanente\, Santa Cruz Verapaz (Alta Verapaz).  \nOperaciones (para no tener más hijos): Ligaduras de trompas.  \nServicio Gratuito.  \nPara más información y reserva de cupo llamar al 3227-1513. 
URL:https://www.wingsguate.org/event/operaciones-santa-cruz-verapaz-alta-verapaz-3/
CATEGORIES:English,Spanish
END:VEVENT
BEGIN:VEVENT
DTSTART;TZID=UTC:20231107T080000
DTEND;TZID=UTC:20231107T150000
DTSTAMP:20260420T121226
CREATED:20231031T035102Z
LAST-MODIFIED:20231031T035102Z
UID:13738-1699344000-1699369200@www.wingsguate.org
SUMMARY:Anticonceptivos – Tecpan (Chimaltenango)
DESCRIPTION:Servicios anticonceptivos en el Puesto de Salud Aldea Chirijuyu\, Tecpan (Chimaltenango).  \nAnticonceptivos: Colocación de DIU (T de cobre) y Jadelle (implante hormonal).  \nTambién se ofrecerán pruebas de detección de cáncer cervical.  \nServicios gratuitos.  \nPara más información y reserva de cupo llamar al 4511-5525. 
URL:https://www.wingsguate.org/event/anticonceptivos-tecpan-chimaltenango-71/
CATEGORIES:English,Spanish
END:VEVENT
END:VCALENDAR