BEGIN:VCALENDAR
VERSION:2.0
PRODID:-//WINGS Guatemala - ECPv6.15.20//NONSGML v1.0//EN
CALSCALE:GREGORIAN
METHOD:PUBLISH
X-WR-CALNAME:WINGS Guatemala
X-ORIGINAL-URL:https://www.wingsguate.org
X-WR-CALDESC:Events for WINGS Guatemala
REFRESH-INTERVAL;VALUE=DURATION:PT1H
X-Robots-Tag:noindex
X-PUBLISHED-TTL:PT1H
BEGIN:VTIMEZONE
TZID:UTC
BEGIN:STANDARD
TZOFFSETFROM:+0000
TZOFFSETTO:+0000
TZNAME:UTC
DTSTART:20220101T000000
END:STANDARD
END:VTIMEZONE
BEGIN:VEVENT
DTSTART;TZID=UTC:20231101T080000
DTEND;TZID=UTC:20231101T170000
DTSTAMP:20260420T151838
CREATED:20231031T002654Z
LAST-MODIFIED:20231031T002654Z
UID:13664-1698825600-1698858000@www.wingsguate.org
SUMMARY:FERIADO
DESCRIPTION:DÍA DE TODOS LOS SANTOS
URL:https://www.wingsguate.org/event/feriado-6/
CATEGORIES:English,Spanish
END:VEVENT
END:VCALENDAR