BEGIN:VCALENDAR
VERSION:2.0
PRODID:-//WINGS Guatemala - ECPv6.15.20//NONSGML v1.0//EN
CALSCALE:GREGORIAN
METHOD:PUBLISH
X-WR-CALNAME:WINGS Guatemala
X-ORIGINAL-URL:https://www.wingsguate.org
X-WR-CALDESC:Events for WINGS Guatemala
REFRESH-INTERVAL;VALUE=DURATION:PT1H
X-Robots-Tag:noindex
X-PUBLISHED-TTL:PT1H
BEGIN:VTIMEZONE
TZID:UTC
BEGIN:STANDARD
TZOFFSETFROM:+0000
TZOFFSETTO:+0000
TZNAME:UTC
DTSTART:20220101T000000
END:STANDARD
END:VTIMEZONE
BEGIN:VEVENT
DTSTART;TZID=UTC:20231017T080000
DTEND;TZID=UTC:20231017T143000
DTSTAMP:20260419T120510
CREATED:20231003T113007Z
LAST-MODIFIED:20231003T113007Z
UID:13375-1697529600-1697553000@www.wingsguate.org
SUMMARY:Anticonceptivos – Purulhá (Baja Verapaz)
DESCRIPTION:Servicios anticonceptivos en el Puesto de Salud Panima\, Purulha (Baja Verapaz). \nAnticonceptivos: Colocación de DIU (T de cobre) y Jadelle (implante hormonal).  \nTambién se ofrecerán pruebas de detección de cáncer cervical.  \nServicios gratuitos.  \nPara más información y reserva de cupo llamar al 3002-5055. 
URL:https://www.wingsguate.org/event/anticonceptivos-purulha-baja-verapaz-20/
CATEGORIES:English,Spanish
END:VEVENT
BEGIN:VEVENT
DTSTART;TZID=UTC:20231017T080000
DTEND;TZID=UTC:20231017T143000
DTSTAMP:20260419T120510
CREATED:20231003T114834Z
LAST-MODIFIED:20231003T114834Z
UID:13403-1697529600-1697553000@www.wingsguate.org
SUMMARY:Anticonceptivos – La Nueva Concepción (Escuintla)
DESCRIPTION:Servicios anticonceptivos en Casa Particular Trocha 14\, Calle del Banco\, La Nueva Concepción (Escuintla).\nAnticonceptivos: Colocación de DIU (T de cobre) y Jadelle (implante hormonal). \n\n\nTambién se ofrecerán pruebas de detección de cáncer cervical.  \nServicios gratuitos.  \nPara más información y reserva de cupo llamar al 4511-3527. 
URL:https://www.wingsguate.org/event/anticonceptivos-la-nueva-concepcion-escuintla-20/
CATEGORIES:English,Spanish
END:VEVENT
BEGIN:VEVENT
DTSTART;TZID=UTC:20231017T080000
DTEND;TZID=UTC:20231017T143000
DTSTAMP:20260419T120510
CREATED:20231003T120208Z
LAST-MODIFIED:20231003T120208Z
UID:13427-1697529600-1697553000@www.wingsguate.org
SUMMARY:Anticonceptivos – Mixco (Ciudad de Guatemala)
DESCRIPTION:Servicios anticonceptivos en el Centro de Salud Lo de Coy\, zona 1\, Mixco (Ciudad de Guatemala).  \nAnticonceptivos: Colocación de DIU (T de cobre) y Jadelle (implante hormonal).  \nTambién se ofrecerán pruebas de detección de cáncer cervical.  \nServicios gratuitos.  \nPara más información y reserva de cupo llamar al 3003-1246. 
URL:https://www.wingsguate.org/event/anticonceptivos-mixco-ciudad-de-guatemala-35/
CATEGORIES:English,Spanish
END:VEVENT
BEGIN:VEVENT
DTSTART;TZID=UTC:20231017T080000
DTEND;TZID=UTC:20231017T143000
DTSTAMP:20260419T120510
CREATED:20231003T121133Z
LAST-MODIFIED:20231003T121133Z
UID:13447-1697529600-1697553000@www.wingsguate.org
SUMMARY:Anticonceptivos – Comalapa (Chimaltenango)
DESCRIPTION:Servicios anticonceptivos en el Centro de Atención Permanente\, Comalapa (Chimaltenango).  \nAnticonceptivos: Colocación de DIU (T de cobre) y Jadelle (implante hormonal).  \nTambién se ofrecerán pruebas de detección de cáncer cervical.  \nServicios gratuitos.  \nPara más información y reserva de cupo llamar al 4511-5525. 
URL:https://www.wingsguate.org/event/anticonceptivos-comalapa-chimaltenango-21/
CATEGORIES:English,Spanish
END:VEVENT
BEGIN:VEVENT
DTSTART;TZID=UTC:20231017T080000
DTEND;TZID=UTC:20231017T143000
DTSTAMP:20260419T120510
CREATED:20231003T121239Z
LAST-MODIFIED:20231003T121239Z
UID:13449-1697529600-1697553000@www.wingsguate.org
SUMMARY:Anticonceptivos – San Martín Jilotepeque (Chimaltenango)
DESCRIPTION:Servicios anticonceptivos en Obras Sociales Hombre y Mujeres en acción\, Aldea Santo Domingo\, San Martín Jilotepeque (Chimaltenango).  \nAnticonceptivos: Colocación de DIU (T de cobre) y Jadelle (implante hormonal).  \nTambién se ofrecerán pruebas de detección de cáncer cervical.  \nServicios gratuitos.  \nPara más información y reserva de cupo llamar al 4511-5525. 
URL:https://www.wingsguate.org/event/anticonceptivos-san-martin-jilotepeque-chimaltenango-22/
CATEGORIES:English,Spanish
END:VEVENT
BEGIN:VEVENT
DTSTART;TZID=UTC:20231017T080000
DTEND;TZID=UTC:20231017T143000
DTSTAMP:20260419T120510
CREATED:20231003T204455Z
LAST-MODIFIED:20231003T204455Z
UID:13496-1697529600-1697553000@www.wingsguate.org
SUMMARY:Anticonceptivos – San Idelfonso Ixtahuacan (Huehuetenango)
DESCRIPTION:Servicios anticonceptivos en el Centro de Salud San Idelfonso Ixtahuacan (Huehuetenango).  \nAnticonceptivos: Colocación de DIU (T de cobre) y Jadelle (implante hormonal).  \nTambién se ofrecerán pruebas de detección de cáncer cervical.  \nServicios gratuitos.  \nPara más información y reserva de cupo\, llamar al 3227-4564. 
URL:https://www.wingsguate.org/event/anticonceptivos-san-idelfonso-ixtahuacan-huehuetenango-6/
CATEGORIES:English,Spanish
END:VEVENT
END:VCALENDAR