BEGIN:VCALENDAR
VERSION:2.0
PRODID:-//WINGS Guatemala - ECPv6.15.20//NONSGML v1.0//EN
CALSCALE:GREGORIAN
METHOD:PUBLISH
X-WR-CALNAME:WINGS Guatemala
X-ORIGINAL-URL:https://www.wingsguate.org
X-WR-CALDESC:Events for WINGS Guatemala
REFRESH-INTERVAL;VALUE=DURATION:PT1H
X-Robots-Tag:noindex
X-PUBLISHED-TTL:PT1H
BEGIN:VTIMEZONE
TZID:UTC
BEGIN:STANDARD
TZOFFSETFROM:+0000
TZOFFSETTO:+0000
TZNAME:UTC
DTSTART:20220101T000000
END:STANDARD
END:VTIMEZONE
BEGIN:VEVENT
DTSTART;TZID=UTC:20231003T080000
DTEND;TZID=UTC:20231003T140000
DTSTAMP:20260419T132520
CREATED:20231003T211845Z
LAST-MODIFIED:20231003T211845Z
UID:13534-1696320000-1696341600@www.wingsguate.org
SUMMARY:Operaciones – San Pedro Sacatepequez (San Marcos)
DESCRIPTION:Jornada de operaciones para mujer y hombre en el Centro de Atención Permanente San Pedro Sacatepequez (San Marcos).  \nOperaciones (para no tener más hijos): Ligaduras de trompas y vasectomías.  \nServicio Gratuito.  \nPara más información y reserva de cupo llamar al 4511-7490. 
URL:https://www.wingsguate.org/event/operaciones-san-pedro-sacatepequez-san-marcos-5/
CATEGORIES:English,Spanish
END:VEVENT
BEGIN:VEVENT
DTSTART;TZID=UTC:20231003T080000
DTEND;TZID=UTC:20231003T143000
DTSTAMP:20260419T132520
CREATED:20231003T115430Z
LAST-MODIFIED:20231003T115430Z
UID:13411-1696320000-1696343400@www.wingsguate.org
SUMMARY:Operaciones – Ciudad de Guatemala (Ciudad de Guatemala)
DESCRIPTION:Jornada de operaciones para mujer en Maternidad El Amparo\, zona 7\, Ciudad de Guatemala (Ciudad de Guatemala).  \nOperaciones (para no tener más hijos): Ligaduras de trompas.  \nServicio Gratuito.  \nPara más información y reserva de cupo llamar al 3003-1246. 
URL:https://www.wingsguate.org/event/operaciones-ciudad-de-guatemala-ciudad-de-guatemala-40/
CATEGORIES:English,Spanish
END:VEVENT
BEGIN:VEVENT
DTSTART;TZID=UTC:20231003T080000
DTEND;TZID=UTC:20231003T143000
DTSTAMP:20260419T132520
CREATED:20231003T120019Z
LAST-MODIFIED:20231003T120019Z
UID:13423-1696320000-1696343400@www.wingsguate.org
SUMMARY:Anticonceptivos – Chinautla (Ciudad de Guatemala)
DESCRIPTION:Servicios anticonceptivos en el Centro de Salud 6 de marzo\, Chinautla (Ciudad de Guatemala).  \nAnticonceptivos: Colocación de DIU (T de cobre) y Jadelle (implante hormonal).  \nTambién se ofrecerán pruebas de detección de cáncer cervical.  \nServicios gratuitos.  \nPara más información y reserva de cupo llamar al 3003-1246. 
URL:https://www.wingsguate.org/event/anticonceptivos-chinautla-ciudad-de-guatemala-12/
CATEGORIES:English,Spanish
END:VEVENT
BEGIN:VEVENT
DTSTART;TZID=UTC:20231003T080000
DTEND;TZID=UTC:20231003T143000
DTSTAMP:20260419T132520
CREATED:20231003T202525Z
LAST-MODIFIED:20231003T202525Z
UID:13466-1696320000-1696343400@www.wingsguate.org
SUMMARY:Anticonceptivos – Mazatenango (Suchitepéquez)
DESCRIPTION:Servicios anticonceptivos en Asociación Alas de Guatemala zona 1\, Mazatenango (Suchitepéquez).  \nAnticonceptivos: Colocación de DIU (T de cobre) y Jadelle (implante hormonal).  \nTambién se ofrecerán pruebas de detección de cáncer cervical.  \nServicios gratuitos.  \nPara más información y reserva de cupo llamar al 4511-6520. 
URL:https://www.wingsguate.org/event/anticonceptivos-mazatenango-suchitepequez-17/
CATEGORIES:English,Spanish
END:VEVENT
END:VCALENDAR