BEGIN:VCALENDAR
VERSION:2.0
PRODID:-//WINGS Guatemala - ECPv6.15.20//NONSGML v1.0//EN
CALSCALE:GREGORIAN
METHOD:PUBLISH
X-ORIGINAL-URL:https://www.wingsguate.org
X-WR-CALDESC:Events for WINGS Guatemala
REFRESH-INTERVAL;VALUE=DURATION:PT1H
X-Robots-Tag:noindex
X-PUBLISHED-TTL:PT1H
BEGIN:VTIMEZONE
TZID:UTC
BEGIN:STANDARD
TZOFFSETFROM:+0000
TZOFFSETTO:+0000
TZNAME:UTC
DTSTART:20220101T000000
END:STANDARD
END:VTIMEZONE
BEGIN:VEVENT
DTSTART;TZID=UTC:20231002T080000
DTEND;TZID=UTC:20231002T140000
DTSTAMP:20260421T162244
CREATED:20231003T115711Z
LAST-MODIFIED:20231003T115711Z
UID:13417-1696233600-1696255200@www.wingsguate.org
SUMMARY:Vasectomías – Ciudad de Guatemala (Ciudad de Guatemala)
DESCRIPTION:Jornada de operaciones para hombre en Maternidad El Amparo\, zona 7\, Ciudad de Guatemala (Ciudad de Guatemala).  \nOperaciones (para no tener más hijos): vasectomias.  \nServicio Gratuito.  \nPara más información y reserva de cupo llamar al 3003-1246. 
URL:https://www.wingsguate.org/event/vasectomias-ciudad-de-guatemala-ciudad-de-guatemala-16/
CATEGORIES:English,Spanish
END:VEVENT
BEGIN:VEVENT
DTSTART;TZID=UTC:20231002T080000
DTEND;TZID=UTC:20231002T143000
DTSTAMP:20260421T162244
CREATED:20231003T103955Z
LAST-MODIFIED:20231003T103955Z
UID:13326-1696233600-1696257000@www.wingsguate.org
SUMMARY:Anticonceptivos – Cobán (Alta Verapaz)
DESCRIPTION:Servicios anticonceptivos en Asociación Alas de Guatemala\, zona 2\, Cobán (Alta Verapaz). \nAnticonceptivos: Colocación de DIU (T de cobre) y Jadelle (implante hormonal).  \nTambién se ofrecerán pruebas de detección de cáncer cervical.  \nServicios gratuitos.  \nPara más información y reserva de cupo llamar al 3227-1513. 
URL:https://www.wingsguate.org/event/anticonceptivos-coban-alta-verapaz-107/
CATEGORIES:English,Spanish
END:VEVENT
BEGIN:VEVENT
DTSTART;TZID=UTC:20231002T080000
DTEND;TZID=UTC:20231002T143000
DTSTAMP:20260421T162244
CREATED:20231003T111033Z
LAST-MODIFIED:20231003T111033Z
UID:13340-1696233600-1696257000@www.wingsguate.org
SUMMARY:Anticonceptivos – San Pedro Carchá (Alta Verapaz)
DESCRIPTION:Servicios anticonceptivos en el Centro Comunitario San Vicente Chicatal\, San Pedro Carchá (Alta Verapaz). \nAnticonceptivos: Colocación de DIU (T de cobre) y Jadelle (implante hormonal).  \nTambién se ofrecerán pruebas de detección de cáncer cervical.  \nServicios gratuitos.  \nPara más información y reserva de cupo llamar al 3227-1513. 
URL:https://www.wingsguate.org/event/anticonceptivos-san-pedro-carcha-alta-verapaz-72/
CATEGORIES:English,Spanish
END:VEVENT
BEGIN:VEVENT
DTSTART;TZID=UTC:20231002T080000
DTEND;TZID=UTC:20231002T143000
DTSTAMP:20260421T162244
CREATED:20231003T115921Z
LAST-MODIFIED:20231003T115921Z
UID:13421-1696233600-1696257000@www.wingsguate.org
SUMMARY:Anticonceptivos – Villa Nueva (Ciudad de Guatemala)
DESCRIPTION:Servicios anticonceptivos en Clinica Municipal\, Villa Nueva (Ciudad de Guatemala).  \nAnticonceptivos: Colocación de DIU (T de cobre) y Jadelle (implante hormonal).  \nTambién se ofrecerán pruebas de detección de cáncer cervical.  \nServicios gratuitos.  \nPara más información y reserva de cupo llamar al 3003-1246. 
URL:https://www.wingsguate.org/event/anticonceptivos-villa-nueva-ciudad-de-guatemala-48/
CATEGORIES:English,Spanish
END:VEVENT
BEGIN:VEVENT
DTSTART;TZID=UTC:20231002T080000
DTEND;TZID=UTC:20231002T143000
DTSTAMP:20260421T162244
CREATED:20231003T205130Z
LAST-MODIFIED:20231003T205130Z
UID:13508-1696233600-1696257000@www.wingsguate.org
SUMMARY:Anticonceptivos – Quetzaltenango (Quetzaltenango)
DESCRIPTION:Servicios anticonceptivos en Asociación Alas de Guatemala zona 1\, Quetzaltenango (Quetzaltenango).  \nAnticonceptivos: Colocación de DIU (T de cobre) y Jadelle (implante hormonal).  \nTambién se ofrecerán pruebas de detección de cáncer cervical.  \nServicios gratuitos.  \nPara más información y reserva de cupo llamar al 4511-7490. 
URL:https://www.wingsguate.org/event/anticonceptivos-quetzaltenango-quetzaltenango-147/
CATEGORIES:English,Spanish
END:VEVENT
END:VCALENDAR