BEGIN:VCALENDAR
VERSION:2.0
PRODID:-//WINGS Guatemala - ECPv6.15.20//NONSGML v1.0//EN
CALSCALE:GREGORIAN
METHOD:PUBLISH
X-WR-CALNAME:WINGS Guatemala
X-ORIGINAL-URL:https://www.wingsguate.org
X-WR-CALDESC:Events for WINGS Guatemala
REFRESH-INTERVAL;VALUE=DURATION:PT1H
X-Robots-Tag:noindex
X-PUBLISHED-TTL:PT1H
BEGIN:VTIMEZONE
TZID:UTC
BEGIN:STANDARD
TZOFFSETFROM:+0000
TZOFFSETTO:+0000
TZNAME:UTC
DTSTART:20220101T000000
END:STANDARD
END:VTIMEZONE
BEGIN:VEVENT
DTSTART;TZID=UTC:20230928T080000
DTEND;TZID=UTC:20230928T143000
DTSTAMP:20260421T055330
CREATED:20230901T111309Z
LAST-MODIFIED:20230901T111309Z
UID:13049-1695888000-1695911400@www.wingsguate.org
SUMMARY:Operaciones – Tiquisate (Escuintla)
DESCRIPTION:Jornada de operaciones para mujer y hombre en el Hospital Nacional de Tiquisate (Escuintla).  \nOperaciones (para no tener más hijos): Ligaduras de trompas y vasectomías.  \nServicio Gratuito.  \nPara más información y reserva de cupo llamar al 4511-3527. 
URL:https://www.wingsguate.org/event/operaciones-tiquisate-escuintla-32/
CATEGORIES:English,Spanish
END:VEVENT
BEGIN:VEVENT
DTSTART;TZID=UTC:20230928T080000
DTEND;TZID=UTC:20230928T143000
DTSTAMP:20260421T055330
CREATED:20230902T022814Z
LAST-MODIFIED:20230902T022814Z
UID:13092-1695888000-1695911400@www.wingsguate.org
SUMMARY:Operaciones – Ciudad de Guatemala (Ciudad de Guatemala)
DESCRIPTION:Jornada de operaciones para mujer en la Maternidad zona 13\, Ciudad de Guatemala (Ciudad de Guatemala).  \nOperaciones (para no tener más hijos): Ligaduras de trompas.  \nServicio Gratuito.  \nPara más información y reserva de cupo llamar al 3003-1246. 
URL:https://www.wingsguate.org/event/operaciones-ciudad-de-guatemala-ciudad-de-guatemala-38/
CATEGORIES:English,Spanish
END:VEVENT
BEGIN:VEVENT
DTSTART;TZID=UTC:20230928T080000
DTEND;TZID=UTC:20230928T143000
DTSTAMP:20260421T055330
CREATED:20230902T024406Z
LAST-MODIFIED:20230902T024406Z
UID:13123-1695888000-1695911400@www.wingsguate.org
SUMMARY:Anticonceptivos – Zaragoza (Chimaltenango)
DESCRIPTION:Servicios anticonceptivos en el Centro de Salud de Zaragoza (Chimaltenango).  \nAnticonceptivos: Colocación de DIU (T de cobre) y Jadelle (implante hormonal).  \nTambién se ofrecerán pruebas de detección de cáncer cervical.  \nServicios gratuitos.  \nPara más información y reserva de cupo llamar al 4511-5525. 
URL:https://www.wingsguate.org/event/anticonceptivos-zaragoza-chimaltenango-24/
CATEGORIES:English,Spanish
END:VEVENT
END:VCALENDAR