BEGIN:VCALENDAR
VERSION:2.0
PRODID:-//WINGS Guatemala - ECPv6.15.20//NONSGML v1.0//EN
CALSCALE:GREGORIAN
METHOD:PUBLISH
X-WR-CALNAME:WINGS Guatemala
X-ORIGINAL-URL:https://www.wingsguate.org
X-WR-CALDESC:Events for WINGS Guatemala
REFRESH-INTERVAL;VALUE=DURATION:PT1H
X-Robots-Tag:noindex
X-PUBLISHED-TTL:PT1H
BEGIN:VTIMEZONE
TZID:UTC
BEGIN:STANDARD
TZOFFSETFROM:+0000
TZOFFSETTO:+0000
TZNAME:UTC
DTSTART:20220101T000000
END:STANDARD
END:VTIMEZONE
BEGIN:VEVENT
DTSTART;TZID=UTC:20230428T080000
DTEND;TZID=UTC:20230428T130000
DTSTAMP:20260420T024332
CREATED:20230323T215030Z
LAST-MODIFIED:20230323T215030Z
UID:11461-1682668800-1682686800@www.wingsguate.org
SUMMARY:Vasectomías – La Antigua Guatemala (Sacatepéquez)
DESCRIPTION:Vasectomías en la Clínica de Alas\, La Antigua Guatemala (Sacatepéquez).  \nDonación: Servicio Gratuito (población objetivo) / Q.100  \nVasectomía: Operación para hombres para no tener más hijos.  \nPara más información y reserva de cupo llamar al 4511-4347. 
URL:https://www.wingsguate.org/event/vasectomias-la-antigua-guatemala-sacatepequez-132/
CATEGORIES:English,Spanish
END:VEVENT
BEGIN:VEVENT
DTSTART;TZID=UTC:20230428T080000
DTEND;TZID=UTC:20230428T170000
DTSTAMP:20260420T024332
CREATED:20230412T222157Z
LAST-MODIFIED:20230412T222157Z
UID:11655-1682668800-1682701200@www.wingsguate.org
SUMMARY:Operaciones – Mazatenango (Suchitepéquez)
DESCRIPTION:Jornada de operaciones para mujer y hombre en el Hospital Nacional de Mazatenango (Suchitepéquez).  \nOperaciones (para no tener más hijos): Ligaduras de trompas y vasectomías.  \nServicios Gratuitos.  \nPara más información y reserva de cupo llamar al 4511-6520. 
URL:https://www.wingsguate.org/event/operaciones-mazatenango-suchitepequez-34/
CATEGORIES:English,Spanish
END:VEVENT
BEGIN:VEVENT
DTSTART;TZID=UTC:20230428T080000
DTEND;TZID=UTC:20230428T170000
DTSTAMP:20260420T024332
CREATED:20230412T223642Z
LAST-MODIFIED:20230412T223642Z
UID:11675-1682668800-1682701200@www.wingsguate.org
SUMMARY:Anticonceptivos – Quetzaltenango (Quetzaltenango)
DESCRIPTION:Servicios anticonceptivos en Asociación Alas de Guatemala zona 1\, Quetzaltenango (Quetzaltenango).  \nAnticonceptivos: Colocación de DIU (T de cobre) y Jadelle (implante hormonal).  \nTambién se ofrecerán pruebas de detección de cáncer cervical.  \nServicios gratuitos.  \nPara más información y reserva de cupo llamar al 4511-7490. 
URL:https://www.wingsguate.org/event/anticonceptivos-quetzaltenango-quetzaltenango-117/
CATEGORIES:English,Spanish
END:VEVENT
END:VCALENDAR