BEGIN:VCALENDAR
VERSION:2.0
PRODID:-//WINGS Guatemala - ECPv6.15.20//NONSGML v1.0//EN
CALSCALE:GREGORIAN
METHOD:PUBLISH
X-WR-CALNAME:WINGS Guatemala
X-ORIGINAL-URL:https://www.wingsguate.org
X-WR-CALDESC:Events for WINGS Guatemala
REFRESH-INTERVAL;VALUE=DURATION:PT1H
X-Robots-Tag:noindex
X-PUBLISHED-TTL:PT1H
BEGIN:VTIMEZONE
TZID:UTC
BEGIN:STANDARD
TZOFFSETFROM:+0000
TZOFFSETTO:+0000
TZNAME:UTC
DTSTART:20220101T000000
END:STANDARD
END:VTIMEZONE
BEGIN:VEVENT
DTSTART;TZID=UTC:20230131T080000
DTEND;TZID=UTC:20230131T123000
DTSTAMP:20260420T070448
CREATED:20230104T210209Z
LAST-MODIFIED:20230104T210209Z
UID:10767-1675152000-1675168200@www.wingsguate.org
SUMMARY:Operaciones – Chimaltenango (Chimaltenango)
DESCRIPTION:Ligadura de Trompas en el Hospital Carrol Behrhorst\, Chimaltenango (Chimaltenango ).  \nDonación: Q.50  \nLigadura de Trompas: Operación para mujeres para no tener más hijos.  \nPara más información y reserva de cupo\, llamar al 4511-5525. 
URL:https://www.wingsguate.org/event/operaciones-chimaltenango-chimaltenango-36/
CATEGORIES:English,Spanish
END:VEVENT
BEGIN:VEVENT
DTSTART;TZID=UTC:20230131T080000
DTEND;TZID=UTC:20230131T123000
DTSTAMP:20260420T070448
CREATED:20230104T211644Z
LAST-MODIFIED:20230104T211644Z
UID:10785-1675152000-1675168200@www.wingsguate.org
SUMMARY:Operaciones – Momostenango (Totonicapán)
DESCRIPTION:Ligadura de Trompas y Vasectomías en el Centro de Atención Integral Materno Infantil (CAIMI) de Momostenango (Totonicapán).  \nServicios gratuitos.  \nLigadura de Trompas: Operación para mujeres para no tener más hijos. \nVasectomías: Operación para hombres para no tener más hijos.  \nPara más información y reserva de cupo\, llamar al 32237-4564.
URL:https://www.wingsguate.org/event/operaciones-momostenango-totonicapan-14/
CATEGORIES:English,Spanish
END:VEVENT
BEGIN:VEVENT
DTSTART;TZID=UTC:20230131T080000
DTEND;TZID=UTC:20230131T143000
DTSTAMP:20260420T070448
CREATED:20230104T040352Z
LAST-MODIFIED:20230104T040352Z
UID:10708-1675152000-1675175400@www.wingsguate.org
SUMMARY:Anticonceptivos – San Juan Alotenango (Sacatepéquez)
DESCRIPTION:Servicios anticonceptivos en la Dirección Municipal de la Mujer de San Juan Alotenango (Sacatepéquez).\nAnticonceptivos: Colocación de DIU (T de cobre) y Jadelle (implante hormonal). \n\n\nTambién se ofrecerán pruebas de detección de cáncer cervical.  \nServicios gratuitos.  \nPara más información y reserva de cupo\, llamar al 4511-3527. 
URL:https://www.wingsguate.org/event/anticonceptivos-san-juan-alotenango-sacatepequez-15/
CATEGORIES:English,Spanish
END:VEVENT
BEGIN:VEVENT
DTSTART;TZID=UTC:20230131T080000
DTEND;TZID=UTC:20230131T143000
DTSTAMP:20260420T070448
CREATED:20230112T003637Z
LAST-MODIFIED:20230112T003637Z
UID:10808-1675152000-1675175400@www.wingsguate.org
SUMMARY:Anticonceptivos – San Juan Amatitlán (Ciudad de Guatemala)
DESCRIPTION:Servicios anticonceptivos en la Dirección Municipal de la Mujer\, San Juan Amatitlán  (Ciudad de Guatemala).  \nAnticonceptivos: Colocación de DIU (T de cobre) y Jadelle (implante hormonal).  \nTambién se ofrecerán pruebas de detección de cáncer cervical.  \nServicios gratuitos.  \nPara más información y reserva de cupo\, llamar al 3003-1246. 
URL:https://www.wingsguate.org/event/anticonceptivos-san-juan-amatitlan-ciudad-de-guatemala-11/
CATEGORIES:English,Spanish
END:VEVENT
END:VCALENDAR