BEGIN:VCALENDAR
VERSION:2.0
PRODID:-//WINGS Guatemala - ECPv6.15.20//NONSGML v1.0//EN
CALSCALE:GREGORIAN
METHOD:PUBLISH
X-ORIGINAL-URL:https://www.wingsguate.org
X-WR-CALDESC:Events for WINGS Guatemala
REFRESH-INTERVAL;VALUE=DURATION:PT1H
X-Robots-Tag:noindex
X-PUBLISHED-TTL:PT1H
BEGIN:VTIMEZONE
TZID:UTC
BEGIN:STANDARD
TZOFFSETFROM:+0000
TZOFFSETTO:+0000
TZNAME:UTC
DTSTART:20220101T000000
END:STANDARD
END:VTIMEZONE
BEGIN:VEVENT
DTSTART;TZID=UTC:20230119T080000
DTEND;TZID=UTC:20230119T123000
DTSTAMP:20260423T085506
CREATED:20230104T211333Z
LAST-MODIFIED:20230104T211333Z
UID:10783-1674115200-1674131400@www.wingsguate.org
SUMMARY:Vasectomías – Ciudad de Guatemala (Ciudad de Guatemala)
DESCRIPTION:Vasectomías en Corazón de Agua\, zona 1 Ciudad de Guatemala (Ciudad de Guatemala).  \nDonación: Servicio Gratuito (población objetivo) / Q.100  \nVasectomía: Operación para hombres para no tener más hijos.  \nPara más información y reserva de cupo\, llamar al 3003-1246. 
URL:https://www.wingsguate.org/event/vasectomias-ciudad-de-guatemala-ciudad-de-guatemala-11/
CATEGORIES:English,Spanish
END:VEVENT
BEGIN:VEVENT
DTSTART;TZID=UTC:20230119T080000
DTEND;TZID=UTC:20230119T143000
DTSTAMP:20260423T085506
CREATED:20230104T032211Z
LAST-MODIFIED:20230104T032211Z
UID:10680-1674115200-1674138600@www.wingsguate.org
SUMMARY:Anticonceptivos – Cobán (Alta Verapaz)
DESCRIPTION:Servicios anticonceptivos en Asociación Alas de Guatemala\, 2da. calle 11-51\, zona 2\, (frente a la Escuela de Comercio) Cobán (Alta Verapaz). \nAnticonceptivos: Colocación de DIU (T de cobre) y Jadelle (implante hormonal).  \nTambién se ofrecerán pruebas de detección de cáncer cervical.  \nServicios gratuitos.  \nPara más información y reserva de cupo\, llamar al 3227-1513. 
URL:https://www.wingsguate.org/event/anticonceptivos-coban-alta-verapaz-63/
CATEGORIES:English,Spanish
END:VEVENT
BEGIN:VEVENT
DTSTART;TZID=UTC:20230119T080000
DTEND;TZID=UTC:20230119T143000
DTSTAMP:20260423T085506
CREATED:20230104T033709Z
LAST-MODIFIED:20230104T033709Z
UID:10694-1674115200-1674138600@www.wingsguate.org
SUMMARY:Anticonceptivos – Lanquín (Alta Verapaz)
DESCRIPTION:Servicios anticonceptivos en el Centro de Atención Permanente de Lanquín (Alta Verapaz). \nAnticonceptivos: Colocación de DIU (T de cobre) y Jadelle (implante hormonal).  \nTambién se ofrecerán pruebas de detección de cáncer cervical.  \nServicios gratuitos.  \nPara más información y reserva de cupo\, llamar al 3227-1513. 
URL:https://www.wingsguate.org/event/anticonceptivos-lanquin-alta-verapaz-11/
CATEGORIES:English,Spanish
END:VEVENT
BEGIN:VEVENT
DTSTART;TZID=UTC:20230119T080000
DTEND;TZID=UTC:20230119T143000
DTSTAMP:20260423T085506
CREATED:20230104T041911Z
LAST-MODIFIED:20230104T041911Z
UID:10718-1674115200-1674138600@www.wingsguate.org
SUMMARY:Anticonceptivos – Mixco (Ciudad de Guatemala)
DESCRIPTION:Servicios anticonceptivos en las Clinicas Municipales de Col. El Milagro zona 6\, Mixco (Ciudad de Guatemala).  \nAnticonceptivos: Colocación de DIU (T de cobre) y Jadelle (implante hormonal).  \nTambién se ofrecerán pruebas de detección de cáncer cervical.  \nServicios gratuitos.  \nPara más información y reserva de cupo\, llamar al 3003-1246. 
URL:https://www.wingsguate.org/event/anticonceptivos-mixco-ciudad-de-guatemala-17/
CATEGORIES:English,Spanish
END:VEVENT
BEGIN:VEVENT
DTSTART;TZID=UTC:20230119T080000
DTEND;TZID=UTC:20230119T143000
DTSTAMP:20260423T085506
CREATED:20230104T042638Z
LAST-MODIFIED:20230104T042638Z
UID:10729-1674115200-1674138600@www.wingsguate.org
SUMMARY:Anticonceptivos – EL Tejar (Chimaltenango)
DESCRIPTION:Servicios anticonceptivos en el Salón Municipal / Clínica de Planificación Familiar de El Tejar (Chimaltenango).  \nAnticonceptivos: Colocación de DIU (T de cobre) y Jadelle (implante hormonal).  \nTambién se ofrecerán pruebas de detección de cáncer cervical.  \nServicios gratuitos.  \nPara más información y reserva de cupo\, llamar al 4511-5525. 
URL:https://www.wingsguate.org/event/anticonceptivos-el-tejar-chimaltenango-17/
CATEGORIES:English,Spanish
END:VEVENT
BEGIN:VEVENT
DTSTART;TZID=UTC:20230119T080000
DTEND;TZID=UTC:20230119T143000
DTSTAMP:20260423T085506
CREATED:20230104T043428Z
LAST-MODIFIED:20230104T043428Z
UID:10737-1674115200-1674138600@www.wingsguate.org
SUMMARY:Anticonceptivos – San Antonio Huista (Huehuetenango)
DESCRIPTION:Servicios anticonceptivos en el Salón Municipal San Antonio Huista (Huehuetenango).  \nAnticonceptivos: Colocación de DIU (T de cobre) y Jadelle (implante hormonal).  \nTambién se ofrecerán pruebas de detección de cáncer cervical.  \nServicios gratuitos.  \nPara más información y reserva de cupo\, llamar al 3227-4564. 
URL:https://www.wingsguate.org/event/anticonceptivos-san-antonio-huista-huehuetenango-5/
CATEGORIES:English,Spanish
END:VEVENT
BEGIN:VEVENT
DTSTART;TZID=UTC:20230119T080000
DTEND;TZID=UTC:20230119T143000
DTSTAMP:20260423T085506
CREATED:20230104T044154Z
LAST-MODIFIED:20230104T044154Z
UID:10746-1674115200-1674138600@www.wingsguate.org
SUMMARY:Anticonceptivos – San Francisco Zapotitlán (Suchitepéquez)
DESCRIPTION:Servicios anticonceptivos en la Dirección Municipal de la Mujer de San Francisco Zapotitlán (Suchitepéquez).  \nAnticonceptivos: Colocación de DIU (T de cobre) y Jadelle (implante hormonal).  \nTambién se ofrecerán pruebas de detección de cáncer cervical.  \nServicios gratuitos.  \nPara más información y reserva de cupo\, llamar al 4511-6520. 
URL:https://www.wingsguate.org/event/anticonceptivos-san-francisco-zapotitlan-suchitepequez-16/
CATEGORIES:English,Spanish
END:VEVENT
BEGIN:VEVENT
DTSTART;TZID=UTC:20230119T080000
DTEND;TZID=UTC:20230119T143000
DTSTAMP:20260423T085506
CREATED:20230104T045000Z
LAST-MODIFIED:20230104T045000Z
UID:10760-1674115200-1674138600@www.wingsguate.org
SUMMARY:Anticonceptivos – Quetzaltenango (Quetzaltenango)
DESCRIPTION:Servicios anticonceptivos en el Centro de Salud La Esperanza\, Quetzaltenango (Quetzaltenango).  \nAnticonceptivos: Colocación de DIU (T de cobre) y Jadelle (implante hormonal).  \nTambién se ofrecerán pruebas de detección de cáncer cervical.  \nServicios gratuitos.  \nPara más información y reserva de cupo\, llamar al 4511-7490. 
URL:https://www.wingsguate.org/event/anticonceptivos-quetzaltenango-quetzaltenango-101/
CATEGORIES:English,Spanish
END:VEVENT
END:VCALENDAR