BEGIN:VCALENDAR
VERSION:2.0
PRODID:-//WINGS Guatemala - ECPv6.15.20//NONSGML v1.0//EN
CALSCALE:GREGORIAN
METHOD:PUBLISH
X-ORIGINAL-URL:https://www.wingsguate.org
X-WR-CALDESC:Events for WINGS Guatemala
REFRESH-INTERVAL;VALUE=DURATION:PT1H
X-Robots-Tag:noindex
X-PUBLISHED-TTL:PT1H
BEGIN:VTIMEZONE
TZID:UTC
BEGIN:STANDARD
TZOFFSETFROM:+0000
TZOFFSETTO:+0000
TZNAME:UTC
DTSTART:20220101T000000
END:STANDARD
END:VTIMEZONE
BEGIN:VEVENT
DTSTART;TZID=UTC:20230112T080000
DTEND;TZID=UTC:20230112T123000
DTSTAMP:20260420T132136
CREATED:20230104T210806Z
LAST-MODIFIED:20230104T210806Z
UID:10775-1673510400-1673526600@www.wingsguate.org
SUMMARY:Operaciones – Tiquisate (Escuintla)
DESCRIPTION:Ligadura de Trompas y Vasectomías en el Hospital Nacional de Tiquisate (Escuintla).  \nServicios gratuitos.  \nLigadura de Trompas: Operación para mujeres para no tener más hijos. \nVasectomías: Operación para hombres para no tener más hijos.  \nPara más información y reserva de cupo\, llamar al 4511-3527. 
URL:https://www.wingsguate.org/event/operaciones-tiquisate-escuintla-27/
CATEGORIES:English,Spanish
END:VEVENT
BEGIN:VEVENT
DTSTART;TZID=UTC:20230112T080000
DTEND;TZID=UTC:20230112T123000
DTSTAMP:20260420T132136
CREATED:20230104T212019Z
LAST-MODIFIED:20230104T212019Z
UID:10787-1673510400-1673526600@www.wingsguate.org
SUMMARY:Operaciones – San Martín Zapotitlán (Retalhuleu)
DESCRIPTION:Ligadura de Trompas y Vasectomías en el Centro de Atención Permante de San Martín Zapotitlán (Retalhuleu).  \nServicios gratuitos.  \nLigadura de Trompas: Operación para mujeres para no tener más hijos. \nVasectomías: Operación para hombres para no tener más hijos.  \nPara más información y reserva de cupo\, llamar al 4511-6520.
URL:https://www.wingsguate.org/event/operaciones-san-martin-zapotitlan-retalhuleu-4/
CATEGORIES:English,Spanish
END:VEVENT
BEGIN:VEVENT
DTSTART;TZID=UTC:20230112T080000
DTEND;TZID=UTC:20230112T143000
DTSTAMP:20260420T132136
CREATED:20230104T031231Z
LAST-MODIFIED:20230104T031231Z
UID:10668-1673510400-1673533800@www.wingsguate.org
SUMMARY:Anticonceptivos – San Jeronimo (Baja Verapaz)
DESCRIPTION:Servicios anticonceptivos en el Puesto de Salud\, Santa Barbara\, San Jeronimo (Alta Verapaz). \nAnticonceptivos: Colocación de DIU (T de cobre) y Jadelle (implante hormonal).  \nTambién se ofrecerán pruebas de detección de cáncer cervical.  \nServicios gratuitos.  \nPara más información y reserva de cupo\, llamar al 3227-1513. 
URL:https://www.wingsguate.org/event/anticonceptivos-san-jeronimo-baja-verapaz-6/
CATEGORIES:English,Spanish
END:VEVENT
BEGIN:VEVENT
DTSTART;TZID=UTC:20230112T080000
DTEND;TZID=UTC:20230112T143000
DTSTAMP:20260420T132136
CREATED:20230104T033152Z
LAST-MODIFIED:20230104T033152Z
UID:10686-1673510400-1673533800@www.wingsguate.org
SUMMARY:Anticonceptivos – Santa Catalina La Tinta (Alta Verapaz)
DESCRIPTION:Servicios anticonceptivos en el Centro Comunitario Sacsuhá\, Santalita (Alta Verapaz). \nAnticonceptivos: Colocación de DIU (T de cobre) y Jadelle (implante hormonal).  \nTambién se ofrecerán pruebas de detección de cáncer cervical.  \nServicios gratuitos.  \nPara más información y reserva de cupo\, llamar al 3227-1513. 
URL:https://www.wingsguate.org/event/anticonceptivos-santa-catalina-la-tinta-alta-verapaz-9/
CATEGORIES:English,Spanish
END:VEVENT
BEGIN:VEVENT
DTSTART;TZID=UTC:20230112T080000
DTEND;TZID=UTC:20230112T143000
DTSTAMP:20260420T132136
CREATED:20230104T040150Z
LAST-MODIFIED:20230104T040150Z
UID:10704-1673510400-1673533800@www.wingsguate.org
SUMMARY:Anticonceptivos – Jocotenango (Sacatepéquez)
DESCRIPTION:Servicios anticonceptivos en la Dirección Municipal de la Mujer de Jocotenango (Sacatepéquez).\nAnticonceptivos: Colocación de DIU (T de cobre) y Jadelle (implante hormonal). \n\n\nTambién se ofrecerán pruebas de detección de cáncer cervical.  \nServicios gratuitos.  \nPara más información y reserva de cupo\, llamar al 4511-3527. 
URL:https://www.wingsguate.org/event/anticonceptivos-jocotenango-sacatepequez-9/
CATEGORIES:English,Spanish
END:VEVENT
END:VCALENDAR