BEGIN:VCALENDAR
VERSION:2.0
PRODID:-//WINGS Guatemala - ECPv6.15.20//NONSGML v1.0//EN
CALSCALE:GREGORIAN
METHOD:PUBLISH
X-ORIGINAL-URL:https://www.wingsguate.org
X-WR-CALDESC:Events for WINGS Guatemala
REFRESH-INTERVAL;VALUE=DURATION:PT1H
X-Robots-Tag:noindex
X-PUBLISHED-TTL:PT1H
BEGIN:VTIMEZONE
TZID:UTC
BEGIN:STANDARD
TZOFFSETFROM:+0000
TZOFFSETTO:+0000
TZNAME:UTC
DTSTART:20220101T000000
END:STANDARD
END:VTIMEZONE
BEGIN:VEVENT
DTSTART;TZID=UTC:20230111T080000
DTEND;TZID=UTC:20230111T123000
DTSTAMP:20260420T132134
CREATED:20230104T210702Z
LAST-MODIFIED:20230104T210702Z
UID:10773-1673424000-1673440200@www.wingsguate.org
SUMMARY:Operaciones – San José (Escuintla)
DESCRIPTION:Ligadura de Trompas y Vasectomías en el Centro de Atención Permanente de San José (Escuintla).  \nServicios gratuitos.  \nLigadura de Trompas: Operación para mujeres para no tener más hijos. \nVasectomías: Operación para hombres para no tener más hijos.  \nPara más información y reserva de cupo\, llamar al 4511-3527. 
URL:https://www.wingsguate.org/event/operaciones-san-jose-escuintla/
CATEGORIES:English,Spanish
END:VEVENT
BEGIN:VEVENT
DTSTART;TZID=UTC:20230111T080000
DTEND;TZID=UTC:20230111T123000
DTSTAMP:20260420T132134
CREATED:20230104T212214Z
LAST-MODIFIED:20230104T212214Z
UID:10789-1673424000-1673440200@www.wingsguate.org
SUMMARY:Operaciones – Coatepeque (Quetzaltenango)
DESCRIPTION:Ligadura de Trompas y Vasectomías en el Centro de Atención Permante Las Palmas\, Coatepeque (Quetzaltenango).  \nServicios gratuitos.  \nLigadura de Trompas: Operación para mujeres para no tener más hijos. \nVasectomías: Operación para hombres para no tener más hijos.  \nPara más información y reserva de cupo\, llamar al 4511-7490. 
URL:https://www.wingsguate.org/event/operaciones-coatepeque-quetzaltenango-9/
CATEGORIES:English,Spanish
END:VEVENT
BEGIN:VEVENT
DTSTART;TZID=UTC:20230111T080000
DTEND;TZID=UTC:20230111T143000
DTSTAMP:20260420T132134
CREATED:20230104T031127Z
LAST-MODIFIED:20230104T031127Z
UID:10665-1673424000-1673447400@www.wingsguate.org
SUMMARY:Anticonceptivos – Salamá (Baja Verapaz)
DESCRIPTION:Servicios anticonceptivos en el Puesto de Salud\, Chilasco\, Salamá (Baja Verapaz). \nAnticonceptivos: Colocación de DIU (T de cobre) y Jadelle (implante hormonal).  \nTambién se ofrecerán pruebas de detección de cáncer cervical.  \nServicios gratuitos.  \nPara más información y reserva de cupo\, llamar al 3227-1513. 
URL:https://www.wingsguate.org/event/anticonceptivos-salama-baja-verapaz-13/
CATEGORIES:English,Spanish
END:VEVENT
BEGIN:VEVENT
DTSTART;TZID=UTC:20230111T080000
DTEND;TZID=UTC:20230111T143000
DTSTAMP:20260420T132134
CREATED:20230104T032552Z
LAST-MODIFIED:20230104T032552Z
UID:10684-1673424000-1673447400@www.wingsguate.org
SUMMARY:Anticonceptivos – Panzos (Alta Verapaz)
DESCRIPTION:Servicios anticonceptivos en el Centro de Atención Permanente Teleman\, Panzos (Alta Verapaz). \nAnticonceptivos: Colocación de DIU (T de cobre) y Jadelle (implante hormonal).  \nTambién se ofrecerán pruebas de detección de cáncer cervical.  \nServicios gratuitos.  \nPara más información y reserva de cupo\, llamar al 3227-1513. 
URL:https://www.wingsguate.org/event/anticonceptivos-panzos-alta-verapaz-14/
CATEGORIES:English,Spanish
END:VEVENT
BEGIN:VEVENT
DTSTART;TZID=UTC:20230111T080000
DTEND;TZID=UTC:20230111T143000
DTSTAMP:20260420T132134
CREATED:20230104T042301Z
LAST-MODIFIED:20230104T042301Z
UID:10722-1673424000-1673447400@www.wingsguate.org
SUMMARY:Anticonceptivos – Parramos (Chimaltenango)
DESCRIPTION:Servicios anticonceptivos en el Salón Municipal de Parramos (Chimaltenango).  \nAnticonceptivos: Colocación de DIU (T de cobre) y Jadelle (implante hormonal).  \nTambién se ofrecerán pruebas de detección de cáncer cervical.  \nServicios gratuitos.  \nPara más información y reserva de cupo\, llamar al 4511-5525. 
URL:https://www.wingsguate.org/event/anticonceptivos-parramos-chimaltenango-10/
CATEGORIES:English,Spanish
END:VEVENT
BEGIN:VEVENT
DTSTART;TZID=UTC:20230111T080000
DTEND;TZID=UTC:20230111T143000
DTSTAMP:20260420T132134
CREATED:20230104T044002Z
LAST-MODIFIED:20230104T044002Z
UID:10742-1673424000-1673447400@www.wingsguate.org
SUMMARY:Anticonceptivos – Cuyotenango (Suchitepéquez)
DESCRIPTION:Servicios anticonceptivos en el Centro de Atención Permanente de Cuyotenango (Suchitepéquez).  \nAnticonceptivos: Colocación de DIU (T de cobre) y Jadelle (implante hormonal).  \nTambién se ofrecerán pruebas de detección de cáncer cervical.  \nServicios gratuitos.  \nPara más información y reserva de cupo\, llamar al 4511-6520. 
URL:https://www.wingsguate.org/event/anticonceptivos-cuyotenango-suchitepequez-46/
CATEGORIES:English,Spanish
END:VEVENT
END:VCALENDAR