BEGIN:VCALENDAR
VERSION:2.0
PRODID:-//WINGS Guatemala - ECPv6.15.20//NONSGML v1.0//EN
CALSCALE:GREGORIAN
METHOD:PUBLISH
X-ORIGINAL-URL:https://www.wingsguate.org
X-WR-CALDESC:Events for WINGS Guatemala
REFRESH-INTERVAL;VALUE=DURATION:PT1H
X-Robots-Tag:noindex
X-PUBLISHED-TTL:PT1H
BEGIN:VTIMEZONE
TZID:UTC
BEGIN:STANDARD
TZOFFSETFROM:+0000
TZOFFSETTO:+0000
TZNAME:UTC
DTSTART:20220101T000000
END:STANDARD
END:VTIMEZONE
BEGIN:VEVENT
DTSTART;TZID=UTC:20230109T080000
DTEND;TZID=UTC:20230109T123000
DTSTAMP:20260423T102522
CREATED:20230104T210453Z
LAST-MODIFIED:20230104T210453Z
UID:10769-1673251200-1673267400@www.wingsguate.org
SUMMARY:Operaciones – Palin (Escuintla)
DESCRIPTION:Ligadura de Trompas y Vasectomías en la Maternidad Municipal de Palin (Escuintla).  \nServicios gratuitos.  \nLigadura de Trompas: Operación para mujeres para no tener más hijos. \nVasectomías: Operación para hombres para no tener más hijos.  \nPara más información y reserva de cupo\, llamar al 4511-3527.
URL:https://www.wingsguate.org/event/operaciones-palin-escuintla-25/
CATEGORIES:English,Spanish
END:VEVENT
BEGIN:VEVENT
DTSTART;TZID=UTC:20230109T080000
DTEND;TZID=UTC:20230109T143000
DTSTAMP:20260423T102522
CREATED:20230104T044629Z
LAST-MODIFIED:20230104T044629Z
UID:10752-1673251200-1673274600@www.wingsguate.org
SUMMARY:Anticonceptivos – Cantel (Quetzaltenango)
DESCRIPTION:Servicios anticonceptivos en el Puesto de Salud Aldea La Estancia\, Cantel (Quetzaltenango).  \nAnticonceptivos: Colocación de DIU (T de cobre) y Jadelle (implante hormonal).  \nTambién se ofrecerán pruebas de detección de cáncer cervical.  \nServicios gratuitos.  \nPara más información y reserva de cupo\, llamar al 4511-7490. 
URL:https://www.wingsguate.org/event/anticonceptivos-cantel-quetzaltenango-22/
CATEGORIES:English,Spanish
END:VEVENT
BEGIN:VEVENT
DTSTART;TZID=UTC:20230109T080000
DTEND;TZID=UTC:20230109T143000
DTSTAMP:20260423T102522
CREATED:20230104T044740Z
LAST-MODIFIED:20230104T044740Z
UID:10754-1673251200-1673274600@www.wingsguate.org
SUMMARY:Anticonceptivos – Quetzaltenango (Quetzaltenango)
DESCRIPTION:Servicios anticonceptivos en el Puesto de Salud La Colina\, zona 5 Quetzaltenango (Quetzaltenango).  \nAnticonceptivos: Colocación de DIU (T de cobre) y Jadelle (implante hormonal).  \nTambién se ofrecerán pruebas de detección de cáncer cervical.  \nServicios gratuitos.  \nPara más información y reserva de cupo\, llamar al 4511-7490. 
URL:https://www.wingsguate.org/event/anticonceptivos-quetzaltenango-quetzaltenango-98/
CATEGORIES:English,Spanish
END:VEVENT
END:VCALENDAR