BEGIN:VCALENDAR
VERSION:2.0
PRODID:-//WINGS Guatemala - ECPv6.15.20//NONSGML v1.0//EN
CALSCALE:GREGORIAN
METHOD:PUBLISH
X-ORIGINAL-URL:https://www.wingsguate.org
X-WR-CALDESC:Events for WINGS Guatemala
REFRESH-INTERVAL;VALUE=DURATION:PT1H
X-Robots-Tag:noindex
X-PUBLISHED-TTL:PT1H
BEGIN:VTIMEZONE
TZID:UTC
BEGIN:STANDARD
TZOFFSETFROM:+0000
TZOFFSETTO:+0000
TZNAME:UTC
DTSTART:20210101T000000
END:STANDARD
END:VTIMEZONE
BEGIN:VEVENT
DTSTART;TZID=UTC:20220920T080000
DTEND;TZID=UTC:20220920T133000
DTSTAMP:20260423T022607
CREATED:20220823T034250Z
LAST-MODIFIED:20220823T034250Z
UID:9833-1663660800-1663680600@www.wingsguate.org
SUMMARY:Operaciones – Palín (Escuintla)
DESCRIPTION:Jornada de operaciones para mujer y hombre en la Maternidad Municipal de Palín (Escuintla).  \nOperaciones (para no tener más hijos): Ligaduras de trompas y Vasectomías.  \nServicio Gratuito. \nPara más información y reserva de cupo\, llamar al 4511-3527. 
URL:https://www.wingsguate.org/event/operaciones-palin-escuintla-24/
CATEGORIES:English,Spanish
END:VEVENT
BEGIN:VEVENT
DTSTART;TZID=UTC:20220920T080000
DTEND;TZID=UTC:20220920T143000
DTSTAMP:20260423T022607
CREATED:20220831T021559Z
LAST-MODIFIED:20220831T021559Z
UID:9909-1663660800-1663684200@www.wingsguate.org
SUMMARY:Anticonceptivos – Comalapa (Chimaltenango)
DESCRIPTION:Servicios anticonceptivos en el Centro de Atención Permanente de Comalapa (Chimaltenango).  \nAnticonceptivos: Colocación de DIU (T de cobre) y Jadelle (implante hormonal).  \nTambién se ofrecerán pruebas de detección de cáncer cervical.  \nServicios gratuitos.  \nPara más información y reserva de cupo\, llamar al 4511-5525. 
URL:https://www.wingsguate.org/event/anticonceptivos-comalapa-chimaltenango-9/
CATEGORIES:English,Spanish
END:VEVENT
BEGIN:VEVENT
DTSTART;TZID=UTC:20220920T080000
DTEND;TZID=UTC:20220920T143000
DTSTAMP:20260423T022607
CREATED:20220831T021824Z
LAST-MODIFIED:20220831T021824Z
UID:9912-1663660800-1663684200@www.wingsguate.org
SUMMARY:Anticonceptivos – Chimaltenango (Chimaltenango)
DESCRIPTION:Servicios anticonceptivos en SOSEA\, zona 3 de Chimaltenango (Chimaltenango).  \nAnticonceptivos: Colocación de DIU (T de cobre) y Jadelle (implante hormonal).  \nTambién se ofrecerán pruebas de detección de cáncer cervical.  \nServicios gratuitos.  \nPara más información y reserva de cupo\, llamar al 4511-5525. 
URL:https://www.wingsguate.org/event/anticonceptivos-chimaltenango-chimaltenango-29/
CATEGORIES:English,Spanish
END:VEVENT
BEGIN:VEVENT
DTSTART;TZID=UTC:20220920T080000
DTEND;TZID=UTC:20220920T143000
DTSTAMP:20260423T022607
CREATED:20220906T110052Z
LAST-MODIFIED:20220906T110052Z
UID:9929-1663660800-1663684200@www.wingsguate.org
SUMMARY:Operaciones – Cobán (Alta Verapaz)
DESCRIPTION:Operaciones para no tener hijos en el Hospital Cubano\, Cobán (Alta Verapaz).  \nDonación: Q.50  \nLaparoscopía: Operación para mujeres para no tener más hijos.  \nPara más información y reserva de cupo\, llamar al 3227-1513. 
URL:https://www.wingsguate.org/event/operaciones-coban-alta-verapaz-10/
CATEGORIES:English,Spanish
END:VEVENT
BEGIN:VEVENT
DTSTART;TZID=UTC:20220920T080000
DTEND;TZID=UTC:20220920T150000
DTSTAMP:20260423T022607
CREATED:20220906T181139Z
LAST-MODIFIED:20220906T181139Z
UID:9976-1663660800-1663686000@www.wingsguate.org
SUMMARY:Anticonceptivos – San Antonio (Suchitepéquez)
DESCRIPTION:Servicios anticonceptivos en el Centro de Atención Permanente San Antonio (Suchitepéquez).  \nAnticonceptivos: Colocación de DIU (T de cobre) y Jadelle (implante hormonal).  \nTambién se ofrecerán pruebas de detección de cáncer cervical.  \nServicios gratuitos.  \nPara más información y reserva de cupo\, llamar al 4511-6520. 
URL:https://www.wingsguate.org/event/anticonceptivos-san-antonio-suchitepequez-6/
CATEGORIES:English,Spanish
END:VEVENT
BEGIN:VEVENT
DTSTART;TZID=UTC:20220920T080000
DTEND;TZID=UTC:20220920T150000
DTSTAMP:20260423T022607
CREATED:20220906T234809Z
LAST-MODIFIED:20220906T234821Z
UID:10023-1663660800-1663686000@www.wingsguate.org
SUMMARY:Operaciones – Totonicapán (Totonicapán)
DESCRIPTION:Jornada de operaciones para mujer y hombre en Hospital Los Proceres\, Totonicapán (Totonicapán ).  \nOperaciones (para no tener más hijos): Ligaduras de trompas y Vasectomías.  \nDonativo: Q50.  \nPara más información y reserva de cupo\, llamar al 3227-4564. 
URL:https://www.wingsguate.org/event/operaciones-totonicapan-totonicapan-10/
CATEGORIES:English,Spanish
END:VEVENT
END:VCALENDAR