BEGIN:VCALENDAR
VERSION:2.0
PRODID:-//WINGS Guatemala - ECPv6.15.20//NONSGML v1.0//EN
CALSCALE:GREGORIAN
METHOD:PUBLISH
X-WR-CALNAME:WINGS Guatemala
X-ORIGINAL-URL:https://www.wingsguate.org
X-WR-CALDESC:Events for WINGS Guatemala
REFRESH-INTERVAL;VALUE=DURATION:PT1H
X-Robots-Tag:noindex
X-PUBLISHED-TTL:PT1H
BEGIN:VTIMEZONE
TZID:UTC
BEGIN:STANDARD
TZOFFSETFROM:+0000
TZOFFSETTO:+0000
TZNAME:UTC
DTSTART:20210101T000000
END:STANDARD
END:VTIMEZONE
BEGIN:VEVENT
DTSTART;TZID=UTC:20220914T080000
DTEND;TZID=UTC:20220914T143000
DTSTAMP:20260420T220322
CREATED:20220831T012728Z
LAST-MODIFIED:20220831T012728Z
UID:9887-1663142400-1663165800@www.wingsguate.org
SUMMARY:Anticonceptivos – Cobán (Alta Verapaz)
DESCRIPTION:Servicios anticonceptivos en Asociación Alas de Guatemala\, 2da. calle 11-51 zona 2\, Cobán (Alta Verapaz). \nAnticonceptivos: Colocación de DIU (T de cobre) y Jadelle (implante hormonal).  \nTambién se ofrecerán pruebas de detección de cáncer cervical.  \nServicios gratuitos.  \nPara más información y reserva de cupo\, llamar al 3227-1513. 
URL:https://www.wingsguate.org/event/anticonceptivos-coban-alta-verapaz-50/
CATEGORIES:English,Spanish
END:VEVENT
BEGIN:VEVENT
DTSTART;TZID=UTC:20220914T080000
DTEND;TZID=UTC:20220914T143000
DTSTAMP:20260420T220322
CREATED:20220831T021316Z
LAST-MODIFIED:20220831T021316Z
UID:9905-1663142400-1663165800@www.wingsguate.org
SUMMARY:Anticonceptivos – San Martín Jilotepeque (Chimaltenango)
DESCRIPTION:Servicios anticonceptivos en el Puesto de Salud Aldea Jomete\, San Martín Jilotepeque (Chimaltenango).  \nAnticonceptivos: Colocación de DIU (T de cobre) y Jadelle (implante hormonal).  \nTambién se ofrecerán pruebas de detección de cáncer cervical.  \nServicios gratuitos.  \nPara más información y reserva de cupo\, llamar al 4511-5525. 
URL:https://www.wingsguate.org/event/anticonceptivos-san-martin-jilotepeque-chimaltenango-13/
CATEGORIES:English,Spanish
END:VEVENT
BEGIN:VEVENT
DTSTART;TZID=UTC:20220914T080000
DTEND;TZID=UTC:20220914T143000
DTSTAMP:20260420T220322
CREATED:20220906T203933Z
LAST-MODIFIED:20220906T203933Z
UID:10015-1663142400-1663165800@www.wingsguate.org
SUMMARY:Anticonceptivos – Quetzaltenango (Quetzaltenango)
DESCRIPTION:Servicios anticonceptivos en Asociación Alas de Guatemala\, Col. Nuevo León zona 1\, Quetzaltenango (Quetzaltenango).  \nAnticonceptivos: Colocación de DIU (T de cobre) y Jadelle (implante hormonal).  \nTambién se ofrecerán pruebas de detección de cáncer cervical.  \nServicios gratuitos.  \nPara más información y reserva de cupo\, llamar al 4511-7490. 
URL:https://www.wingsguate.org/event/anticonceptivos-quetzal-quetzaltenango-4/
CATEGORIES:English,Spanish
END:VEVENT
BEGIN:VEVENT
DTSTART;TZID=UTC:20220914T080000
DTEND;TZID=UTC:20220914T143000
DTSTAMP:20260420T220322
CREATED:20220906T204033Z
LAST-MODIFIED:20220906T204033Z
UID:10017-1663142400-1663165800@www.wingsguate.org
SUMMARY:Anticonceptivos – San Cristobal Cucho (San Marcos)
DESCRIPTION:Servicios anticonceptivos en el Puesto de Salud San Cristobal Cucho (San Marcos).  \nAnticonceptivos: Colocación de DIU (T de cobre) y Jadelle (implante hormonal).  \nTambién se ofrecerán pruebas de detección de cáncer cervical.  \nServicios gratuitos.  \nPara más información y reserva de cupo\, llamar al 4511-7490. 
URL:https://www.wingsguate.org/event/anticonceptivos-san-cristobal-cucho-san-marcos/
CATEGORIES:English,Spanish
END:VEVENT
BEGIN:VEVENT
DTSTART;TZID=UTC:20220914T080000
DTEND;TZID=UTC:20220914T153000
DTSTAMP:20260420T220322
CREATED:20220906T181632Z
LAST-MODIFIED:20220906T181632Z
UID:9986-1663142400-1663169400@www.wingsguate.org
SUMMARY:Anticonceptivos – San Sebástian (Retalhuleu)
DESCRIPTION:Servicios anticonceptivos en el Puesto de Salud Caserio La Libertad\, Aldea San Luis\, San Sebástian (Retalhuleu).  \nAnticonceptivos: Colocación de DIU (T de cobre) y Jadelle (implante hormonal).  \nTambién se ofrecerán pruebas de detección de cáncer cervical.  \nServicios gratuitos.  \nPara más información y reserva de cupo\, llamar al 4511-6520. 
URL:https://www.wingsguate.org/event/anticonceptivos-san-sebastian-retalhuleu-11/
CATEGORIES:English,Spanish
END:VEVENT
END:VCALENDAR